BEGIN:VCALENDAR
VERSION:2.0
PRODID:-//Mark Snow Entertainment - ECPv6.15.20//NONSGML v1.0//EN
CALSCALE:GREGORIAN
METHOD:PUBLISH
X-WR-CALNAME:Mark Snow Entertainment
X-ORIGINAL-URL:https://www.marksnowentertainment.com
X-WR-CALDESC:Events for Mark Snow Entertainment
REFRESH-INTERVAL;VALUE=DURATION:PT1H
X-Robots-Tag:noindex
X-PUBLISHED-TTL:PT1H
BEGIN:VTIMEZONE
TZID:UTC
BEGIN:STANDARD
TZOFFSETFROM:+0000
TZOFFSETTO:+0000
TZNAME:UTC
DTSTART:20240101T000000
END:STANDARD
END:VTIMEZONE
BEGIN:VEVENT
DTSTART;VALUE=DATE:20251222
DTEND;VALUE=DATE:20260104
DTSTAMP:20260423T185952
CREATED:20251215T005358Z
LAST-MODIFIED:20251215T005358Z
UID:7363-1766361600-1767484799@www.marksnowentertainment.com
SUMMARY:UNAVAILABLE FOR BOOKINGS
DESCRIPTION:
URL:https://www.marksnowentertainment.com/engagement/unavailable-for-bookings-63/
END:VEVENT
BEGIN:VEVENT
DTSTART;TZID=UTC:20260109T140000
DTEND;TZID=UTC:20260109T150000
DTSTAMP:20260423T185952
CREATED:20260127T190439Z
LAST-MODIFIED:20260127T190439Z
UID:7366-1767967200-1767970800@www.marksnowentertainment.com
SUMMARY:Our Home Fairborn
DESCRIPTION:
URL:https://www.marksnowentertainment.com/engagement/our-home-fairborn-22/
LOCATION:Our Home Fairborn\, 7800 Dayton-Springfield Road\, Fairborn\, OH\, 45324\, United States
END:VEVENT
BEGIN:VEVENT
DTSTART;TZID=UTC:20260116T143000
DTEND;TZID=UTC:20260116T153000
DTSTAMP:20260423T185952
CREATED:20260127T190532Z
LAST-MODIFIED:20260127T190532Z
UID:7368-1768573800-1768577400@www.marksnowentertainment.com
SUMMARY:Cypress Pointe Health Campus
DESCRIPTION:
URL:https://www.marksnowentertainment.com/engagement/cypress-pointe-health-campus-55/
LOCATION:Cypress Pointe Health Campus\, 600 W. National Road\, Englewood\, OH\, 45322\, United States
END:VEVENT
BEGIN:VEVENT
DTSTART;TZID=UTC:20260117T140000
DTEND;TZID=UTC:20260117T150000
DTSTAMP:20260423T185952
CREATED:20260127T190615Z
LAST-MODIFIED:20260127T190615Z
UID:7370-1768658400-1768662000@www.marksnowentertainment.com
SUMMARY:Bluebird Retirement Community Marysville
DESCRIPTION:
URL:https://www.marksnowentertainment.com/engagement/bluebird-retirement-community-marysville-84/
LOCATION:Bluebird Retirement Community Marysville\, 145 Coleman Crossing Boulevard\, Marysville\, OH\, United States
END:VEVENT
BEGIN:VEVENT
DTSTART;TZID=UTC:20260121T140000
DTEND;TZID=UTC:20260121T150000
DTSTAMP:20260423T185952
CREATED:20260127T190708Z
LAST-MODIFIED:20260127T190708Z
UID:7372-1769004000-1769007600@www.marksnowentertainment.com
SUMMARY:Vancrest of Urbana
DESCRIPTION:
URL:https://www.marksnowentertainment.com/engagement/vancrest-of-urbana-17/
LOCATION:Vancrest of Urbana\, 2380 US Highway 68 South\, Urbana\, OH\, 43078\, United States
END:VEVENT
BEGIN:VEVENT
DTSTART;TZID=UTC:20260123T143000
DTEND;TZID=UTC:20260123T153000
DTSTAMP:20260423T185952
CREATED:20260127T190801Z
LAST-MODIFIED:20260127T190801Z
UID:7374-1769178600-1769182200@www.marksnowentertainment.com
SUMMARY:Forest Glen Rehab and Healthcare Center
DESCRIPTION:
URL:https://www.marksnowentertainment.com/engagement/forest-glen-rehab-and-healthcare-center-8/
LOCATION:Forest Glen Rehab and Healthcare Center\, 2150 Montego Drive\, Springfield\, OH\, United States
END:VEVENT
BEGIN:VEVENT
DTSTART;TZID=UTC:20260129T140000
DTEND;TZID=UTC:20260129T150000
DTSTAMP:20260423T185952
CREATED:20260127T190845Z
LAST-MODIFIED:20260127T190845Z
UID:7376-1769695200-1769698800@www.marksnowentertainment.com
SUMMARY:McNaughten Pointe Nursing & Rehab
DESCRIPTION:
URL:https://www.marksnowentertainment.com/engagement/mcnaughten-pointe-nursing-rehab-74/
LOCATION:McNaughten Pointe Nursing & Rehab\, 1425 Yorkland Road\, Columbus\, OH\, United States
END:VEVENT
BEGIN:VEVENT
DTSTART;TZID=UTC:20260130T160000
DTEND;TZID=UTC:20260130T170000
DTSTAMP:20260423T185952
CREATED:20260127T190917Z
LAST-MODIFIED:20260127T190917Z
UID:7378-1769788800-1769792400@www.marksnowentertainment.com
SUMMARY:Feridean Commons
DESCRIPTION:
URL:https://www.marksnowentertainment.com/engagement/feridean-commons-34/
LOCATION:Feridean Commons\, 6885 Freeman Road\, Westerville\, OH\, United States
END:VEVENT
END:VCALENDAR