BEGIN:VCALENDAR
VERSION:2.0
PRODID:-//Mark Snow Entertainment - ECPv6.15.20//NONSGML v1.0//EN
CALSCALE:GREGORIAN
METHOD:PUBLISH
X-WR-CALNAME:Mark Snow Entertainment
X-ORIGINAL-URL:https://www.marksnowentertainment.com
X-WR-CALDESC:Events for Mark Snow Entertainment
REFRESH-INTERVAL;VALUE=DURATION:PT1H
X-Robots-Tag:noindex
X-PUBLISHED-TTL:PT1H
BEGIN:VTIMEZONE
TZID:UTC
BEGIN:STANDARD
TZOFFSETFROM:+0000
TZOFFSETTO:+0000
TZNAME:UTC
DTSTART:20240101T000000
END:STANDARD
END:VTIMEZONE
BEGIN:VEVENT
DTSTART;TZID=UTC:20250905T153000
DTEND;TZID=UTC:20250905T163000
DTSTAMP:20260424T013634
CREATED:20250915T151125Z
LAST-MODIFIED:20250915T151125Z
UID:7288-1757086200-1757089800@www.marksnowentertainment.com
SUMMARY:Forest Glen Rehab and Healthcare Center
DESCRIPTION:
URL:https://www.marksnowentertainment.com/engagement/forest-glen-rehab-and-healthcare-center-4/
LOCATION:Forest Glen Rehab and Healthcare Center\, 2150 Montego Drive\, Springfield\, OH\, United States
END:VEVENT
BEGIN:VEVENT
DTSTART;TZID=UTC:20250912T140000
DTEND;TZID=UTC:20250912T150000
DTSTAMP:20260424T013634
CREATED:20250915T151222Z
LAST-MODIFIED:20250915T151222Z
UID:7290-1757685600-1757689200@www.marksnowentertainment.com
SUMMARY:Our Home Fairborn
DESCRIPTION:
URL:https://www.marksnowentertainment.com/engagement/our-home-fairborn-19/
LOCATION:Our Home Fairborn\, 7800 Dayton-Springfield Road\, Fairborn\, OH\, 45324\, United States
END:VEVENT
BEGIN:VEVENT
DTSTART;TZID=UTC:20250916T140000
DTEND;TZID=UTC:20250916T150000
DTSTAMP:20260424T013634
CREATED:20250915T151312Z
LAST-MODIFIED:20250915T151312Z
UID:7292-1758031200-1758034800@www.marksnowentertainment.com
SUMMARY:McNaughten Pointe Nursing & Rehab
DESCRIPTION:
URL:https://www.marksnowentertainment.com/engagement/mcnaughten-pointe-nursing-rehab-70/
LOCATION:McNaughten Pointe Nursing & Rehab\, 1425 Yorkland Road\, Columbus\, OH\, United States
END:VEVENT
BEGIN:VEVENT
DTSTART;TZID=UTC:20250917T140000
DTEND;TZID=UTC:20250917T150000
DTSTAMP:20260424T013634
CREATED:20250915T151343Z
LAST-MODIFIED:20250915T151343Z
UID:7294-1758117600-1758121200@www.marksnowentertainment.com
SUMMARY:Vancrest of Urbana
DESCRIPTION:
URL:https://www.marksnowentertainment.com/engagement/vancrest-of-urbana-13/
LOCATION:Vancrest of Urbana\, 2380 US Highway 68 South\, Urbana\, OH\, 43078\, United States
END:VEVENT
BEGIN:VEVENT
DTSTART;TZID=UTC:20250918T150000
DTEND;TZID=UTC:20250918T160000
DTSTAMP:20260424T013634
CREATED:20250915T151418Z
LAST-MODIFIED:20250915T151418Z
UID:7296-1758207600-1758211200@www.marksnowentertainment.com
SUMMARY:Cherry Blossom Senior Living
DESCRIPTION:
URL:https://www.marksnowentertainment.com/engagement/cherry-blossom-senior-living-41/
LOCATION:Cherry Blossom Senior Living\, 79 Blossom Field Boulevard\, Columbus\, OH\, 43213\, United States
END:VEVENT
BEGIN:VEVENT
DTSTART;TZID=UTC:20250919T143000
DTEND;TZID=UTC:20250919T153000
DTSTAMP:20260424T013634
CREATED:20250915T151452Z
LAST-MODIFIED:20250915T151452Z
UID:7298-1758292200-1758295800@www.marksnowentertainment.com
SUMMARY:Cypress Pointe Health Campus
DESCRIPTION:
URL:https://www.marksnowentertainment.com/engagement/cypress-pointe-health-campus-50/
LOCATION:Cypress Pointe Health Campus\, 600 W. National Road\, Englewood\, OH\, 45322\, United States
END:VEVENT
BEGIN:VEVENT
DTSTART;TZID=UTC:20250920T140000
DTEND;TZID=UTC:20250920T150000
DTSTAMP:20260424T013634
CREATED:20250915T151531Z
LAST-MODIFIED:20250915T151531Z
UID:7300-1758376800-1758380400@www.marksnowentertainment.com
SUMMARY:Bluebird Retirement Community Marysville
DESCRIPTION:
URL:https://www.marksnowentertainment.com/engagement/bluebird-retirement-community-marysville-80/
LOCATION:Bluebird Retirement Community Marysville\, 145 Coleman Crossing Boulevard\, Marysville\, OH\, United States
END:VEVENT
BEGIN:VEVENT
DTSTART;VALUE=DATE:20250921
DTEND;VALUE=DATE:20251006
DTSTAMP:20260424T013634
CREATED:20250915T151619Z
LAST-MODIFIED:20250915T151619Z
UID:7302-1758412800-1759708799@www.marksnowentertainment.com
SUMMARY:UNAVAILABLE FOR BOOKINGS
DESCRIPTION:
URL:https://www.marksnowentertainment.com/engagement/unavailable-for-bookings-61/
END:VEVENT
END:VCALENDAR