BEGIN:VCALENDAR
VERSION:2.0
PRODID:-//Mark Snow Entertainment - ECPv6.15.20//NONSGML v1.0//EN
CALSCALE:GREGORIAN
METHOD:PUBLISH
X-WR-CALNAME:Mark Snow Entertainment
X-ORIGINAL-URL:https://www.marksnowentertainment.com
X-WR-CALDESC:Events for Mark Snow Entertainment
REFRESH-INTERVAL;VALUE=DURATION:PT1H
X-Robots-Tag:noindex
X-PUBLISHED-TTL:PT1H
BEGIN:VTIMEZONE
TZID:UTC
BEGIN:STANDARD
TZOFFSETFROM:+0000
TZOFFSETTO:+0000
TZNAME:UTC
DTSTART:20240101T000000
END:STANDARD
END:VTIMEZONE
BEGIN:VEVENT
DTSTART;TZID=UTC:20250307T153000
DTEND;TZID=UTC:20250307T163000
DTSTAMP:20260424T153458
CREATED:20250301T210323Z
LAST-MODIFIED:20250301T210323Z
UID:7156-1741361400-1741365000@www.marksnowentertainment.com
SUMMARY:Forest Glen Health Campus
DESCRIPTION:
URL:https://www.marksnowentertainment.com/engagement/forest-glen-health-campus-72/
LOCATION:Forest Glen Rehab and Healthcare Center\, 2150 Montego Drive\, Springfield\, OH\, United States
END:VEVENT
BEGIN:VEVENT
DTSTART;TZID=UTC:20250314T140000
DTEND;TZID=UTC:20250314T150000
DTSTAMP:20260424T153458
CREATED:20250318T235537Z
LAST-MODIFIED:20250318T235537Z
UID:7159-1741960800-1741964400@www.marksnowentertainment.com
SUMMARY:Our Home Fairborn
DESCRIPTION:
URL:https://www.marksnowentertainment.com/engagement/our-home-fairborn-15/
LOCATION:Our Home Fairborn\, 7800 Dayton-Springfield Road\, Fairborn\, OH\, 45324\, United States
END:VEVENT
BEGIN:VEVENT
DTSTART;TZID=UTC:20250315T140000
DTEND;TZID=UTC:20250315T150000
DTSTAMP:20260424T153458
CREATED:20250318T235622Z
LAST-MODIFIED:20250318T235622Z
UID:7161-1742047200-1742050800@www.marksnowentertainment.com
SUMMARY:Bluebird Retirement Community Marysville
DESCRIPTION:
URL:https://www.marksnowentertainment.com/engagement/bluebird-retirement-community-marysville-76/
LOCATION:Bluebird Retirement Community Marysville\, 145 Coleman Crossing Boulevard\, Marysville\, OH\, United States
END:VEVENT
BEGIN:VEVENT
DTSTART;TZID=UTC:20250319T140000
DTEND;TZID=UTC:20250319T150000
DTSTAMP:20260424T153458
CREATED:20250318T235707Z
LAST-MODIFIED:20250318T235707Z
UID:7163-1742392800-1742396400@www.marksnowentertainment.com
SUMMARY:Vancrest of Urbana
DESCRIPTION:
URL:https://www.marksnowentertainment.com/engagement/vancrest-of-urbana-7/
LOCATION:Vancrest of Urbana\, 2380 US Highway 68 South\, Urbana\, OH\, 43078\, United States
END:VEVENT
BEGIN:VEVENT
DTSTART;TZID=UTC:20250320T150000
DTEND;TZID=UTC:20250320T160000
DTSTAMP:20260424T153458
CREATED:20250318T235756Z
LAST-MODIFIED:20250318T235756Z
UID:7165-1742482800-1742486400@www.marksnowentertainment.com
SUMMARY:Cherry Blossom Senior Living
DESCRIPTION:
URL:https://www.marksnowentertainment.com/engagement/cherry-blossom-senior-living-34/
LOCATION:Cherry Blossom Senior Living\, 79 Blossom Field Boulevard\, Columbus\, OH\, 43213\, United States
END:VEVENT
BEGIN:VEVENT
DTSTART;TZID=UTC:20250321T143000
DTEND;TZID=UTC:20250321T153000
DTSTAMP:20260424T153458
CREATED:20250318T235839Z
LAST-MODIFIED:20250318T235839Z
UID:7168-1742567400-1742571000@www.marksnowentertainment.com
SUMMARY:Cypress Pointe Health Campus
DESCRIPTION:
URL:https://www.marksnowentertainment.com/engagement/cypress-pointe-health-campus-41/
LOCATION:Cypress Pointe Health Campus\, 600 W. National Road\, Englewood\, OH\, 45322\, United States
END:VEVENT
BEGIN:VEVENT
DTSTART;TZID=UTC:20250325T140000
DTEND;TZID=UTC:20250325T150000
DTSTAMP:20260424T153458
CREATED:20250319T000001Z
LAST-MODIFIED:20250319T000126Z
UID:7170-1742911200-1742914800@www.marksnowentertainment.com
SUMMARY:McNaughten Pointe Nursing & Rehab
DESCRIPTION:
URL:https://www.marksnowentertainment.com/engagement/mcnaugten-pointe-nursing-rehab/
LOCATION:McNaughten Pointe Nursing & Rehab\, 1425 Yorkland Road\, Columbus\, OH\, United States
END:VEVENT
BEGIN:VEVENT
DTSTART;TZID=UTC:20250328T150000
DTEND;TZID=UTC:20250328T160000
DTSTAMP:20260424T153458
CREATED:20250319T000042Z
LAST-MODIFIED:20250319T000042Z
UID:7172-1743174000-1743177600@www.marksnowentertainment.com
SUMMARY:Cypress Pointe Health Campus
DESCRIPTION:
URL:https://www.marksnowentertainment.com/engagement/cypress-pointe-health-campus-42/
LOCATION:Cypress Pointe Health Campus\, 600 W. National Road\, Englewood\, OH\, 45322\, United States
END:VEVENT
END:VCALENDAR