BEGIN:VCALENDAR
VERSION:2.0
PRODID:-//Mark Snow Entertainment - ECPv6.15.20//NONSGML v1.0//EN
CALSCALE:GREGORIAN
METHOD:PUBLISH
X-WR-CALNAME:Mark Snow Entertainment
X-ORIGINAL-URL:https://www.marksnowentertainment.com
X-WR-CALDESC:Events for Mark Snow Entertainment
REFRESH-INTERVAL;VALUE=DURATION:PT1H
X-Robots-Tag:noindex
X-PUBLISHED-TTL:PT1H
BEGIN:VTIMEZONE
TZID:UTC
BEGIN:STANDARD
TZOFFSETFROM:+0000
TZOFFSETTO:+0000
TZNAME:UTC
DTSTART:20230101T000000
END:STANDARD
END:VTIMEZONE
BEGIN:VEVENT
DTSTART;TZID=UTC:20240802T140000
DTEND;TZID=UTC:20240802T150000
DTSTAMP:20260425T031948
CREATED:20240727T130302Z
LAST-MODIFIED:20240727T130302Z
UID:6935-1722607200-1722610800@www.marksnowentertainment.com
SUMMARY:Our Home Fairborn
DESCRIPTION:
URL:https://www.marksnowentertainment.com/engagement/our-home-fairborn-8/
LOCATION:Our Home Fairborn\, 7800 Dayton-Springfield Road\, Fairborn\, OH\, 45324\, United States
END:VEVENT
BEGIN:VEVENT
DTSTART;VALUE=DATE:20240804
DTEND;VALUE=DATE:20240812
DTSTAMP:20260425T031948
CREATED:20240727T130456Z
LAST-MODIFIED:20240803T184817Z
UID:6937-1722729600-1723420799@www.marksnowentertainment.com
SUMMARY:UNAVAILABLE FOR BOOKINGS
DESCRIPTION:
URL:https://www.marksnowentertainment.com/engagement/unavailable-for-bookings-57/
END:VEVENT
BEGIN:VEVENT
DTSTART;TZID=UTC:20240813T150000
DTEND;TZID=UTC:20240813T160000
DTSTAMP:20260425T031948
CREATED:20240812T163647Z
LAST-MODIFIED:20240814T131041Z
UID:6940-1723561200-1723564800@www.marksnowentertainment.com
SUMMARY:Traditions of Hilliard
DESCRIPTION:
URL:https://www.marksnowentertainment.com/engagement/hilliard-assisted-living-memory-care-35/
LOCATION:Traditions of Hilliard\, 4303 Trueman Boulevard\, Hilliard\, OH\, 43026\, United States
END:VEVENT
BEGIN:VEVENT
DTSTART;TZID=UTC:20240814T120000
DTEND;TZID=UTC:20240814T130000
DTSTAMP:20260425T031948
CREATED:20240812T163727Z
LAST-MODIFIED:20240812T163727Z
UID:6942-1723636800-1723640400@www.marksnowentertainment.com
SUMMARY:Wooded Glen Senior Living
DESCRIPTION:
URL:https://www.marksnowentertainment.com/engagement/wooded-glen-senior-living-56/
LOCATION:Wooded Glen Health Campus\, 2900 Bechtle Avenue\, Springfield\, OH\, 45504\, United States
END:VEVENT
BEGIN:VEVENT
DTSTART;TZID=UTC:20240815T163000
DTEND;TZID=UTC:20240815T173000
DTSTAMP:20260425T031948
CREATED:20240812T163802Z
LAST-MODIFIED:20240812T163802Z
UID:6944-1723739400-1723743000@www.marksnowentertainment.com
SUMMARY:Cypress Pointe Health Campus
DESCRIPTION:
URL:https://www.marksnowentertainment.com/engagement/cypress-pointe-health-campus-29/
LOCATION:Cypress Pointe Health Campus\, 600 W. National Road\, Englewood\, OH\, 45322\, United States
END:VEVENT
BEGIN:VEVENT
DTSTART;TZID=UTC:20240816T153000
DTEND;TZID=UTC:20240816T163000
DTSTAMP:20260425T031948
CREATED:20240812T163851Z
LAST-MODIFIED:20240812T163851Z
UID:6946-1723822200-1723825800@www.marksnowentertainment.com
SUMMARY:Forest Glen Health Campus
DESCRIPTION:
URL:https://www.marksnowentertainment.com/engagement/forest-glen-health-campus-65/
LOCATION:Forest Glen Rehab and Healthcare Center\, 2150 Montego Drive\, Springfield\, OH\, United States
END:VEVENT
BEGIN:VEVENT
DTSTART;TZID=UTC:20240817T140000
DTEND;TZID=UTC:20240817T150000
DTSTAMP:20260425T031948
CREATED:20240812T163931Z
LAST-MODIFIED:20240812T163931Z
UID:6948-1723903200-1723906800@www.marksnowentertainment.com
SUMMARY:Bluebird Retirement Community Marysville
DESCRIPTION:
URL:https://www.marksnowentertainment.com/engagement/bluebird-retirement-community-marysville-69/
LOCATION:Bluebird Retirement Community Marysville\, 145 Coleman Crossing Boulevard\, Marysville\, OH\, United States
END:VEVENT
BEGIN:VEVENT
DTSTART;TZID=UTC:20240820T160000
DTEND;TZID=UTC:20240820T170000
DTSTAMP:20260425T031948
CREATED:20240820T124138Z
LAST-MODIFIED:20240820T124138Z
UID:6957-1724169600-1724173200@www.marksnowentertainment.com
SUMMARY:Cherry Blossom Senior Living
DESCRIPTION:
URL:https://www.marksnowentertainment.com/engagement/cherry-blossom-senior-living-28/
LOCATION:Cherry Blossom Senior Living\, 79 Blossom Field Boulevard\, Columbus\, OH\, 43213\, United States
END:VEVENT
BEGIN:VEVENT
DTSTART;TZID=UTC:20240820T183000
DTEND;TZID=UTC:20240820T193000
DTSTAMP:20260425T031948
CREATED:20240820T124212Z
LAST-MODIFIED:20240820T124212Z
UID:6959-1724178600-1724182200@www.marksnowentertainment.com
SUMMARY:Creekside at the Village
DESCRIPTION:
URL:https://www.marksnowentertainment.com/engagement/creekside-at-the-village-17/
LOCATION:Creekside at the Village\, 2200 Welcome Place\, Columbus\, OH\, 43209\, United States
END:VEVENT
BEGIN:VEVENT
DTSTART;TZID=UTC:20240823T150000
DTEND;TZID=UTC:20240823T160000
DTSTAMP:20260425T031948
CREATED:20240820T124304Z
LAST-MODIFIED:20240820T124304Z
UID:6961-1724425200-1724428800@www.marksnowentertainment.com
SUMMARY:Cypress Pointe Health Campus
DESCRIPTION:
URL:https://www.marksnowentertainment.com/engagement/cypress-pointe-health-campus-30/
LOCATION:Cypress Pointe Health Campus\, 600 W. National Road\, Englewood\, OH\, 45322\, United States
END:VEVENT
BEGIN:VEVENT
DTSTART;TZID=UTC:20240827T140000
DTEND;TZID=UTC:20240827T150000
DTSTAMP:20260425T031948
CREATED:20240829T141110Z
LAST-MODIFIED:20240829T141110Z
UID:6969-1724767200-1724770800@www.marksnowentertainment.com
SUMMARY:McNaughten Pointe Nursing & Rehab
DESCRIPTION:
URL:https://www.marksnowentertainment.com/engagement/mcnaughten-pointe-nursing-rehab-63/
LOCATION:McNaughten Pointe Nursing & Rehab\, 1425 Yorkland Road\, Columbus\, OH\, United States
END:VEVENT
BEGIN:VEVENT
DTSTART;TZID=UTC:20240829T140000
DTEND;TZID=UTC:20240829T150000
DTSTAMP:20260425T031948
CREATED:20240829T140945Z
LAST-MODIFIED:20240829T140945Z
UID:6967-1724940000-1724943600@www.marksnowentertainment.com
SUMMARY:Vancrest of Urbana
DESCRIPTION:
URL:https://www.marksnowentertainment.com/engagement/vancrest-of-urbana/
LOCATION:Vancrest of Urbana\, 2380 US Highway 68 South\, Urbana\, OH\, 43078\, United States
END:VEVENT
END:VCALENDAR