BEGIN:VCALENDAR
VERSION:2.0
PRODID:-//Mark Snow Entertainment - ECPv6.15.20//NONSGML v1.0//EN
CALSCALE:GREGORIAN
METHOD:PUBLISH
X-ORIGINAL-URL:https://www.marksnowentertainment.com
X-WR-CALDESC:Events for Mark Snow Entertainment
REFRESH-INTERVAL;VALUE=DURATION:PT1H
X-Robots-Tag:noindex
X-PUBLISHED-TTL:PT1H
BEGIN:VTIMEZONE
TZID:UTC
BEGIN:STANDARD
TZOFFSETFROM:+0000
TZOFFSETTO:+0000
TZNAME:UTC
DTSTART:20230101T000000
END:STANDARD
END:VTIMEZONE
BEGIN:VEVENT
DTSTART;VALUE=DATE:20240405
DTEND;VALUE=DATE:20240409
DTSTAMP:20260425T111830
CREATED:20231224T152943Z
LAST-MODIFIED:20240406T140202Z
UID:6730-1712275200-1712620799@www.marksnowentertainment.com
SUMMARY:UNAVAILABLE FOR BOOKINGS
DESCRIPTION:
URL:https://www.marksnowentertainment.com/engagement/unavailable-for-bookings-38/
END:VEVENT
BEGIN:VEVENT
DTSTART;TZID=UTC:20240409T150000
DTEND;TZID=UTC:20240409T160000
DTSTAMP:20260425T111830
CREATED:20240406T140258Z
LAST-MODIFIED:20240406T140258Z
UID:6822-1712674800-1712678400@www.marksnowentertainment.com
SUMMARY:Hilliard Assisted Living & Memory Care
DESCRIPTION:
URL:https://www.marksnowentertainment.com/engagement/hilliard-assisted-living-memory-care-31/
LOCATION:Traditions of Hilliard\, 4303 Trueman Boulevard\, Hilliard\, OH\, 43026\, United States
END:VEVENT
BEGIN:VEVENT
DTSTART;TZID=UTC:20240409T183000
DTEND;TZID=UTC:20240409T193000
DTSTAMP:20260425T111830
CREATED:20240406T140331Z
LAST-MODIFIED:20240406T140331Z
UID:6824-1712687400-1712691000@www.marksnowentertainment.com
SUMMARY:Creekside at the Village
DESCRIPTION:
URL:https://www.marksnowentertainment.com/engagement/creekside-at-the-village-15/
LOCATION:Creekside at the Village\, 2200 Welcome Place\, Columbus\, OH\, 43209\, United States
END:VEVENT
BEGIN:VEVENT
DTSTART;TZID=UTC:20240412T140000
DTEND;TZID=UTC:20240412T150000
DTSTAMP:20260425T111830
CREATED:20240406T140417Z
LAST-MODIFIED:20240406T140417Z
UID:6826-1712930400-1712934000@www.marksnowentertainment.com
SUMMARY:Paramount Senior Living at Polaris
DESCRIPTION:
URL:https://www.marksnowentertainment.com/engagement/paramount-senior-living-at-polaris-7/
LOCATION:Paramount Senior Living at Polaris\, 702 Polaris Parkway\, Westerville\, OH\, 43082\, United States
END:VEVENT
BEGIN:VEVENT
DTSTART;TZID=UTC:20240412T160000
DTEND;TZID=UTC:20240412T170000
DTSTAMP:20260425T111830
CREATED:20240406T140447Z
LAST-MODIFIED:20240406T140447Z
UID:6828-1712937600-1712941200@www.marksnowentertainment.com
SUMMARY:Feridean Commons
DESCRIPTION:
URL:https://www.marksnowentertainment.com/engagement/feridean-commons-29/
LOCATION:Feridean Commons\, 6885 Freeman Road\, Westerville\, OH\, United States
END:VEVENT
BEGIN:VEVENT
DTSTART;TZID=UTC:20240415T140000
DTEND;TZID=UTC:20240415T150000
DTSTAMP:20260425T111830
CREATED:20240416T200353Z
LAST-MODIFIED:20240416T200353Z
UID:6835-1713189600-1713193200@www.marksnowentertainment.com
SUMMARY:The Suites at Walnut Creek
DESCRIPTION:
URL:https://www.marksnowentertainment.com/engagement/the-suites-at-walnut-creek-49/
LOCATION:The Suites at Walnut Creek\, 2501 Keystone Club Drive\, Dayton\, OH\, United States
END:VEVENT
BEGIN:VEVENT
DTSTART;TZID=UTC:20240416T120000
DTEND;TZID=UTC:20240416T130000
DTSTAMP:20260425T111830
CREATED:20240416T200433Z
LAST-MODIFIED:20240416T200433Z
UID:6837-1713268800-1713272400@www.marksnowentertainment.com
SUMMARY:Wooded Glen Senior Living
DESCRIPTION:
URL:https://www.marksnowentertainment.com/engagement/wooded-glen-senior-living-52/
LOCATION:Wooded Glen Health Campus\, 2900 Bechtle Avenue\, Springfield\, OH\, 45504\, United States
END:VEVENT
BEGIN:VEVENT
DTSTART;TZID=UTC:20240419T153000
DTEND;TZID=UTC:20240419T163000
DTSTAMP:20260425T111830
CREATED:20240416T200514Z
LAST-MODIFIED:20240416T200514Z
UID:6839-1713540600-1713544200@www.marksnowentertainment.com
SUMMARY:Forest Glen Health Campus
DESCRIPTION:
URL:https://www.marksnowentertainment.com/engagement/forest-glen-health-campus-61/
LOCATION:Forest Glen Rehab and Healthcare Center\, 2150 Montego Drive\, Springfield\, OH\, United States
END:VEVENT
BEGIN:VEVENT
DTSTART;TZID=UTC:20240420T140000
DTEND;TZID=UTC:20240420T150000
DTSTAMP:20260425T111830
CREATED:20240416T200603Z
LAST-MODIFIED:20240416T200603Z
UID:6841-1713621600-1713625200@www.marksnowentertainment.com
SUMMARY:Bluebird Retirement Community Marysville
DESCRIPTION:
URL:https://www.marksnowentertainment.com/engagement/bluebird-retirement-community-marysville-60/
LOCATION:Bluebird Retirement Community Marysville\, 145 Coleman Crossing Boulevard\, Marysville\, OH\, United States
END:VEVENT
BEGIN:VEVENT
DTSTART;TZID=UTC:20240422T150000
DTEND;TZID=UTC:20240422T160000
DTSTAMP:20260425T111830
CREATED:20240420T124007Z
LAST-MODIFIED:20240420T124007Z
UID:6844-1713798000-1713801600@www.marksnowentertainment.com
SUMMARY:Cherry Blossom Senior Living
DESCRIPTION:
URL:https://www.marksnowentertainment.com/engagement/cherry-blossom-senior-living-24/
LOCATION:Cherry Blossom Senior Living\, 79 Blossom Field Boulevard\, Columbus\, OH\, 43213\, United States
END:VEVENT
BEGIN:VEVENT
DTSTART;TZID=UTC:20240426T150000
DTEND;TZID=UTC:20240426T160000
DTSTAMP:20260425T111830
CREATED:20240420T124103Z
LAST-MODIFIED:20240420T124103Z
UID:6846-1714143600-1714147200@www.marksnowentertainment.com
SUMMARY:Cypress Pointe Health Campus
DESCRIPTION:
URL:https://www.marksnowentertainment.com/engagement/cypress-pointe-health-campus-25/
LOCATION:Cypress Pointe Health Campus\, 600 W. National Road\, Englewood\, OH\, 45322\, United States
END:VEVENT
BEGIN:VEVENT
DTSTART;TZID=UTC:20240430T140000
DTEND;TZID=UTC:20240430T150000
DTSTAMP:20260425T111830
CREATED:20240429T133054Z
LAST-MODIFIED:20240429T133054Z
UID:6849-1714485600-1714489200@www.marksnowentertainment.com
SUMMARY:McNaughten Pointe
DESCRIPTION:
URL:https://www.marksnowentertainment.com/engagement/mcnaughten-pointe/
LOCATION:McNaughten Pointe Nursing & Rehab\, 1425 Yorkland Road\, Columbus\, OH\, United States
END:VEVENT
END:VCALENDAR