BEGIN:VCALENDAR
VERSION:2.0
PRODID:-//Mark Snow Entertainment - ECPv6.15.20//NONSGML v1.0//EN
CALSCALE:GREGORIAN
METHOD:PUBLISH
X-ORIGINAL-URL:https://www.marksnowentertainment.com
X-WR-CALDESC:Events for Mark Snow Entertainment
REFRESH-INTERVAL;VALUE=DURATION:PT1H
X-Robots-Tag:noindex
X-PUBLISHED-TTL:PT1H
BEGIN:VTIMEZONE
TZID:UTC
BEGIN:STANDARD
TZOFFSETFROM:+0000
TZOFFSETTO:+0000
TZNAME:UTC
DTSTART:20230101T000000
END:STANDARD
END:VTIMEZONE
BEGIN:VEVENT
DTSTART;TZID=UTC:20240311T140000
DTEND;TZID=UTC:20240311T150000
DTSTAMP:20260425T125442
CREATED:20240315T203355Z
LAST-MODIFIED:20240315T203355Z
UID:6798-1710165600-1710169200@www.marksnowentertainment.com
SUMMARY:The Suites at Walnut Creek
DESCRIPTION:
URL:https://www.marksnowentertainment.com/engagement/the-suites-at-walnut-creek-48/
LOCATION:The Suites at Walnut Creek\, 2501 Keystone Club Drive\, Dayton\, OH\, United States
END:VEVENT
BEGIN:VEVENT
DTSTART;TZID=UTC:20240312T150000
DTEND;TZID=UTC:20240312T160000
DTSTAMP:20260425T125442
CREATED:20240315T203439Z
LAST-MODIFIED:20240315T203439Z
UID:6800-1710255600-1710259200@www.marksnowentertainment.com
SUMMARY:Hilliard Assisted Living & Memory Care
DESCRIPTION:
URL:https://www.marksnowentertainment.com/engagement/hilliard-assisted-living-memory-care-30/
LOCATION:Traditions of Hilliard\, 4303 Trueman Boulevard\, Hilliard\, OH\, 43026\, United States
END:VEVENT
BEGIN:VEVENT
DTSTART;TZID=UTC:20240313T143000
DTEND;TZID=UTC:20240313T153000
DTSTAMP:20260425T125442
CREATED:20240315T203517Z
LAST-MODIFIED:20240315T203517Z
UID:6802-1710340200-1710343800@www.marksnowentertainment.com
SUMMARY:Cotter House Worthington
DESCRIPTION:
URL:https://www.marksnowentertainment.com/engagement/cotter-house-worthington-2/
LOCATION:Cotter House Worthington\, 800 Proprietors Road\, Worthington\, OH\, 43085\, United States
END:VEVENT
BEGIN:VEVENT
DTSTART;TZID=UTC:20240314T130000
DTEND;TZID=UTC:20240314T140000
DTSTAMP:20260425T125442
CREATED:20240315T203556Z
LAST-MODIFIED:20240315T203556Z
UID:6804-1710421200-1710424800@www.marksnowentertainment.com
SUMMARY:Court House Manor
DESCRIPTION:
URL:https://www.marksnowentertainment.com/engagement/court-house-manor-20/
LOCATION:Court House Manor\, 555 N. Glenn Avenue\, Washington Court House\, OH\, 43160\, United States
END:VEVENT
BEGIN:VEVENT
DTSTART;TZID=UTC:20240314T150000
DTEND;TZID=UTC:20240314T160000
DTSTAMP:20260425T125442
CREATED:20240315T203632Z
LAST-MODIFIED:20240315T203632Z
UID:6806-1710428400-1710432000@www.marksnowentertainment.com
SUMMARY:St. Catherine's Manor
DESCRIPTION:
URL:https://www.marksnowentertainment.com/engagement/st-catherines-manor-20/
LOCATION:St. Catherine’s Manor\, 250 Glenn Avenue\, Washington Court House\, OH\, 43160\, United States
END:VEVENT
BEGIN:VEVENT
DTSTART;TZID=UTC:20240316T140000
DTEND;TZID=UTC:20240316T150000
DTSTAMP:20260425T125442
CREATED:20240315T203713Z
LAST-MODIFIED:20240315T203713Z
UID:6808-1710597600-1710601200@www.marksnowentertainment.com
SUMMARY:Bluebird Retirement Community Marysville
DESCRIPTION:
URL:https://www.marksnowentertainment.com/engagement/bluebird-retirement-community-marysville-59/
LOCATION:Bluebird Retirement Community Marysville\, 145 Coleman Crossing Boulevard\, Marysville\, OH\, United States
END:VEVENT
BEGIN:VEVENT
DTSTART;TZID=UTC:20240318T140000
DTEND;TZID=UTC:20240318T150000
DTSTAMP:20260425T125442
CREATED:20240315T203856Z
LAST-MODIFIED:20240315T203856Z
UID:6810-1710770400-1710774000@www.marksnowentertainment.com
SUMMARY:Riverview Health & Rehab Center
DESCRIPTION:
URL:https://www.marksnowentertainment.com/engagement/riverview-health-rehab-center-3/
LOCATION:Riverview Health & Rehab Center\, 3700 Olentangy River Road\, Columbus\, OH\, 43214\, United States
END:VEVENT
BEGIN:VEVENT
DTSTART;TZID=UTC:20240322T150000
DTEND;TZID=UTC:20240322T160000
DTSTAMP:20260425T125442
CREATED:20240315T203938Z
LAST-MODIFIED:20240315T203938Z
UID:6812-1711119600-1711123200@www.marksnowentertainment.com
SUMMARY:Cypress Pointe Health Campus
DESCRIPTION:
URL:https://www.marksnowentertainment.com/engagement/cypress-pointe-health-campus-24/
LOCATION:Cypress Pointe Health Campus\, 600 W. National Road\, Englewood\, OH\, 45322\, United States
END:VEVENT
BEGIN:VEVENT
DTSTART;TZID=UTC:20240325T140000
DTEND;TZID=UTC:20240325T150000
DTSTAMP:20260425T125442
CREATED:20240323T221403Z
LAST-MODIFIED:20240323T221403Z
UID:6815-1711375200-1711378800@www.marksnowentertainment.com
SUMMARY:Spring Hills Singing Woods
DESCRIPTION:
URL:https://www.marksnowentertainment.com/engagement/spring-hills-singing-woods-28/
LOCATION:Spring Hills Singing Woods\, 140 E. Woodbury Drive\, Dayton\, OH\, 45415\, United States
END:VEVENT
BEGIN:VEVENT
DTSTART;TZID=UTC:20240326T140000
DTEND;TZID=UTC:20240326T150000
DTSTAMP:20260425T125442
CREATED:20240323T221442Z
LAST-MODIFIED:20240323T221442Z
UID:6817-1711461600-1711465200@www.marksnowentertainment.com
SUMMARY:McNaughten Pointe Nursing & Rehab
DESCRIPTION:
URL:https://www.marksnowentertainment.com/engagement/mcnaughten-pointe-nursing-rehab-61/
LOCATION:McNaughten Pointe Nursing & Rehab\, 1425 Yorkland Road\, Columbus\, OH\, United States
END:VEVENT
BEGIN:VEVENT
DTSTART;TZID=UTC:20240329T153000
DTEND;TZID=UTC:20240329T163000
DTSTAMP:20260425T125442
CREATED:20240323T221528Z
LAST-MODIFIED:20240323T221528Z
UID:6819-1711726200-1711729800@www.marksnowentertainment.com
SUMMARY:Forest Glen Health Campus
DESCRIPTION:
URL:https://www.marksnowentertainment.com/engagement/forest-glen-health-campus-60/
LOCATION:Forest Glen Rehab and Healthcare Center\, 2150 Montego Drive\, Springfield\, OH\, United States
END:VEVENT
END:VCALENDAR