BEGIN:VCALENDAR
VERSION:2.0
PRODID:-//Mark Snow Entertainment - ECPv6.15.20//NONSGML v1.0//EN
CALSCALE:GREGORIAN
METHOD:PUBLISH
X-ORIGINAL-URL:https://www.marksnowentertainment.com
X-WR-CALDESC:Events for Mark Snow Entertainment
REFRESH-INTERVAL;VALUE=DURATION:PT1H
X-Robots-Tag:noindex
X-PUBLISHED-TTL:PT1H
BEGIN:VTIMEZONE
TZID:UTC
BEGIN:STANDARD
TZOFFSETFROM:+0000
TZOFFSETTO:+0000
TZNAME:UTC
DTSTART:20220101T000000
END:STANDARD
END:VTIMEZONE
BEGIN:VEVENT
DTSTART;VALUE=DATE:20230525
DTEND;VALUE=DATE:20230606
DTSTAMP:20260426T042018
CREATED:20221124T162936Z
LAST-MODIFIED:20230702T155741Z
UID:6253-1684972800-1686009599@www.marksnowentertainment.com
SUMMARY:UNAVAILABLE FOR BOOKINGS
DESCRIPTION:
URL:https://www.marksnowentertainment.com/engagement/unavailable-for-bookings-39/
END:VEVENT
BEGIN:VEVENT
DTSTART;TZID=UTC:20230606T140000
DTEND;TZID=UTC:20230606T150000
DTSTAMP:20260426T042018
CREATED:20230608T174315Z
LAST-MODIFIED:20230608T174315Z
UID:6530-1686060000-1686063600@www.marksnowentertainment.com
SUMMARY:Forest Glen Health Campus
DESCRIPTION:
URL:https://www.marksnowentertainment.com/engagement/forest-glen-health-campus-52/
LOCATION:Forest Glen Rehab and Healthcare Center\, 2150 Montego Drive\, Springfield\, OH\, United States
END:VEVENT
BEGIN:VEVENT
DTSTART;TZID=UTC:20230607T143000
DTEND;TZID=UTC:20230607T153000
DTSTAMP:20260426T042018
CREATED:20230608T174447Z
LAST-MODIFIED:20230608T174447Z
UID:6532-1686148200-1686151800@www.marksnowentertainment.com
SUMMARY:Dublin Assisted Living & Memory Support
DESCRIPTION:
URL:https://www.marksnowentertainment.com/engagement/dublin-assisted-living-memory-support-19/
LOCATION:Dublin Assisted Living & Memory Support\, 6480 Post Road\, Dublin\, OH\, 43016\, United States
END:VEVENT
BEGIN:VEVENT
DTSTART;TZID=UTC:20230608T180000
DTEND;TZID=UTC:20230608T190000
DTSTAMP:20260426T042018
CREATED:20221125T155613Z
LAST-MODIFIED:20230608T174134Z
UID:6269-1686247200-1686250800@www.marksnowentertainment.com
SUMMARY:Cherry Blossom Senior Living
DESCRIPTION:
URL:https://www.marksnowentertainment.com/engagement/cherry-blossom-senior-living-19/
LOCATION:Cherry Blossom Senior Living\, 79 Blossom Field Boulevard\, Columbus\, OH\, 43213\, United States
END:VEVENT
BEGIN:VEVENT
DTSTART;TZID=UTC:20230609T140000
DTEND;TZID=UTC:20230609T150000
DTSTAMP:20260426T042018
CREATED:20221125T182742Z
LAST-MODIFIED:20230608T175156Z
UID:6299-1686319200-1686322800@www.marksnowentertainment.com
SUMMARY:Our Home Fairborn
DESCRIPTION:
URL:https://www.marksnowentertainment.com/engagement/fox-run-senior-living-35/
LOCATION:Our Home Fairborn\, 7800 Dayton-Springfield Road\, Fairborn\, OH\, 45324\, United States
END:VEVENT
BEGIN:VEVENT
DTSTART;TZID=UTC:20230610T113000
DTEND;TZID=UTC:20230610T123000
DTSTAMP:20260426T042018
CREATED:20221001T192740Z
LAST-MODIFIED:20221001T192740Z
UID:6058-1686396600-1686400200@www.marksnowentertainment.com
SUMMARY:Wickshire Fairborn
DESCRIPTION:
URL:https://www.marksnowentertainment.com/engagement/wickshire-fairborn-6/
LOCATION:Wickshire Fairborn\, 2270 Park Hills Drive\, Fariborn\, OH\, 45324\, United States
END:VEVENT
BEGIN:VEVENT
DTSTART;TZID=UTC:20230610T140000
DTEND;TZID=UTC:20230610T150000
DTSTAMP:20260426T042018
CREATED:20221112T233153Z
LAST-MODIFIED:20221112T233153Z
UID:6166-1686405600-1686409200@www.marksnowentertainment.com
SUMMARY:Bluebird Retirement Community London
DESCRIPTION:
URL:https://www.marksnowentertainment.com/engagement/bluebird-retirement-community-london-41/
LOCATION:Bluebird Retirement Community London\, 2260 State Route 56 SW\, London\, OH\, United States
END:VEVENT
BEGIN:VEVENT
DTSTART;TZID=UTC:20230612T140000
DTEND;TZID=UTC:20230612T150000
DTSTAMP:20260426T042018
CREATED:20230608T174709Z
LAST-MODIFIED:20230608T174709Z
UID:6535-1686578400-1686582000@www.marksnowentertainment.com
SUMMARY:The Suites at Walnut Creek
DESCRIPTION:
URL:https://www.marksnowentertainment.com/engagement/the-suites-at-walnut-creek-41/
LOCATION:The Suites at Walnut Creek\, 2501 Keystone Club Drive\, Dayton\, OH\, United States
END:VEVENT
BEGIN:VEVENT
DTSTART;TZID=UTC:20230613T140000
DTEND;TZID=UTC:20230613T150000
DTSTAMP:20260426T042018
CREATED:20221109T124529Z
LAST-MODIFIED:20221109T124529Z
UID:6141-1686664800-1686668400@www.marksnowentertainment.com
SUMMARY:Hilliard Assisted Living & Memory Care
DESCRIPTION:
URL:https://www.marksnowentertainment.com/engagement/hilliard-assisted-living-memory-care-22/
LOCATION:Traditions of Hilliard\, 4303 Trueman Boulevard\, Hilliard\, OH\, 43026\, United States
END:VEVENT
BEGIN:VEVENT
DTSTART;TZID=UTC:20230613T173000
DTEND;TZID=UTC:20230613T183000
DTSTAMP:20260426T042018
CREATED:20230608T174805Z
LAST-MODIFIED:20230608T174805Z
UID:6537-1686677400-1686681000@www.marksnowentertainment.com
SUMMARY:Dublin Assisted Living & Memory Support
DESCRIPTION:
URL:https://www.marksnowentertainment.com/engagement/dublin-assisted-living-memory-support-20/
LOCATION:Dublin Assisted Living & Memory Support\, 6480 Post Road\, Dublin\, OH\, 43016\, United States
END:VEVENT
BEGIN:VEVENT
DTSTART;TZID=UTC:20230614T120000
DTEND;TZID=UTC:20230614T130000
DTSTAMP:20260426T042018
CREATED:20230608T174857Z
LAST-MODIFIED:20230608T174857Z
UID:6539-1686744000-1686747600@www.marksnowentertainment.com
SUMMARY:Wooded Glen Senior Living
DESCRIPTION:
URL:https://www.marksnowentertainment.com/engagement/wooded-glen-senior-living-44/
LOCATION:Wooded Glen Health Campus\, 2900 Bechtle Avenue\, Springfield\, OH\, 45504\, United States
END:VEVENT
BEGIN:VEVENT
DTSTART;TZID=UTC:20230614T170000
DTEND;TZID=UTC:20230614T180000
DTSTAMP:20260426T042018
CREATED:20230608T174931Z
LAST-MODIFIED:20230608T174931Z
UID:6541-1686762000-1686765600@www.marksnowentertainment.com
SUMMARY:HarborChase of Beavercreek
DESCRIPTION:
URL:https://www.marksnowentertainment.com/engagement/harborchase-of-beavercreek-25/
LOCATION:HarborChase of Beavercreek\, 4175 Indian Ripple Road\, Beavercreek\, OH\, 45440\, United States
END:VEVENT
BEGIN:VEVENT
DTSTART;TZID=UTC:20230615T140000
DTEND;TZID=UTC:20230615T150000
DTSTAMP:20260426T042018
CREATED:20230608T175028Z
LAST-MODIFIED:20230608T175028Z
UID:6543-1686837600-1686841200@www.marksnowentertainment.com
SUMMARY:Smith's Mill Health Campus
DESCRIPTION:
URL:https://www.marksnowentertainment.com/engagement/smiths-mill-health-campus-14/
LOCATION:Smith’s Mill Health Campus\, 7320 Smith's Mill Road\, New Albany\, OH\, 43054\, United States
END:VEVENT
BEGIN:VEVENT
DTSTART;TZID=UTC:20230616T140000
DTEND;TZID=UTC:20230616T150000
DTSTAMP:20260426T042018
CREATED:20221001T180922Z
LAST-MODIFIED:20230608T175634Z
UID:6037-1686924000-1686927600@www.marksnowentertainment.com
SUMMARY:Spring Hills Singing Woods
DESCRIPTION:
URL:https://www.marksnowentertainment.com/engagement/spring-hills-singing-woods-25/
LOCATION:Spring Hills Singing Woods\, 140 E. Woodbury Drive\, Dayton\, OH\, 45415\, United States
END:VEVENT
BEGIN:VEVENT
DTSTART;TZID=UTC:20230620T150000
DTEND;TZID=UTC:20230620T160000
DTSTAMP:20260426T042018
CREATED:20230608T175755Z
LAST-MODIFIED:20230608T175755Z
UID:6553-1687273200-1687276800@www.marksnowentertainment.com
SUMMARY:Cypress Pointe Health Campus
DESCRIPTION:
URL:https://www.marksnowentertainment.com/engagement/cypress-pointe-health-campus-17/
LOCATION:Cypress Pointe Health Campus\, 600 W. National Road\, Englewood\, OH\, 45322\, United States
END:VEVENT
BEGIN:VEVENT
DTSTART;TZID=UTC:20230620T180000
DTEND;TZID=UTC:20230620T190000
DTSTAMP:20260426T042018
CREATED:20230608T175826Z
LAST-MODIFIED:20230608T175826Z
UID:6555-1687284000-1687287600@www.marksnowentertainment.com
SUMMARY:Garbry Ridge
DESCRIPTION:
URL:https://www.marksnowentertainment.com/engagement/garbry-ridge-32/
LOCATION:Garbry Ridge\, 1567 Garbry Road\, Piqua\, OH\, United States
END:VEVENT
BEGIN:VEVENT
DTSTART;TZID=UTC:20230621T180000
DTEND;TZID=UTC:20230621T190000
DTSTAMP:20260426T042018
CREATED:20230608T175919Z
LAST-MODIFIED:20230608T175919Z
UID:6557-1687370400-1687374000@www.marksnowentertainment.com
SUMMARY:The Landings of Westerville
DESCRIPTION:
URL:https://www.marksnowentertainment.com/engagement/the-landings-of-westerville-6/
LOCATION:The Landings of Westerville\, 350 County Line Road West\, Westerville\, OH\, 43082\, United States
END:VEVENT
BEGIN:VEVENT
DTSTART;TZID=UTC:20230622T150000
DTEND;TZID=UTC:20230622T160000
DTSTAMP:20260426T042018
CREATED:20230103T000337Z
LAST-MODIFIED:20230103T000337Z
UID:6327-1687446000-1687449600@www.marksnowentertainment.com
SUMMARY:Vienna Springs Health Campus
DESCRIPTION:
URL:https://www.marksnowentertainment.com/engagement/vienna-springs-health-campus-12/
LOCATION:Vienna Springs Health Campus\, 2510 Vienna Parkway\, Dayton\, OH\, 45459\, United States
END:VEVENT
BEGIN:VEVENT
DTSTART;VALUE=DATE:20230623
DTEND;VALUE=DATE:20230721
DTSTAMP:20260426T042018
CREATED:20230702T154828Z
LAST-MODIFIED:20230714T173656Z
UID:6568-1687478400-1689897599@www.marksnowentertainment.com
SUMMARY:UNAVAILABLE FOR BOOKINGS
DESCRIPTION:
URL:https://www.marksnowentertainment.com/engagement/unavailable-for-bookings-47/
END:VEVENT
END:VCALENDAR