BEGIN:VCALENDAR
VERSION:2.0
PRODID:-//Mark Snow Entertainment - ECPv6.15.20//NONSGML v1.0//EN
CALSCALE:GREGORIAN
METHOD:PUBLISH
X-WR-CALNAME:Mark Snow Entertainment
X-ORIGINAL-URL:https://www.marksnowentertainment.com
X-WR-CALDESC:Events for Mark Snow Entertainment
REFRESH-INTERVAL;VALUE=DURATION:PT1H
X-Robots-Tag:noindex
X-PUBLISHED-TTL:PT1H
BEGIN:VTIMEZONE
TZID:UTC
BEGIN:STANDARD
TZOFFSETFROM:+0000
TZOFFSETTO:+0000
TZNAME:UTC
DTSTART:20230101T000000
END:STANDARD
END:VTIMEZONE
BEGIN:VEVENT
DTSTART;TZID=UTC:20250227T170000
DTEND;TZID=UTC:20250227T180000
DTSTAMP:20260424T145458
CREATED:20250218T195100Z
LAST-MODIFIED:20250222T142731Z
UID:7143-1740675600-1740679200@www.marksnowentertainment.com
SUMMARY:Cypress Pointe Health Campus
DESCRIPTION:
URL:https://www.marksnowentertainment.com/engagement/cypress-pointe-health-campus-40/
LOCATION:Cypress Pointe Health Campus\, 600 W. National Road\, Englewood\, OH\, 45322\, United States
END:VEVENT
BEGIN:VEVENT
DTSTART;TZID=UTC:20250226T140000
DTEND;TZID=UTC:20250226T150000
DTSTAMP:20260424T145458
CREATED:20250222T142914Z
LAST-MODIFIED:20250222T142914Z
UID:7147-1740578400-1740582000@www.marksnowentertainment.com
SUMMARY:The Ashford of Grove City
DESCRIPTION:
URL:https://www.marksnowentertainment.com/engagement/the-ashford-of-grove-city-6/
LOCATION:The Ashford of Grove City\, 3197 Southwest Boulevard\, Grove City\, OH\, 43123\, United States
END:VEVENT
BEGIN:VEVENT
DTSTART;TZID=UTC:20250225T140000
DTEND;TZID=UTC:20250225T150000
DTSTAMP:20260424T145458
CREATED:20250222T142827Z
LAST-MODIFIED:20250222T143117Z
UID:7145-1740492000-1740495600@www.marksnowentertainment.com
SUMMARY:McNaughten Pointe Nursing & Rehab
DESCRIPTION:
URL:https://www.marksnowentertainment.com/engagement/mcnaughten-pointe-7/
LOCATION:McNaughten Pointe Nursing & Rehab\, 1425 Yorkland Road\, Columbus\, OH\, United States
END:VEVENT
BEGIN:VEVENT
DTSTART;TZID=UTC:20250220T160000
DTEND;TZID=UTC:20250220T170000
DTSTAMP:20260424T145458
CREATED:20250218T195016Z
LAST-MODIFIED:20250218T195016Z
UID:7141-1740067200-1740070800@www.marksnowentertainment.com
SUMMARY:Cherry Blossom Senior Living
DESCRIPTION:
URL:https://www.marksnowentertainment.com/engagement/cherry-blossom-senior-living-33/
LOCATION:Cherry Blossom Senior Living\, 79 Blossom Field Boulevard\, Columbus\, OH\, 43213\, United States
END:VEVENT
BEGIN:VEVENT
DTSTART;TZID=UTC:20250219T140000
DTEND;TZID=UTC:20250219T150000
DTSTAMP:20260424T145458
CREATED:20250218T194938Z
LAST-MODIFIED:20250218T194938Z
UID:7139-1739973600-1739977200@www.marksnowentertainment.com
SUMMARY:Vancrest of Urbana
DESCRIPTION:
URL:https://www.marksnowentertainment.com/engagement/vancrest-of-urbana-6/
LOCATION:Vancrest of Urbana\, 2380 US Highway 68 South\, Urbana\, OH\, 43078\, United States
END:VEVENT
BEGIN:VEVENT
DTSTART;TZID=UTC:20250215T140000
DTEND;TZID=UTC:20250215T150000
DTSTAMP:20260424T145458
CREATED:20250210T202251Z
LAST-MODIFIED:20250210T202251Z
UID:7136-1739628000-1739631600@www.marksnowentertainment.com
SUMMARY:Bluebird Retirement Community Marysville
DESCRIPTION:
URL:https://www.marksnowentertainment.com/engagement/bluebird-retirement-community-marysville-75/
LOCATION:Bluebird Retirement Community Marysville\, 145 Coleman Crossing Boulevard\, Marysville\, OH\, United States
END:VEVENT
BEGIN:VEVENT
DTSTART;TZID=UTC:20250214T140000
DTEND;TZID=UTC:20250214T150000
DTSTAMP:20260424T145458
CREATED:20250210T202214Z
LAST-MODIFIED:20250210T202214Z
UID:7134-1739541600-1739545200@www.marksnowentertainment.com
SUMMARY:Our Home Fairborn
DESCRIPTION:
URL:https://www.marksnowentertainment.com/engagement/our-home-fairborn-14/
LOCATION:Our Home Fairborn\, 7800 Dayton-Springfield Road\, Fairborn\, OH\, 45324\, United States
END:VEVENT
BEGIN:VEVENT
DTSTART;TZID=UTC:20250212T150000
DTEND;TZID=UTC:20250212T160000
DTSTAMP:20260424T145458
CREATED:20250210T202143Z
LAST-MODIFIED:20250210T202143Z
UID:7132-1739372400-1739376000@www.marksnowentertainment.com
SUMMARY:Creekside at the Village
DESCRIPTION:
URL:https://www.marksnowentertainment.com/engagement/creekside-at-the-village-20/
LOCATION:Creekside at the Village\, 2200 Welcome Place\, Columbus\, OH\, 43209\, United States
END:VEVENT
BEGIN:VEVENT
DTSTART;TZID=UTC:20250207T150000
DTEND;TZID=UTC:20250207T160000
DTSTAMP:20260424T145458
CREATED:20250130T173140Z
LAST-MODIFIED:20250130T173140Z
UID:7129-1738940400-1738944000@www.marksnowentertainment.com
SUMMARY:Norwich Springs Health Campus
DESCRIPTION:
URL:https://www.marksnowentertainment.com/engagement/norwich-springs-health-campus-2/
LOCATION:Norwich Springs Health Campus\, 4680 Library Way\, Hilliard\, OH\, 43026\, United States
END:VEVENT
BEGIN:VEVENT
DTSTART;TZID=UTC:20250131T153000
DTEND;TZID=UTC:20250131T163000
DTSTAMP:20260424T145458
CREATED:20250130T173011Z
LAST-MODIFIED:20250130T173011Z
UID:7126-1738337400-1738341000@www.marksnowentertainment.com
SUMMARY:Forest Glen Health Campus
DESCRIPTION:
URL:https://www.marksnowentertainment.com/engagement/forest-glen-health-campus-70/
LOCATION:Forest Glen Rehab and Healthcare Center\, 2150 Montego Drive\, Springfield\, OH\, United States
END:VEVENT
BEGIN:VEVENT
DTSTART;VALUE=DATE:20250129
DTEND;VALUE=DATE:20250130
DTSTAMP:20260424T145458
CREATED:20250106T194538Z
LAST-MODIFIED:20250113T214628Z
UID:7104-1738108800-1738195199@www.marksnowentertainment.com
SUMMARY:UNAVAILABLE FOR  BOOKINGS
DESCRIPTION:
URL:https://www.marksnowentertainment.com/engagement/unavailable-for-bookings-60/
LOCATION:OH
END:VEVENT
BEGIN:VEVENT
DTSTART;TZID=UTC:20250128T140000
DTEND;TZID=UTC:20250128T150000
DTSTAMP:20260424T145458
CREATED:20250130T172931Z
LAST-MODIFIED:20250130T173048Z
UID:7124-1738072800-1738076400@www.marksnowentertainment.com
SUMMARY:McNaughten Pointe Nursing & Rehab
DESCRIPTION:
URL:https://www.marksnowentertainment.com/engagement/mcnaughten-pointe-6/
LOCATION:McNaughten Pointe Nursing & Rehab\, 1425 Yorkland Road\, Columbus\, OH\, United States
END:VEVENT
BEGIN:VEVENT
DTSTART;TZID=UTC:20250124T150000
DTEND;TZID=UTC:20250124T160000
DTSTAMP:20260424T145458
CREATED:20250121T175420Z
LAST-MODIFIED:20250121T175420Z
UID:7117-1737730800-1737734400@www.marksnowentertainment.com
SUMMARY:Cypress Pointe Health Campus
DESCRIPTION:
URL:https://www.marksnowentertainment.com/engagement/cypress-pointe-health-campus-39/
LOCATION:Cypress Pointe Health Campus\, 600 W. National Road\, Englewood\, OH\, 45322\, United States
END:VEVENT
BEGIN:VEVENT
DTSTART;TZID=UTC:20250123T150000
DTEND;TZID=UTC:20250123T160000
DTSTAMP:20260424T145458
CREATED:20250121T175342Z
LAST-MODIFIED:20250121T175342Z
UID:7115-1737644400-1737648000@www.marksnowentertainment.com
SUMMARY:Cherry Blossom Senior Living
DESCRIPTION:
URL:https://www.marksnowentertainment.com/engagement/cherry-blossom-senior-living-32/
LOCATION:Cherry Blossom Senior Living\, 79 Blossom Field Boulevard\, Columbus\, OH\, 43213\, United States
END:VEVENT
BEGIN:VEVENT
DTSTART;TZID=UTC:20250122T140000
DTEND;TZID=UTC:20250122T150000
DTSTAMP:20260424T145458
CREATED:20250121T175302Z
LAST-MODIFIED:20250130T170426Z
UID:7113-1737554400-1737558000@www.marksnowentertainment.com
SUMMARY:The Ashford of Grove City
DESCRIPTION:
URL:https://www.marksnowentertainment.com/engagement/the-ashford-of-grove-city-5/
LOCATION:The Ashford of Grove City\, 3197 Southwest Boulevard\, Grove City\, OH\, 43123\, United States
END:VEVENT
BEGIN:VEVENT
DTSTART;TZID=UTC:20250118T140000
DTEND;TZID=UTC:20250118T150000
DTSTAMP:20260424T145458
CREATED:20250113T214900Z
LAST-MODIFIED:20250113T214900Z
UID:7110-1737208800-1737212400@www.marksnowentertainment.com
SUMMARY:Bluebird Retirement Community Marysville
DESCRIPTION:
URL:https://www.marksnowentertainment.com/engagement/bluebird-retirement-community-marysville-74/
LOCATION:Bluebird Retirement Community Marysville\, 145 Coleman Crossing Boulevard\, Marysville\, OH\, United States
END:VEVENT
BEGIN:VEVENT
DTSTART;TZID=UTC:20250117T143000
DTEND;TZID=UTC:20250117T153000
DTSTAMP:20260424T145458
CREATED:20250113T214807Z
LAST-MODIFIED:20250113T214807Z
UID:7108-1737124200-1737127800@www.marksnowentertainment.com
SUMMARY:Cypress Pointe Health Campus
DESCRIPTION:
URL:https://www.marksnowentertainment.com/engagement/cypress-pointe-health-campus-38/
LOCATION:Cypress Pointe Health Campus\, 600 W. National Road\, Englewood\, OH\, 45322\, United States
END:VEVENT
BEGIN:VEVENT
DTSTART;TZID=UTC:20250115T140000
DTEND;TZID=UTC:20250115T150000
DTSTAMP:20260424T145458
CREATED:20250113T214726Z
LAST-MODIFIED:20250113T214726Z
UID:7106-1736949600-1736953200@www.marksnowentertainment.com
SUMMARY:Vancrest of Urbana
DESCRIPTION:
URL:https://www.marksnowentertainment.com/engagement/vancrest-of-urbana-5/
LOCATION:Vancrest of Urbana\, 2380 US Highway 68 South\, Urbana\, OH\, 43078\, United States
END:VEVENT
BEGIN:VEVENT
DTSTART;TZID=UTC:20250110T140000
DTEND;TZID=UTC:20250110T150000
DTSTAMP:20260424T145458
CREATED:20250106T194451Z
LAST-MODIFIED:20250106T194451Z
UID:7102-1736517600-1736521200@www.marksnowentertainment.com
SUMMARY:Our Home Fairborn
DESCRIPTION:
URL:https://www.marksnowentertainment.com/engagement/our-home-fairborn-13/
LOCATION:Our Home Fairborn\, 7800 Dayton-Springfield Road\, Fairborn\, OH\, 45324\, United States
END:VEVENT
BEGIN:VEVENT
DTSTART;TZID=UTC:20250103T160000
DTEND;TZID=UTC:20250103T170000
DTSTAMP:20260424T145458
CREATED:20241222T191415Z
LAST-MODIFIED:20241222T191415Z
UID:7099-1735920000-1735923600@www.marksnowentertainment.com
SUMMARY:Feridean Commons
DESCRIPTION:
URL:https://www.marksnowentertainment.com/engagement/feridean-commons-31/
LOCATION:Feridean Commons\, 6885 Freeman Road\, Westerville\, OH\, United States
END:VEVENT
BEGIN:VEVENT
DTSTART;VALUE=DATE:20241222
DTEND;VALUE=DATE:20250103
DTSTAMP:20260424T145458
CREATED:20231224T153717Z
LAST-MODIFIED:20240812T164717Z
UID:6746-1734825600-1735862399@www.marksnowentertainment.com
SUMMARY:UNAVAILABLE FOR BOOKINGS
DESCRIPTION:
URL:https://www.marksnowentertainment.com/engagement/unavailable-for-bookings-54/
LOCATION:OH
END:VEVENT
BEGIN:VEVENT
DTSTART;TZID=UTC:20241221T140000
DTEND;TZID=UTC:20241221T150000
DTSTAMP:20260424T145458
CREATED:20241222T191319Z
LAST-MODIFIED:20241222T191319Z
UID:7097-1734789600-1734793200@www.marksnowentertainment.com
SUMMARY:Bluebird Retirement Community Marysville
DESCRIPTION:
URL:https://www.marksnowentertainment.com/engagement/bluebird-retirement-community-marysville-73/
LOCATION:Bluebird Retirement Community Marysville\, 145 Coleman Crossing Boulevard\, Marysville\, OH\, United States
END:VEVENT
BEGIN:VEVENT
DTSTART;TZID=UTC:20241220T140000
DTEND;TZID=UTC:20241220T150000
DTSTAMP:20260424T145458
CREATED:20241222T191239Z
LAST-MODIFIED:20241222T191239Z
UID:7095-1734703200-1734706800@www.marksnowentertainment.com
SUMMARY:Paramount Senior Living at Polaris
DESCRIPTION:
URL:https://www.marksnowentertainment.com/engagement/paramount-senior-living-at-polaris-12/
LOCATION:Paramount Senior Living at Polaris\, 702 Polaris Parkway\, Westerville\, OH\, 43082\, United States
END:VEVENT
BEGIN:VEVENT
DTSTART;TZID=UTC:20241219T150000
DTEND;TZID=UTC:20241219T160000
DTSTAMP:20260424T145458
CREATED:20241222T191137Z
LAST-MODIFIED:20241222T191137Z
UID:7093-1734620400-1734624000@www.marksnowentertainment.com
SUMMARY:Cherry Blossom Senior Living
DESCRIPTION:
URL:https://www.marksnowentertainment.com/engagement/cherry-blossom-senior-living-31/
LOCATION:Cherry Blossom Senior Living\, 79 Blossom Field Boulevard\, Columbus\, OH\, 43213\, United States
END:VEVENT
BEGIN:VEVENT
DTSTART;TZID=UTC:20241218T150000
DTEND;TZID=UTC:20241218T160000
DTSTAMP:20260424T145458
CREATED:20241222T191054Z
LAST-MODIFIED:20241222T191054Z
UID:7091-1734534000-1734537600@www.marksnowentertainment.com
SUMMARY:McNaughten Pointe
DESCRIPTION:
URL:https://www.marksnowentertainment.com/engagement/mcnaughten-pointe-5/
LOCATION:McNaughten Pointe Nursing & Rehab\, 1425 Yorkland Road\, Columbus\, OH\, United States
END:VEVENT
BEGIN:VEVENT
DTSTART;TZID=UTC:20241217T120000
DTEND;TZID=UTC:20241217T130000
DTSTAMP:20260424T145458
CREATED:20241222T190958Z
LAST-MODIFIED:20241222T190958Z
UID:7089-1734436800-1734440400@www.marksnowentertainment.com
SUMMARY:Wooded Glen Senior Living
DESCRIPTION:
URL:https://www.marksnowentertainment.com/engagement/wooded-glen-senior-living-60/
LOCATION:Wooded Glen Health Campus\, 2900 Bechtle Avenue\, Springfield\, OH\, 45504\, United States
END:VEVENT
BEGIN:VEVENT
DTSTART;TZID=UTC:20241216T150000
DTEND;TZID=UTC:20241216T160000
DTSTAMP:20260424T145458
CREATED:20241222T190844Z
LAST-MODIFIED:20241222T190844Z
UID:7087-1734361200-1734364800@www.marksnowentertainment.com
SUMMARY:Cypress Pointe Health Campus
DESCRIPTION:
URL:https://www.marksnowentertainment.com/engagement/cypress-pointe-health-campus-37/
LOCATION:Cypress Pointe Health Campus\, 600 W. National Road\, Englewood\, OH\, 45322\, United States
END:VEVENT
BEGIN:VEVENT
DTSTART;TZID=UTC:20241213T140000
DTEND;TZID=UTC:20241213T150000
DTSTAMP:20260424T145458
CREATED:20241222T190745Z
LAST-MODIFIED:20241222T190745Z
UID:7085-1734098400-1734102000@www.marksnowentertainment.com
SUMMARY:Our Home Fairborn
DESCRIPTION:
URL:https://www.marksnowentertainment.com/engagement/our-home-fairborn-12/
LOCATION:Our Home Fairborn\, 7800 Dayton-Springfield Road\, Fairborn\, OH\, 45324\, United States
END:VEVENT
BEGIN:VEVENT
DTSTART;TZID=UTC:20241212T130000
DTEND;TZID=UTC:20241212T140000
DTSTAMP:20260424T145458
CREATED:20241222T190705Z
LAST-MODIFIED:20241222T190705Z
UID:7083-1734008400-1734012000@www.marksnowentertainment.com
SUMMARY:Cypress Pointe Health Campus
DESCRIPTION:
URL:https://www.marksnowentertainment.com/engagement/cypress-pointe-health-campus-36/
LOCATION:Cypress Pointe Health Campus\, 600 W. National Road\, Englewood\, OH\, 45322\, United States
END:VEVENT
BEGIN:VEVENT
DTSTART;TZID=UTC:20241211T143000
DTEND;TZID=UTC:20241211T153000
DTSTAMP:20260424T145458
CREATED:20241222T190628Z
LAST-MODIFIED:20241222T190628Z
UID:7081-1733927400-1733931000@www.marksnowentertainment.com
SUMMARY:Cotter House Worthington
DESCRIPTION:
URL:https://www.marksnowentertainment.com/engagement/cotter-house-worthington-7/
LOCATION:Cotter House Worthington\, 800 Proprietors Road\, Worthington\, OH\, 43085\, United States
END:VEVENT
END:VCALENDAR