BEGIN:VCALENDAR
VERSION:2.0
PRODID:-//Mark Snow Entertainment - ECPv6.15.20//NONSGML v1.0//EN
CALSCALE:GREGORIAN
METHOD:PUBLISH
X-WR-CALNAME:Mark Snow Entertainment
X-ORIGINAL-URL:https://www.marksnowentertainment.com
X-WR-CALDESC:Events for Mark Snow Entertainment
REFRESH-INTERVAL;VALUE=DURATION:PT1H
X-Robots-Tag:noindex
X-PUBLISHED-TTL:PT1H
BEGIN:VTIMEZONE
TZID:UTC
BEGIN:STANDARD
TZOFFSETFROM:+0000
TZOFFSETTO:+0000
TZNAME:UTC
DTSTART:20230101T000000
END:STANDARD
END:VTIMEZONE
BEGIN:VEVENT
DTSTART;TZID=UTC:20240621T140000
DTEND;TZID=UTC:20240621T150000
DTSTAMP:20260425T130740
CREATED:20240617T124138Z
LAST-MODIFIED:20240617T124138Z
UID:6896-1718978400-1718982000@www.marksnowentertainment.com
SUMMARY:Our Home Fairborn
DESCRIPTION:
URL:https://www.marksnowentertainment.com/engagement/our-home-fairborn-6/
LOCATION:Our Home Fairborn\, 7800 Dayton-Springfield Road\, Fairborn\, OH\, 45324\, United States
END:VEVENT
BEGIN:VEVENT
DTSTART;TZID=UTC:20240620T143000
DTEND;TZID=UTC:20240620T153000
DTSTAMP:20260425T130740
CREATED:20240617T124104Z
LAST-MODIFIED:20240617T124104Z
UID:6894-1718893800-1718897400@www.marksnowentertainment.com
SUMMARY:Grace Brethren Village
DESCRIPTION:
URL:https://www.marksnowentertainment.com/engagement/grace-brethren-village-5/
LOCATION:Grace Brethren Village\, 1010 Taywood Road\, Englewood\, DC\, 45322\, United States
END:VEVENT
BEGIN:VEVENT
DTSTART;TZID=UTC:20240618T183000
DTEND;TZID=UTC:20240618T193000
DTSTAMP:20260425T130740
CREATED:20240617T124023Z
LAST-MODIFIED:20240617T124023Z
UID:6892-1718735400-1718739000@www.marksnowentertainment.com
SUMMARY:Creekside at the Village
DESCRIPTION:
URL:https://www.marksnowentertainment.com/engagement/creekside-at-the-village-16/
LOCATION:Creekside at the Village\, 2200 Welcome Place\, Columbus\, OH\, 43209\, United States
END:VEVENT
BEGIN:VEVENT
DTSTART;TZID=UTC:20240618T150000
DTEND;TZID=UTC:20240618T160000
DTSTAMP:20260425T130740
CREATED:20240617T123945Z
LAST-MODIFIED:20240617T123945Z
UID:6890-1718722800-1718726400@www.marksnowentertainment.com
SUMMARY:Cherry Blossom Senior Living
DESCRIPTION:
URL:https://www.marksnowentertainment.com/engagement/cherry-blossom-senior-living-26/
LOCATION:Cherry Blossom Senior Living\, 79 Blossom Field Boulevard\, Columbus\, OH\, 43213\, United States
END:VEVENT
BEGIN:VEVENT
DTSTART;TZID=UTC:20240612T120000
DTEND;TZID=UTC:20240612T130000
DTSTAMP:20260425T130740
CREATED:20240617T123844Z
LAST-MODIFIED:20240617T123844Z
UID:6888-1718193600-1718197200@www.marksnowentertainment.com
SUMMARY:Wooded Glen Senior Living
DESCRIPTION:
URL:https://www.marksnowentertainment.com/engagement/wooded-glen-senior-living-54/
LOCATION:Wooded Glen Health Campus\, 2900 Bechtle Avenue\, Springfield\, OH\, 45504\, United States
END:VEVENT
BEGIN:VEVENT
DTSTART;TZID=UTC:20240611T150000
DTEND;TZID=UTC:20240611T160000
DTSTAMP:20260425T130740
CREATED:20240617T123748Z
LAST-MODIFIED:20240617T123748Z
UID:6886-1718118000-1718121600@www.marksnowentertainment.com
SUMMARY:Hilliard Assisted Living & Memory Care
DESCRIPTION:
URL:https://www.marksnowentertainment.com/engagement/hilliard-assisted-living-memory-care-33/
LOCATION:Traditions of Hilliard\, 4303 Trueman Boulevard\, Hilliard\, OH\, 43026\, United States
END:VEVENT
BEGIN:VEVENT
DTSTART;TZID=UTC:20240607T153000
DTEND;TZID=UTC:20240607T163000
DTSTAMP:20260425T130740
CREATED:20240617T123646Z
LAST-MODIFIED:20240617T123646Z
UID:6884-1717774200-1717777800@www.marksnowentertainment.com
SUMMARY:Forest Glen Health Campus
DESCRIPTION:
URL:https://www.marksnowentertainment.com/engagement/forest-glen-health-campus-63/
LOCATION:Forest Glen Rehab and Healthcare Center\, 2150 Montego Drive\, Springfield\, OH\, United States
END:VEVENT
BEGIN:VEVENT
DTSTART;VALUE=DATE:20240523
DTEND;VALUE=DATE:20240605
DTSTAMP:20260425T130740
CREATED:20231224T153106Z
LAST-MODIFIED:20231224T153106Z
UID:6732-1716422400-1717545599@www.marksnowentertainment.com
SUMMARY:UNAVAILABLE FOR BOOKINGS
DESCRIPTION:
URL:https://www.marksnowentertainment.com/engagement/unavailable-for-bookings-46/
END:VEVENT
BEGIN:VEVENT
DTSTART;TZID=UTC:20240522T140000
DTEND;TZID=UTC:20240522T150000
DTSTAMP:20260425T130740
CREATED:20240520T140155Z
LAST-MODIFIED:20240520T140155Z
UID:6881-1716386400-1716390000@www.marksnowentertainment.com
SUMMARY:McNaughten Pointe
DESCRIPTION:
URL:https://www.marksnowentertainment.com/engagement/mcnaughten-pointe-2/
LOCATION:McNaughten Pointe Nursing & Rehab\, 1425 Yorkland Road\, Columbus\, OH\, United States
END:VEVENT
BEGIN:VEVENT
DTSTART;TZID=UTC:20240521T120000
DTEND;TZID=UTC:20240521T130000
DTSTAMP:20260425T130740
CREATED:20240520T140114Z
LAST-MODIFIED:20240520T140114Z
UID:6879-1716292800-1716296400@www.marksnowentertainment.com
SUMMARY:Wooded Glen Senior Living
DESCRIPTION:
URL:https://www.marksnowentertainment.com/engagement/wooded-glen-senior-living-53/
LOCATION:Wooded Glen Health Campus\, 2900 Bechtle Avenue\, Springfield\, OH\, 45504\, United States
END:VEVENT
BEGIN:VEVENT
DTSTART;TZID=UTC:20240520T140000
DTEND;TZID=UTC:20240520T150000
DTSTAMP:20260425T130740
CREATED:20240520T140038Z
LAST-MODIFIED:20240520T140038Z
UID:6877-1716213600-1716217200@www.marksnowentertainment.com
SUMMARY:Riverview Health & Rehab Center
DESCRIPTION:
URL:https://www.marksnowentertainment.com/engagement/riverview-health-rehab-center-4/
LOCATION:Riverview Health & Rehab Center\, 3700 Olentangy River Road\, Columbus\, OH\, 43214\, United States
END:VEVENT
BEGIN:VEVENT
DTSTART;TZID=UTC:20240518T140000
DTEND;TZID=UTC:20240518T150000
DTSTAMP:20260425T130740
CREATED:20240513T125434Z
LAST-MODIFIED:20240513T125434Z
UID:6874-1716040800-1716044400@www.marksnowentertainment.com
SUMMARY:Bluebird Retirement Community Marysville
DESCRIPTION:
URL:https://www.marksnowentertainment.com/engagement/bluebird-retirement-community-marysville-66/
LOCATION:Bluebird Retirement Community Marysville\, 145 Coleman Crossing Boulevard\, Marysville\, OH\, United States
END:VEVENT
BEGIN:VEVENT
DTSTART;TZID=UTC:20240517T140000
DTEND;TZID=UTC:20240517T150000
DTSTAMP:20260425T130740
CREATED:20240513T125354Z
LAST-MODIFIED:20240513T125354Z
UID:6872-1715954400-1715958000@www.marksnowentertainment.com
SUMMARY:Paramount Senior Living at Polaris
DESCRIPTION:
URL:https://www.marksnowentertainment.com/engagement/paramount-senior-living-at-polaris-8/
LOCATION:Paramount Senior Living at Polaris\, 702 Polaris Parkway\, Westerville\, OH\, 43082\, United States
END:VEVENT
BEGIN:VEVENT
DTSTART;TZID=UTC:20240516T130000
DTEND;TZID=UTC:20240516T140000
DTSTAMP:20260425T130740
CREATED:20240513T125317Z
LAST-MODIFIED:20240513T125317Z
UID:6870-1715864400-1715868000@www.marksnowentertainment.com
SUMMARY:Cypress Pointe Health Campus
DESCRIPTION:
URL:https://www.marksnowentertainment.com/engagement/cypress-pointe-health-campus-26/
LOCATION:Cypress Pointe Health Campus\, 600 W. National Road\, Englewood\, OH\, 45322\, United States
END:VEVENT
BEGIN:VEVENT
DTSTART;TZID=UTC:20240515T150000
DTEND;TZID=UTC:20240515T160000
DTSTAMP:20260425T130740
CREATED:20240513T125242Z
LAST-MODIFIED:20240513T125242Z
UID:6868-1715785200-1715788800@www.marksnowentertainment.com
SUMMARY:St. Catherine's Manor
DESCRIPTION:
URL:https://www.marksnowentertainment.com/engagement/st-catherines-manor-21/
LOCATION:St. Catherine’s Manor\, 250 Glenn Avenue\, Washington Court House\, OH\, 43160\, United States
END:VEVENT
BEGIN:VEVENT
DTSTART;TZID=UTC:20240515T130000
DTEND;TZID=UTC:20240515T140000
DTSTAMP:20260425T130740
CREATED:20240513T125210Z
LAST-MODIFIED:20240513T125210Z
UID:6866-1715778000-1715781600@www.marksnowentertainment.com
SUMMARY:Court House Manor
DESCRIPTION:
URL:https://www.marksnowentertainment.com/engagement/court-house-manor-21/
LOCATION:Court House Manor\, 555 N. Glenn Avenue\, Washington Court House\, OH\, 43160\, United States
END:VEVENT
BEGIN:VEVENT
DTSTART;TZID=UTC:20240514T150000
DTEND;TZID=UTC:20240514T160000
DTSTAMP:20260425T130740
CREATED:20240513T125135Z
LAST-MODIFIED:20240513T125135Z
UID:6864-1715698800-1715702400@www.marksnowentertainment.com
SUMMARY:Hilliard Assisted Living & Memory Care
DESCRIPTION:
URL:https://www.marksnowentertainment.com/engagement/hilliard-assisted-living-memory-care-32/
LOCATION:Traditions of Hilliard\, 4303 Trueman Boulevard\, Hilliard\, OH\, 43026\, United States
END:VEVENT
BEGIN:VEVENT
DTSTART;TZID=UTC:20240513T140000
DTEND;TZID=UTC:20240513T150000
DTSTAMP:20260425T130740
CREATED:20240513T125059Z
LAST-MODIFIED:20240513T125059Z
UID:6862-1715608800-1715612400@www.marksnowentertainment.com
SUMMARY:The Suites at Walnut Creek
DESCRIPTION:
URL:https://www.marksnowentertainment.com/engagement/the-suites-at-walnut-creek-50/
LOCATION:The Suites at Walnut Creek\, 2501 Keystone Club Drive\, Dayton\, OH\, United States
END:VEVENT
BEGIN:VEVENT
DTSTART;TZID=UTC:20240510T153000
DTEND;TZID=UTC:20240510T163000
DTSTAMP:20260425T130740
CREATED:20240509T175729Z
LAST-MODIFIED:20240509T175729Z
UID:6860-1715355000-1715358600@www.marksnowentertainment.com
SUMMARY:Forest Glen Health Campus
DESCRIPTION:
URL:https://www.marksnowentertainment.com/engagement/forest-glen-health-campus-62/
LOCATION:Forest Glen Rehab and Healthcare Center\, 2150 Montego Drive\, Springfield\, OH\, United States
END:VEVENT
BEGIN:VEVENT
DTSTART;TZID=UTC:20240508T143000
DTEND;TZID=UTC:20240508T153000
DTSTAMP:20260425T130740
CREATED:20240509T175700Z
LAST-MODIFIED:20240509T175700Z
UID:6858-1715178600-1715182200@www.marksnowentertainment.com
SUMMARY:Cotter House Worthington
DESCRIPTION:
URL:https://www.marksnowentertainment.com/engagement/cotter-house-worthington-3/
LOCATION:Cotter House Worthington\, 800 Proprietors Road\, Worthington\, OH\, 43085\, United States
END:VEVENT
BEGIN:VEVENT
DTSTART;TZID=UTC:20240507T133000
DTEND;TZID=UTC:20240507T143000
DTSTAMP:20260425T130740
CREATED:20240509T175623Z
LAST-MODIFIED:20240509T175623Z
UID:6856-1715088600-1715092200@www.marksnowentertainment.com
SUMMARY:Mill Ridge Village
DESCRIPTION:
URL:https://www.marksnowentertainment.com/engagement/mill-ridge-village/
LOCATION:Mill Ridge Village\, 1000 Mill Ridge Circle\, Union\, OH\, United States
END:VEVENT
BEGIN:VEVENT
DTSTART;TZID=UTC:20240506T150000
DTEND;TZID=UTC:20240506T160000
DTSTAMP:20260425T130740
CREATED:20240509T175522Z
LAST-MODIFIED:20240509T175522Z
UID:6854-1715007600-1715011200@www.marksnowentertainment.com
SUMMARY:Cherry Blossom Senior Living
DESCRIPTION:
URL:https://www.marksnowentertainment.com/engagement/cherry-blossom-senior-living-25/
LOCATION:Cherry Blossom Senior Living\, 79 Blossom Field Boulevard\, Columbus\, OH\, 43213\, United States
END:VEVENT
BEGIN:VEVENT
DTSTART;TZID=UTC:20240503T140000
DTEND;TZID=UTC:20240503T150000
DTSTAMP:20260425T130740
CREATED:20240429T133134Z
LAST-MODIFIED:20240429T133134Z
UID:6851-1714744800-1714748400@www.marksnowentertainment.com
SUMMARY:Our Home Fairborn
DESCRIPTION:
URL:https://www.marksnowentertainment.com/engagement/our-home-fairborn-5/
LOCATION:Our Home Fairborn\, 7800 Dayton-Springfield Road\, Fairborn\, OH\, 45324\, United States
END:VEVENT
BEGIN:VEVENT
DTSTART;TZID=UTC:20240430T140000
DTEND;TZID=UTC:20240430T150000
DTSTAMP:20260425T130740
CREATED:20240429T133054Z
LAST-MODIFIED:20240429T133054Z
UID:6849-1714485600-1714489200@www.marksnowentertainment.com
SUMMARY:McNaughten Pointe
DESCRIPTION:
URL:https://www.marksnowentertainment.com/engagement/mcnaughten-pointe/
LOCATION:McNaughten Pointe Nursing & Rehab\, 1425 Yorkland Road\, Columbus\, OH\, United States
END:VEVENT
BEGIN:VEVENT
DTSTART;TZID=UTC:20240426T150000
DTEND;TZID=UTC:20240426T160000
DTSTAMP:20260425T130740
CREATED:20240420T124103Z
LAST-MODIFIED:20240420T124103Z
UID:6846-1714143600-1714147200@www.marksnowentertainment.com
SUMMARY:Cypress Pointe Health Campus
DESCRIPTION:
URL:https://www.marksnowentertainment.com/engagement/cypress-pointe-health-campus-25/
LOCATION:Cypress Pointe Health Campus\, 600 W. National Road\, Englewood\, OH\, 45322\, United States
END:VEVENT
BEGIN:VEVENT
DTSTART;TZID=UTC:20240422T150000
DTEND;TZID=UTC:20240422T160000
DTSTAMP:20260425T130740
CREATED:20240420T124007Z
LAST-MODIFIED:20240420T124007Z
UID:6844-1713798000-1713801600@www.marksnowentertainment.com
SUMMARY:Cherry Blossom Senior Living
DESCRIPTION:
URL:https://www.marksnowentertainment.com/engagement/cherry-blossom-senior-living-24/
LOCATION:Cherry Blossom Senior Living\, 79 Blossom Field Boulevard\, Columbus\, OH\, 43213\, United States
END:VEVENT
BEGIN:VEVENT
DTSTART;TZID=UTC:20240420T140000
DTEND;TZID=UTC:20240420T150000
DTSTAMP:20260425T130740
CREATED:20240416T200603Z
LAST-MODIFIED:20240416T200603Z
UID:6841-1713621600-1713625200@www.marksnowentertainment.com
SUMMARY:Bluebird Retirement Community Marysville
DESCRIPTION:
URL:https://www.marksnowentertainment.com/engagement/bluebird-retirement-community-marysville-60/
LOCATION:Bluebird Retirement Community Marysville\, 145 Coleman Crossing Boulevard\, Marysville\, OH\, United States
END:VEVENT
BEGIN:VEVENT
DTSTART;TZID=UTC:20240419T153000
DTEND;TZID=UTC:20240419T163000
DTSTAMP:20260425T130740
CREATED:20240416T200514Z
LAST-MODIFIED:20240416T200514Z
UID:6839-1713540600-1713544200@www.marksnowentertainment.com
SUMMARY:Forest Glen Health Campus
DESCRIPTION:
URL:https://www.marksnowentertainment.com/engagement/forest-glen-health-campus-61/
LOCATION:Forest Glen Rehab and Healthcare Center\, 2150 Montego Drive\, Springfield\, OH\, United States
END:VEVENT
BEGIN:VEVENT
DTSTART;TZID=UTC:20240416T120000
DTEND;TZID=UTC:20240416T130000
DTSTAMP:20260425T130740
CREATED:20240416T200433Z
LAST-MODIFIED:20240416T200433Z
UID:6837-1713268800-1713272400@www.marksnowentertainment.com
SUMMARY:Wooded Glen Senior Living
DESCRIPTION:
URL:https://www.marksnowentertainment.com/engagement/wooded-glen-senior-living-52/
LOCATION:Wooded Glen Health Campus\, 2900 Bechtle Avenue\, Springfield\, OH\, 45504\, United States
END:VEVENT
BEGIN:VEVENT
DTSTART;TZID=UTC:20240415T140000
DTEND;TZID=UTC:20240415T150000
DTSTAMP:20260425T130740
CREATED:20240416T200353Z
LAST-MODIFIED:20240416T200353Z
UID:6835-1713189600-1713193200@www.marksnowentertainment.com
SUMMARY:The Suites at Walnut Creek
DESCRIPTION:
URL:https://www.marksnowentertainment.com/engagement/the-suites-at-walnut-creek-49/
LOCATION:The Suites at Walnut Creek\, 2501 Keystone Club Drive\, Dayton\, OH\, United States
END:VEVENT
END:VCALENDAR