BEGIN:VCALENDAR
VERSION:2.0
PRODID:-//Mark Snow Entertainment - ECPv6.15.20//NONSGML v1.0//EN
CALSCALE:GREGORIAN
METHOD:PUBLISH
X-WR-CALNAME:Mark Snow Entertainment
X-ORIGINAL-URL:https://www.marksnowentertainment.com
X-WR-CALDESC:Events for Mark Snow Entertainment
REFRESH-INTERVAL;VALUE=DURATION:PT1H
X-Robots-Tag:noindex
X-PUBLISHED-TTL:PT1H
BEGIN:VTIMEZONE
TZID:UTC
BEGIN:STANDARD
TZOFFSETFROM:+0000
TZOFFSETTO:+0000
TZNAME:UTC
DTSTART:20240101T000000
END:STANDARD
END:VTIMEZONE
BEGIN:VEVENT
DTSTART;TZID=UTC:20260109T140000
DTEND;TZID=UTC:20260109T150000
DTSTAMP:20260423T234445
CREATED:20260127T190439Z
LAST-MODIFIED:20260127T190439Z
UID:7366-1767967200-1767970800@www.marksnowentertainment.com
SUMMARY:Our Home Fairborn
DESCRIPTION:
URL:https://www.marksnowentertainment.com/engagement/our-home-fairborn-22/
LOCATION:Our Home Fairborn\, 7800 Dayton-Springfield Road\, Fairborn\, OH\, 45324\, United States
END:VEVENT
BEGIN:VEVENT
DTSTART;VALUE=DATE:20251222
DTEND;VALUE=DATE:20260104
DTSTAMP:20260423T234445
CREATED:20251215T005358Z
LAST-MODIFIED:20251215T005358Z
UID:7363-1766361600-1767484799@www.marksnowentertainment.com
SUMMARY:UNAVAILABLE FOR BOOKINGS
DESCRIPTION:
URL:https://www.marksnowentertainment.com/engagement/unavailable-for-bookings-63/
LOCATION:OH
END:VEVENT
BEGIN:VEVENT
DTSTART;TZID=UTC:20251220T140000
DTEND;TZID=UTC:20251220T150000
DTSTAMP:20260423T234445
CREATED:20251215T005241Z
LAST-MODIFIED:20251215T005241Z
UID:7361-1766239200-1766242800@www.marksnowentertainment.com
SUMMARY:Bluebird Retirement Community Marysville
DESCRIPTION:
URL:https://www.marksnowentertainment.com/engagement/bluebird-retirement-community-marysville-83/
LOCATION:Bluebird Retirement Community Marysville\, 145 Coleman Crossing Boulevard\, Marysville\, OH\, United States
END:VEVENT
BEGIN:VEVENT
DTSTART;TZID=UTC:20251219T140000
DTEND;TZID=UTC:20251219T160000
DTSTAMP:20260423T234445
CREATED:20251215T005159Z
LAST-MODIFIED:20251215T005159Z
UID:7359-1766152800-1766160000@www.marksnowentertainment.com
SUMMARY:Cypress Pointe Health Campus
DESCRIPTION:
URL:https://www.marksnowentertainment.com/engagement/cypress-pointe-health-campus-54/
LOCATION:Cypress Pointe Health Campus\, 600 W. National Road\, Englewood\, OH\, 45322\, United States
END:VEVENT
BEGIN:VEVENT
DTSTART;TZID=UTC:20251218T160000
DTEND;TZID=UTC:20251218T170000
DTSTAMP:20260423T234445
CREATED:20251215T005120Z
LAST-MODIFIED:20251215T005120Z
UID:7357-1766073600-1766077200@www.marksnowentertainment.com
SUMMARY:Cherry Blossom Senior Living
DESCRIPTION:
URL:https://www.marksnowentertainment.com/engagement/cherry-blossom-senior-living-45/
LOCATION:Cherry Blossom Senior Living\, 79 Blossom Field Boulevard\, Columbus\, OH\, 43213\, United States
END:VEVENT
BEGIN:VEVENT
DTSTART;TZID=UTC:20251217T140000
DTEND;TZID=UTC:20251217T150000
DTSTAMP:20260423T234445
CREATED:20251215T005048Z
LAST-MODIFIED:20251215T005048Z
UID:7355-1765980000-1765983600@www.marksnowentertainment.com
SUMMARY:Vancrest of Urbana
DESCRIPTION:
URL:https://www.marksnowentertainment.com/engagement/vancrest-of-urbana-16/
LOCATION:Vancrest of Urbana\, 2380 US Highway 68 South\, Urbana\, OH\, 43078\, United States
END:VEVENT
BEGIN:VEVENT
DTSTART;TZID=UTC:20251216T140000
DTEND;TZID=UTC:20251216T150000
DTSTAMP:20260423T234445
CREATED:20251215T005001Z
LAST-MODIFIED:20251215T005001Z
UID:7353-1765893600-1765897200@www.marksnowentertainment.com
SUMMARY:McNaughten Pointe Nursing & Rehab
DESCRIPTION:
URL:https://www.marksnowentertainment.com/engagement/mcnaughten-pointe-nursing-rehab-73/
LOCATION:McNaughten Pointe Nursing & Rehab\, 1425 Yorkland Road\, Columbus\, OH\, United States
END:VEVENT
BEGIN:VEVENT
DTSTART;TZID=UTC:20251215T140000
DTEND;TZID=UTC:20251215T150000
DTSTAMP:20260423T234445
CREATED:20251215T004923Z
LAST-MODIFIED:20251215T004923Z
UID:7351-1765807200-1765810800@www.marksnowentertainment.com
SUMMARY:Otterbein Tipp City
DESCRIPTION:
URL:https://www.marksnowentertainment.com/engagement/otterbein-tipp-city-3/
LOCATION:Otterbein Tipp City\, 4375 S. County Line Road 25A\, Tipp City\, OH\, 45371\, United States
END:VEVENT
BEGIN:VEVENT
DTSTART;TZID=UTC:20251212T140000
DTEND;TZID=UTC:20251212T150000
DTSTAMP:20260423T234445
CREATED:20251215T004800Z
LAST-MODIFIED:20251215T004800Z
UID:7349-1765548000-1765551600@www.marksnowentertainment.com
SUMMARY:Our Home Fairborn
DESCRIPTION:
URL:https://www.marksnowentertainment.com/engagement/our-home-fairborn-21/
LOCATION:Our Home Fairborn\, 7800 Dayton-Springfield Road\, Fairborn\, OH\, 45324\, United States
END:VEVENT
BEGIN:VEVENT
DTSTART;TZID=UTC:20251211T140000
DTEND;TZID=UTC:20251211T150000
DTSTAMP:20260423T234445
CREATED:20251215T004713Z
LAST-MODIFIED:20251215T004713Z
UID:7347-1765461600-1765465200@www.marksnowentertainment.com
SUMMARY:Forest Glen Rehab and Healthcare Center
DESCRIPTION:
URL:https://www.marksnowentertainment.com/engagement/forest-glen-rehab-and-healthcare-center-7/
LOCATION:Forest Glen Rehab and Healthcare Center\, 2150 Montego Drive\, Springfield\, OH\, United States
END:VEVENT
BEGIN:VEVENT
DTSTART;TZID=UTC:20251205T153000
DTEND;TZID=UTC:20251205T163000
DTSTAMP:20260423T234445
CREATED:20251215T004610Z
LAST-MODIFIED:20251215T004610Z
UID:7345-1764948600-1764952200@www.marksnowentertainment.com
SUMMARY:Forest Glen Rehab and Healthcare Center
DESCRIPTION:
URL:https://www.marksnowentertainment.com/engagement/forest-glen-rehab-and-healthcare-center-6/
LOCATION:Forest Glen Rehab and Healthcare Center\, 2150 Montego Drive\, Springfield\, OH\, United States
END:VEVENT
BEGIN:VEVENT
DTSTART;VALUE=DATE:20251124
DTEND;VALUE=DATE:20251203
DTSTAMP:20260423T234445
CREATED:20251122T232243Z
LAST-MODIFIED:20251122T232243Z
UID:7342-1763942400-1764719999@www.marksnowentertainment.com
SUMMARY:UNAVAILABLE FOR BOOKINGS
DESCRIPTION:
URL:https://www.marksnowentertainment.com/engagement/unavailable-for-bookings-62/
LOCATION:OH
END:VEVENT
BEGIN:VEVENT
DTSTART;TZID=UTC:20251120T140000
DTEND;TZID=UTC:20251120T150000
DTSTAMP:20260423T234445
CREATED:20251122T232129Z
LAST-MODIFIED:20251122T232129Z
UID:7340-1763647200-1763650800@www.marksnowentertainment.com
SUMMARY:Cherry Blossom Senior Living
DESCRIPTION:
URL:https://www.marksnowentertainment.com/engagement/cherry-blossom-senior-living-44/
LOCATION:Cherry Blossom Senior Living\, 79 Blossom Field Boulevard\, Columbus\, OH\, 43213\, United States
END:VEVENT
BEGIN:VEVENT
DTSTART;TZID=UTC:20251119T140000
DTEND;TZID=UTC:20251119T150000
DTSTAMP:20260423T234445
CREATED:20251122T232054Z
LAST-MODIFIED:20251122T232054Z
UID:7338-1763560800-1763564400@www.marksnowentertainment.com
SUMMARY:Vancrest of Urbana
DESCRIPTION:
URL:https://www.marksnowentertainment.com/engagement/vancrest-of-urbana-15/
LOCATION:Vancrest of Urbana\, 2380 US Highway 68 South\, Urbana\, OH\, 43078\, United States
END:VEVENT
BEGIN:VEVENT
DTSTART;TZID=UTC:20251118T140000
DTEND;TZID=UTC:20251118T150000
DTSTAMP:20260423T234445
CREATED:20251122T232015Z
LAST-MODIFIED:20251122T232015Z
UID:7336-1763474400-1763478000@www.marksnowentertainment.com
SUMMARY:McNaughten Pointe Nursing & Rehab
DESCRIPTION:
URL:https://www.marksnowentertainment.com/engagement/mcnaughten-pointe-nursing-rehab-72/
LOCATION:McNaughten Pointe Nursing & Rehab\, 1425 Yorkland Road\, Columbus\, OH\, United States
END:VEVENT
BEGIN:VEVENT
DTSTART;TZID=UTC:20251115T140000
DTEND;TZID=UTC:20251115T150000
DTSTAMP:20260423T234445
CREATED:20251122T231917Z
LAST-MODIFIED:20251122T231917Z
UID:7334-1763215200-1763218800@www.marksnowentertainment.com
SUMMARY:Bluebird Retirement Community Marysville
DESCRIPTION:
URL:https://www.marksnowentertainment.com/engagement/bluebird-retirement-community-marysville-82/
LOCATION:Bluebird Retirement Community Marysville\, 145 Coleman Crossing Boulevard\, Marysville\, OH\, United States
END:VEVENT
BEGIN:VEVENT
DTSTART;TZID=UTC:20251112T140000
DTEND;TZID=UTC:20251112T150000
DTSTAMP:20260423T234445
CREATED:20251122T231812Z
LAST-MODIFIED:20251122T231812Z
UID:7332-1762956000-1762959600@www.marksnowentertainment.com
SUMMARY:Cypress Pointe Health Campus
DESCRIPTION:
URL:https://www.marksnowentertainment.com/engagement/cypress-pointe-health-campus-53/
LOCATION:Cypress Pointe Health Campus\, 600 W. National Road\, Englewood\, OH\, 45322\, United States
END:VEVENT
BEGIN:VEVENT
DTSTART;TZID=UTC:20251111T140000
DTEND;TZID=UTC:20251111T150000
DTSTAMP:20260423T234445
CREATED:20251122T231733Z
LAST-MODIFIED:20251122T231733Z
UID:7330-1762869600-1762873200@www.marksnowentertainment.com
SUMMARY:Otterbein Tipp City
DESCRIPTION:
URL:https://www.marksnowentertainment.com/engagement/otterbein-tipp-city-2/
LOCATION:Otterbein Tipp City\, 4375 S. County Line Road 25A\, Tipp City\, OH\, 45371\, United States
END:VEVENT
BEGIN:VEVENT
DTSTART;TZID=UTC:20251105T160000
DTEND;TZID=UTC:20251105T170000
DTSTAMP:20260423T234445
CREATED:20251122T231625Z
LAST-MODIFIED:20251122T231625Z
UID:7328-1762358400-1762362000@www.marksnowentertainment.com
SUMMARY:Cherry Blossom Senior Living
DESCRIPTION:
URL:https://www.marksnowentertainment.com/engagement/cherry-blossom-senior-living-43/
LOCATION:Cherry Blossom Senior Living\, 79 Blossom Field Boulevard\, Columbus\, OH\, 43213\, United States
END:VEVENT
BEGIN:VEVENT
DTSTART;TZID=UTC:20251031T150000
DTEND;TZID=UTC:20251031T160000
DTSTAMP:20260423T234445
CREATED:20251027T183508Z
LAST-MODIFIED:20251027T183508Z
UID:7325-1761922800-1761926400@www.marksnowentertainment.com
SUMMARY:Norwich Springs Health Campus
DESCRIPTION:
URL:https://www.marksnowentertainment.com/engagement/norwich-springs-health-campus-5/
LOCATION:Norwich Springs Health Campus\, 4680 Library Way\, Hilliard\, OH\, 43026\, United States
END:VEVENT
BEGIN:VEVENT
DTSTART;TZID=UTC:20251029T140000
DTEND;TZID=UTC:20251029T150000
DTSTAMP:20260423T234445
CREATED:20251027T183426Z
LAST-MODIFIED:20251027T183426Z
UID:7323-1761746400-1761750000@www.marksnowentertainment.com
SUMMARY:Cypress Pointe Health Campus
DESCRIPTION:
URL:https://www.marksnowentertainment.com/engagement/cypress-pointe-health-campus-52/
LOCATION:Cypress Pointe Health Campus\, 600 W. National Road\, Englewood\, OH\, 45322\, United States
END:VEVENT
BEGIN:VEVENT
DTSTART;TZID=UTC:20251028T140000
DTEND;TZID=UTC:20251028T150000
DTSTAMP:20260423T234445
CREATED:20251027T183346Z
LAST-MODIFIED:20251027T183346Z
UID:7321-1761660000-1761663600@www.marksnowentertainment.com
SUMMARY:McNaughten Pointe Nursing & Rehab
DESCRIPTION:
URL:https://www.marksnowentertainment.com/engagement/mcnaughten-pointe-nursing-rehab-71/
LOCATION:McNaughten Pointe Nursing & Rehab\, 1425 Yorkland Road\, Columbus\, OH\, United States
END:VEVENT
BEGIN:VEVENT
DTSTART;TZID=UTC:20251024T153000
DTEND;TZID=UTC:20251024T163000
DTSTAMP:20260423T234445
CREATED:20251027T183252Z
LAST-MODIFIED:20251027T183252Z
UID:7319-1761319800-1761323400@www.marksnowentertainment.com
SUMMARY:Forest Glen Rehab and Healthcare Center
DESCRIPTION:
URL:https://www.marksnowentertainment.com/engagement/forest-glen-rehab-and-healthcare-center-5/
LOCATION:Forest Glen Rehab and Healthcare Center\, 2150 Montego Drive\, Springfield\, OH\, United States
END:VEVENT
BEGIN:VEVENT
DTSTART;TZID=UTC:20251022T150000
DTEND;TZID=UTC:20251022T160000
DTSTAMP:20260423T234445
CREATED:20251027T183204Z
LAST-MODIFIED:20251027T183204Z
UID:7317-1761145200-1761148800@www.marksnowentertainment.com
SUMMARY:Creekside at the Village
DESCRIPTION:
URL:https://www.marksnowentertainment.com/engagement/creekside-at-the-village-24/
LOCATION:Creekside at the Village\, 2200 Welcome Place\, Columbus\, OH\, 43209\, United States
END:VEVENT
BEGIN:VEVENT
DTSTART;TZID=UTC:20251018T140000
DTEND;TZID=UTC:20251018T150000
DTSTAMP:20260423T234445
CREATED:20251027T183122Z
LAST-MODIFIED:20251027T183122Z
UID:7315-1760796000-1760799600@www.marksnowentertainment.com
SUMMARY:Bluebird Retirement Community Marysville
DESCRIPTION:
URL:https://www.marksnowentertainment.com/engagement/bluebird-retirement-community-marysville-81/
LOCATION:Bluebird Retirement Community Marysville\, 145 Coleman Crossing Boulevard\, Marysville\, OH\, United States
END:VEVENT
BEGIN:VEVENT
DTSTART;TZID=UTC:20251017T143000
DTEND;TZID=UTC:20251017T153000
DTSTAMP:20260423T234445
CREATED:20251027T183033Z
LAST-MODIFIED:20251027T183033Z
UID:7313-1760711400-1760715000@www.marksnowentertainment.com
SUMMARY:Cypress Pointe Health Campus
DESCRIPTION:
URL:https://www.marksnowentertainment.com/engagement/cypress-pointe-health-campus-51/
LOCATION:Cypress Pointe Health Campus\, 600 W. National Road\, Englewood\, OH\, 45322\, United States
END:VEVENT
BEGIN:VEVENT
DTSTART;TZID=UTC:20251016T160000
DTEND;TZID=UTC:20251016T170000
DTSTAMP:20260423T234445
CREATED:20251027T182947Z
LAST-MODIFIED:20251027T182947Z
UID:7311-1760630400-1760634000@www.marksnowentertainment.com
SUMMARY:Cherry Blossom Senior Living
DESCRIPTION:
URL:https://www.marksnowentertainment.com/engagement/cherry-blossom-senior-living-42/
LOCATION:Cherry Blossom Senior Living\, 79 Blossom Field Boulevard\, Columbus\, OH\, 43213\, United States
END:VEVENT
BEGIN:VEVENT
DTSTART;TZID=UTC:20251015T140000
DTEND;TZID=UTC:20251015T150000
DTSTAMP:20260423T234445
CREATED:20251027T182847Z
LAST-MODIFIED:20251027T182847Z
UID:7309-1760536800-1760540400@www.marksnowentertainment.com
SUMMARY:Vancrest of Urbana
DESCRIPTION:
URL:https://www.marksnowentertainment.com/engagement/vancrest-of-urbana-14/
LOCATION:Vancrest of Urbana\, 2380 US Highway 68 South\, Urbana\, OH\, 43078\, United States
END:VEVENT
BEGIN:VEVENT
DTSTART;TZID=UTC:20251010T140000
DTEND;TZID=UTC:20251010T150000
DTSTAMP:20260423T234445
CREATED:20251027T182754Z
LAST-MODIFIED:20251027T182754Z
UID:7307-1760104800-1760108400@www.marksnowentertainment.com
SUMMARY:Our Home Fairborn
DESCRIPTION:
URL:https://www.marksnowentertainment.com/engagement/our-home-fairborn-20/
LOCATION:Our Home Fairborn\, 7800 Dayton-Springfield Road\, Fairborn\, OH\, 45324\, United States
END:VEVENT
BEGIN:VEVENT
DTSTART;TZID=UTC:20251006T150000
DTEND;TZID=UTC:20251006T160000
DTSTAMP:20260423T234445
CREATED:20251027T182705Z
LAST-MODIFIED:20251027T182705Z
UID:7305-1759762800-1759766400@www.marksnowentertainment.com
SUMMARY:Middleton Senior Living
DESCRIPTION:
URL:https://www.marksnowentertainment.com/engagement/middleton-senior-living-3/
LOCATION:Middleton Senior Living\, 1500 Weaver Drive\, Granville\, OH\, 43023\, United States
END:VEVENT
END:VCALENDAR