BEGIN:VCALENDAR
VERSION:2.0
PRODID:-//Mark Snow Entertainment - ECPv6.15.20//NONSGML v1.0//EN
CALSCALE:GREGORIAN
METHOD:PUBLISH
X-WR-CALNAME:Mark Snow Entertainment
X-ORIGINAL-URL:https://www.marksnowentertainment.com
X-WR-CALDESC:Events for Mark Snow Entertainment
REFRESH-INTERVAL;VALUE=DURATION:PT1H
X-Robots-Tag:noindex
X-PUBLISHED-TTL:PT1H
BEGIN:VTIMEZONE
TZID:UTC
BEGIN:STANDARD
TZOFFSETFROM:+0000
TZOFFSETTO:+0000
TZNAME:UTC
DTSTART:20220101T000000
END:STANDARD
END:VTIMEZONE
BEGIN:VEVENT
DTSTART;TZID=UTC:20240313T143000
DTEND;TZID=UTC:20240313T153000
DTSTAMP:20260425T163103
CREATED:20240315T203517Z
LAST-MODIFIED:20240315T203517Z
UID:6802-1710340200-1710343800@www.marksnowentertainment.com
SUMMARY:Cotter House Worthington
DESCRIPTION:
URL:https://www.marksnowentertainment.com/engagement/cotter-house-worthington-2/
LOCATION:Cotter House Worthington\, 800 Proprietors Road\, Worthington\, OH\, 43085\, United States
END:VEVENT
BEGIN:VEVENT
DTSTART;TZID=UTC:20240312T150000
DTEND;TZID=UTC:20240312T160000
DTSTAMP:20260425T163103
CREATED:20240315T203439Z
LAST-MODIFIED:20240315T203439Z
UID:6800-1710255600-1710259200@www.marksnowentertainment.com
SUMMARY:Hilliard Assisted Living & Memory Care
DESCRIPTION:
URL:https://www.marksnowentertainment.com/engagement/hilliard-assisted-living-memory-care-30/
LOCATION:Traditions of Hilliard\, 4303 Trueman Boulevard\, Hilliard\, OH\, 43026\, United States
END:VEVENT
BEGIN:VEVENT
DTSTART;TZID=UTC:20240311T140000
DTEND;TZID=UTC:20240311T150000
DTSTAMP:20260425T163103
CREATED:20240315T203355Z
LAST-MODIFIED:20240315T203355Z
UID:6798-1710165600-1710169200@www.marksnowentertainment.com
SUMMARY:The Suites at Walnut Creek
DESCRIPTION:
URL:https://www.marksnowentertainment.com/engagement/the-suites-at-walnut-creek-48/
LOCATION:The Suites at Walnut Creek\, 2501 Keystone Club Drive\, Dayton\, OH\, United States
END:VEVENT
BEGIN:VEVENT
DTSTART;TZID=UTC:20240214T120000
DTEND;TZID=UTC:20240214T130000
DTSTAMP:20260425T163103
CREATED:20240211T193325Z
LAST-MODIFIED:20240211T193325Z
UID:6790-1707912000-1707915600@www.marksnowentertainment.com
SUMMARY:Wooded Glen Senior Living
DESCRIPTION:
URL:https://www.marksnowentertainment.com/engagement/wooded-glen-senior-living-51/
LOCATION:Wooded Glen Health Campus\, 2900 Bechtle Avenue\, Springfield\, OH\, 45504\, United States
END:VEVENT
BEGIN:VEVENT
DTSTART;TZID=UTC:20240213T183000
DTEND;TZID=UTC:20240213T193000
DTSTAMP:20260425T163103
CREATED:20240211T193246Z
LAST-MODIFIED:20240211T193246Z
UID:6788-1707849000-1707852600@www.marksnowentertainment.com
SUMMARY:Creekside at the Village
DESCRIPTION:
URL:https://www.marksnowentertainment.com/engagement/creekside-at-the-village-12/
LOCATION:Creekside at the Village\, 2200 Welcome Place\, Columbus\, OH\, 43209\, United States
END:VEVENT
BEGIN:VEVENT
DTSTART;TZID=UTC:20240213T150000
DTEND;TZID=UTC:20240213T160000
DTSTAMP:20260425T163103
CREATED:20240211T193217Z
LAST-MODIFIED:20240211T193217Z
UID:6786-1707836400-1707840000@www.marksnowentertainment.com
SUMMARY:Hilliard Assisted Living & Memory Care
DESCRIPTION:
URL:https://www.marksnowentertainment.com/engagement/hilliard-assisted-living-memory-care-29/
LOCATION:Traditions of Hilliard\, 4303 Trueman Boulevard\, Hilliard\, OH\, 43026\, United States
END:VEVENT
BEGIN:VEVENT
DTSTART;TZID=UTC:20240212T140000
DTEND;TZID=UTC:20240212T150000
DTSTAMP:20260425T163103
CREATED:20240211T193139Z
LAST-MODIFIED:20240211T193139Z
UID:6784-1707746400-1707750000@www.marksnowentertainment.com
SUMMARY:The Suites at Walnut Creek
DESCRIPTION:
URL:https://www.marksnowentertainment.com/engagement/the-suites-at-walnut-creek-47/
LOCATION:The Suites at Walnut Creek\, 2501 Keystone Club Drive\, Dayton\, OH\, United States
END:VEVENT
BEGIN:VEVENT
DTSTART;TZID=UTC:20240209T153000
DTEND;TZID=UTC:20240209T163000
DTSTAMP:20260425T163103
CREATED:20240205T131239Z
LAST-MODIFIED:20240205T131239Z
UID:6782-1707492600-1707496200@www.marksnowentertainment.com
SUMMARY:Forest Glen Health Campus
DESCRIPTION:
URL:https://www.marksnowentertainment.com/engagement/forest-glen-health-campus-59/
LOCATION:Forest Glen Rehab and Healthcare Center\, 2150 Montego Drive\, Springfield\, OH\, United States
END:VEVENT
BEGIN:VEVENT
DTSTART;TZID=UTC:20240202T140000
DTEND;TZID=UTC:20240202T150000
DTSTAMP:20260425T163103
CREATED:20240127T132938Z
LAST-MODIFIED:20240127T132938Z
UID:6779-1706882400-1706886000@www.marksnowentertainment.com
SUMMARY:Our Home Fairborn
DESCRIPTION:
URL:https://www.marksnowentertainment.com/engagement/our-home-fairborn-4/
LOCATION:Our Home Fairborn\, 7800 Dayton-Springfield Road\, Fairborn\, OH\, 45324\, United States
END:VEVENT
BEGIN:VEVENT
DTSTART;TZID=UTC:20240130T140000
DTEND;TZID=UTC:20240130T150000
DTSTAMP:20260425T163103
CREATED:20240127T132844Z
LAST-MODIFIED:20240127T132844Z
UID:6777-1706623200-1706626800@www.marksnowentertainment.com
SUMMARY:McNaughten Pointe Nursing & Rehab
DESCRIPTION:
URL:https://www.marksnowentertainment.com/engagement/mcnaughten-pointe-nursing-rehab-60/
LOCATION:McNaughten Pointe Nursing & Rehab\, 1425 Yorkland Road\, Columbus\, OH\, United States
END:VEVENT
BEGIN:VEVENT
DTSTART;TZID=UTC:20240126T160000
DTEND;TZID=UTC:20240126T170000
DTSTAMP:20260425T163103
CREATED:20240120T150018Z
LAST-MODIFIED:20240120T150018Z
UID:6774-1706284800-1706288400@www.marksnowentertainment.com
SUMMARY:Feridean Commons
DESCRIPTION:
URL:https://www.marksnowentertainment.com/engagement/feridean-commons-27/
LOCATION:Feridean Commons\, 6885 Freeman Road\, Westerville\, OH\, United States
END:VEVENT
BEGIN:VEVENT
DTSTART;TZID=UTC:20240125T130000
DTEND;TZID=UTC:20240125T140000
DTSTAMP:20260425T163103
CREATED:20240120T145937Z
LAST-MODIFIED:20240120T145937Z
UID:6772-1706187600-1706191200@www.marksnowentertainment.com
SUMMARY:Cypress Pointe Health Campus
DESCRIPTION:
URL:https://www.marksnowentertainment.com/engagement/cypress-pointe-health-campus-23/
LOCATION:Cypress Pointe Health Campus\, 600 W. National Road\, Englewood\, OH\, 45322\, United States
END:VEVENT
BEGIN:VEVENT
DTSTART;TZID=UTC:20240124T150000
DTEND;TZID=UTC:20240124T160000
DTSTAMP:20260425T163103
CREATED:20240120T145850Z
LAST-MODIFIED:20240120T145850Z
UID:6770-1706108400-1706112000@www.marksnowentertainment.com
SUMMARY:Cherry Blossom Senior Living
DESCRIPTION:
URL:https://www.marksnowentertainment.com/engagement/cherry-blossom-senior-living-23/
LOCATION:Cherry Blossom Senior Living\, 79 Blossom Field Boulevard\, Columbus\, OH\, 43213\, United States
END:VEVENT
BEGIN:VEVENT
DTSTART;TZID=UTC:20240120T140000
DTEND;TZID=UTC:20240120T150000
DTSTAMP:20260425T163103
CREATED:20240115T014106Z
LAST-MODIFIED:20240115T014106Z
UID:6768-1705759200-1705762800@www.marksnowentertainment.com
SUMMARY:Bluebird Retirement Community Marysville
DESCRIPTION:
URL:https://www.marksnowentertainment.com/engagement/bluebird-retirement-community-marysville-52/
LOCATION:Bluebird Retirement Community Marysville\, 145 Coleman Crossing Boulevard\, Marysville\, OH\, United States
END:VEVENT
BEGIN:VEVENT
DTSTART;TZID=UTC:20240119T140000
DTEND;TZID=UTC:20240119T150000
DTSTAMP:20260425T163103
CREATED:20240115T014021Z
LAST-MODIFIED:20240115T014021Z
UID:6766-1705672800-1705676400@www.marksnowentertainment.com
SUMMARY:Paramount Senior Living at Polaris
DESCRIPTION:
URL:https://www.marksnowentertainment.com/engagement/paramount-senior-living-at-polaris-4/
LOCATION:Paramount Senior Living at Polaris\, 702 Polaris Parkway\, Westerville\, OH\, 43082\, United States
END:VEVENT
BEGIN:VEVENT
DTSTART;TZID=UTC:20240116T140000
DTEND;TZID=UTC:20240116T150000
DTSTAMP:20260425T163103
CREATED:20240115T013930Z
LAST-MODIFIED:20240115T013930Z
UID:6764-1705413600-1705417200@www.marksnowentertainment.com
SUMMARY:Wooded Glen Senior Living
DESCRIPTION:
URL:https://www.marksnowentertainment.com/engagement/wooded-glen-senior-living-50/
LOCATION:Wooded Glen Health Campus\, 2900 Bechtle Avenue\, Springfield\, OH\, 45504\, United States
END:VEVENT
BEGIN:VEVENT
DTSTART;TZID=UTC:20240115T140000
DTEND;TZID=UTC:20240115T150000
DTSTAMP:20260425T163103
CREATED:20240115T013851Z
LAST-MODIFIED:20240115T013851Z
UID:6762-1705327200-1705330800@www.marksnowentertainment.com
SUMMARY:Riverview Health & Rehab Center
DESCRIPTION:
URL:https://www.marksnowentertainment.com/engagement/riverview-health-rehab-center-2/
LOCATION:Riverview Health & Rehab Center\, 3700 Olentangy River Road\, Columbus\, OH\, 43214\, United States
END:VEVENT
BEGIN:VEVENT
DTSTART;TZID=UTC:20240112T140000
DTEND;TZID=UTC:20240112T150000
DTSTAMP:20260425T163103
CREATED:20240108T123624Z
LAST-MODIFIED:20240108T123624Z
UID:6759-1705068000-1705071600@www.marksnowentertainment.com
SUMMARY:Our Home Fairborn
DESCRIPTION:
URL:https://www.marksnowentertainment.com/engagement/our-home-fairborn-3/
LOCATION:Our Home Fairborn\, 7800 Dayton-Springfield Road\, Fairborn\, OH\, 45324\, United States
END:VEVENT
BEGIN:VEVENT
DTSTART;TZID=UTC:20240110T143000
DTEND;TZID=UTC:20240110T153000
DTSTAMP:20260425T163103
CREATED:20240108T123542Z
LAST-MODIFIED:20240108T123542Z
UID:6757-1704897000-1704900600@www.marksnowentertainment.com
SUMMARY:Cotter House Worthington
DESCRIPTION:
URL:https://www.marksnowentertainment.com/engagement/cotter-house-worthington/
LOCATION:Cotter House Worthington\, 800 Proprietors Road\, Worthington\, OH\, 43085\, United States
END:VEVENT
BEGIN:VEVENT
DTSTART;TZID=UTC:20240109T150000
DTEND;TZID=UTC:20240109T160000
DTSTAMP:20260425T163103
CREATED:20240108T123303Z
LAST-MODIFIED:20240108T123303Z
UID:6753-1704812400-1704816000@www.marksnowentertainment.com
SUMMARY:Hilliard Assisted Living & Memory Care
DESCRIPTION:
URL:https://www.marksnowentertainment.com/engagement/hilliard-assisted-living-memory-care-23/
LOCATION:Traditions of Hilliard\, 4303 Trueman Boulevard\, Hilliard\, OH\, 43026\, United States
END:VEVENT
BEGIN:VEVENT
DTSTART;TZID=UTC:20240108T140000
DTEND;TZID=UTC:20240108T150000
DTSTAMP:20260425T163103
CREATED:20240108T123220Z
LAST-MODIFIED:20240108T123220Z
UID:6751-1704722400-1704726000@www.marksnowentertainment.com
SUMMARY:The Suites at Walnut Creek
DESCRIPTION:
URL:https://www.marksnowentertainment.com/engagement/the-suites-at-walnut-creek-46/
LOCATION:The Suites at Walnut Creek\, 2501 Keystone Club Drive\, Dayton\, OH\, United States
END:VEVENT
BEGIN:VEVENT
DTSTART;TZID=UTC:20240105T153000
DTEND;TZID=UTC:20240105T163000
DTSTAMP:20260425T163103
CREATED:20240102T131225Z
LAST-MODIFIED:20240102T131225Z
UID:6749-1704468600-1704472200@www.marksnowentertainment.com
SUMMARY:Forest Glen Health Campus
DESCRIPTION:
URL:https://www.marksnowentertainment.com/engagement/forest-glen-health-campus-58/
LOCATION:Forest Glen Rehab and Healthcare Center\, 2150 Montego Drive\, Springfield\, OH\, United States
END:VEVENT
BEGIN:VEVENT
DTSTART;VALUE=DATE:20231222
DTEND;VALUE=DATE:20240102
DTSTAMP:20260425T163103
CREATED:20221124T163237Z
LAST-MODIFIED:20231223T165650Z
UID:6263-1703203200-1704153599@www.marksnowentertainment.com
SUMMARY:UNAVAILABLE FOR BOOKINGS
DESCRIPTION:
URL:https://www.marksnowentertainment.com/engagement/unavailable-for-bookings-44/
LOCATION:OH
END:VEVENT
BEGIN:VEVENT
DTSTART;TZID=UTC:20231221T173000
DTEND;TZID=UTC:20231221T183000
DTSTAMP:20260425T163103
CREATED:20230103T002532Z
LAST-MODIFIED:20231223T165556Z
UID:6339-1703179800-1703183400@www.marksnowentertainment.com
SUMMARY:Vienna Springs Health Campus
DESCRIPTION:
URL:https://www.marksnowentertainment.com/engagement/vienna-springs-health-campus-18/
LOCATION:Vienna Springs Health Campus\, 2510 Vienna Parkway\, Dayton\, OH\, 45459\, United States
END:VEVENT
BEGIN:VEVENT
DTSTART;TZID=UTC:20231220T143000
DTEND;TZID=UTC:20231220T153000
DTSTAMP:20260425T163103
CREATED:20231223T165903Z
LAST-MODIFIED:20231223T165903Z
UID:6728-1703082600-1703086200@www.marksnowentertainment.com
SUMMARY:Grace Brethren Village
DESCRIPTION:
URL:https://www.marksnowentertainment.com/engagement/grace-brethren-village-4/
LOCATION:Grace Brethren Village\, 1010 Taywood Road\, Englewood\, DC\, 45322\, United States
END:VEVENT
BEGIN:VEVENT
DTSTART;TZID=UTC:20231219T180000
DTEND;TZID=UTC:20231219T190000
DTSTAMP:20260425T163103
CREATED:20231223T165816Z
LAST-MODIFIED:20231223T165816Z
UID:6726-1703008800-1703012400@www.marksnowentertainment.com
SUMMARY:The Landings of Westerville
DESCRIPTION:
URL:https://www.marksnowentertainment.com/engagement/the-landings-of-westerville-11/
LOCATION:OH
END:VEVENT
BEGIN:VEVENT
DTSTART;TZID=UTC:20231219T140000
DTEND;TZID=UTC:20231219T150000
DTSTAMP:20260425T163103
CREATED:20231223T165747Z
LAST-MODIFIED:20231223T165747Z
UID:6724-1702994400-1702998000@www.marksnowentertainment.com
SUMMARY:McNaughten Pointe Nursing & Rehab
DESCRIPTION:
URL:https://www.marksnowentertainment.com/engagement/mcnaughten-pointe-nursing-rehab-59/
LOCATION:McNaughten Pointe Nursing & Rehab\, 1425 Yorkland Road\, Columbus\, OH\, United States
END:VEVENT
BEGIN:VEVENT
DTSTART;TZID=UTC:20231216T140000
DTEND;TZID=UTC:20231216T150000
DTSTAMP:20260425T163103
CREATED:20221113T214803Z
LAST-MODIFIED:20221113T214803Z
UID:6222-1702735200-1702738800@www.marksnowentertainment.com
SUMMARY:Bluebird Retirement Community Marysville
DESCRIPTION:
URL:https://www.marksnowentertainment.com/engagement/bluebird-retirement-community-marysville-65/
LOCATION:Bluebird Retirement Community Marysville\, 145 Coleman Crossing Boulevard\, Marysville\, OH\, United States
END:VEVENT
BEGIN:VEVENT
DTSTART;TZID=UTC:20231215T150000
DTEND;TZID=UTC:20231215T160000
DTSTAMP:20260425T163103
CREATED:20221112T234158Z
LAST-MODIFIED:20221112T234158Z
UID:6186-1702652400-1702656000@www.marksnowentertainment.com
SUMMARY:Brookdale Pinnacle
DESCRIPTION:
URL:https://www.marksnowentertainment.com/engagement/brookdale-pinnacle-18/
LOCATION:Brookdale Pinnacle\, 1305 Lamplighter Drive\, Grove City\, OH\, 43123\, United States
END:VEVENT
BEGIN:VEVENT
DTSTART;TZID=UTC:20231214T140000
DTEND;TZID=UTC:20231214T150000
DTSTAMP:20260425T163103
CREATED:20231211T120846Z
LAST-MODIFIED:20231211T120846Z
UID:6721-1702562400-1702566000@www.marksnowentertainment.com
SUMMARY:Allen View Healthcare Center
DESCRIPTION:
URL:https://www.marksnowentertainment.com/engagement/allen-view-healthcare-center-3/
LOCATION:Allen View Healthcare Center\, 2615 Derr Road\, Springfield\, OH\, 45503\, United States
END:VEVENT
END:VCALENDAR