BEGIN:VCALENDAR
VERSION:2.0
PRODID:-//Mark Snow Entertainment - ECPv6.15.20//NONSGML v1.0//EN
CALSCALE:GREGORIAN
METHOD:PUBLISH
X-ORIGINAL-URL:https://www.marksnowentertainment.com
X-WR-CALDESC:Events for Mark Snow Entertainment
REFRESH-INTERVAL;VALUE=DURATION:PT1H
X-Robots-Tag:noindex
X-PUBLISHED-TTL:PT1H
BEGIN:VTIMEZONE
TZID:UTC
BEGIN:STANDARD
TZOFFSETFROM:+0000
TZOFFSETTO:+0000
TZNAME:UTC
DTSTART:20230101T000000
END:STANDARD
END:VTIMEZONE
BEGIN:VEVENT
DTSTART;TZID=UTC:20240829T140000
DTEND;TZID=UTC:20240829T150000
DTSTAMP:20260425T112314
CREATED:20240829T140945Z
LAST-MODIFIED:20240829T140945Z
UID:6967-1724940000-1724943600@www.marksnowentertainment.com
SUMMARY:Vancrest of Urbana
DESCRIPTION:
URL:https://www.marksnowentertainment.com/engagement/vancrest-of-urbana/
LOCATION:Vancrest of Urbana\, 2380 US Highway 68 South\, Urbana\, OH\, 43078\, United States
END:VEVENT
BEGIN:VEVENT
DTSTART;VALUE=DATE:20240902
DTEND;VALUE=DATE:20240903
DTSTAMP:20260425T112314
CREATED:20231224T153208Z
LAST-MODIFIED:20240820T124411Z
UID:6734-1725235200-1725321599@www.marksnowentertainment.com
SUMMARY:UNAVAILABLE FOR BOOKINGS
DESCRIPTION:
URL:https://www.marksnowentertainment.com/engagement/unavailable-for-bookings-48/
LOCATION:OH
END:VEVENT
BEGIN:VEVENT
DTSTART;VALUE=DATE:20240904
DTEND;VALUE=DATE:20240905
DTSTAMP:20260425T112314
CREATED:20240829T141214Z
LAST-MODIFIED:20240829T141214Z
UID:6971-1725408000-1725494399@www.marksnowentertainment.com
SUMMARY:UNAVAILABLE FOR BOOKINGS
DESCRIPTION:
URL:https://www.marksnowentertainment.com/engagement/unavailable-for-bookings-58/
LOCATION:OH
END:VEVENT
BEGIN:VEVENT
DTSTART;TZID=UTC:20240905T140000
DTEND;TZID=UTC:20240905T150000
DTSTAMP:20260425T112314
CREATED:20240829T141311Z
LAST-MODIFIED:20240829T141311Z
UID:6973-1725544800-1725548400@www.marksnowentertainment.com
SUMMARY:Forest Glen Health Campus
DESCRIPTION:
URL:https://www.marksnowentertainment.com/engagement/forest-glen-health-campus-66/
LOCATION:Forest Glen Rehab and Healthcare Center\, 2150 Montego Drive\, Springfield\, OH\, United States
END:VEVENT
BEGIN:VEVENT
DTSTART;TZID=UTC:20240906T140000
DTEND;TZID=UTC:20240906T150000
DTSTAMP:20260425T112314
CREATED:20240829T141344Z
LAST-MODIFIED:20240829T141344Z
UID:6975-1725631200-1725634800@www.marksnowentertainment.com
SUMMARY:Our Home Fairborn
DESCRIPTION:
URL:https://www.marksnowentertainment.com/engagement/our-home-fairborn-9/
LOCATION:Our Home Fairborn\, 7800 Dayton-Springfield Road\, Fairborn\, OH\, 45324\, United States
END:VEVENT
BEGIN:VEVENT
DTSTART;TZID=UTC:20240909T150000
DTEND;TZID=UTC:20240909T160000
DTSTAMP:20260425T112314
CREATED:20240910T234052Z
LAST-MODIFIED:20240910T234052Z
UID:6978-1725894000-1725897600@www.marksnowentertainment.com
SUMMARY:Cypress Pointe Health Campus
DESCRIPTION:
URL:https://www.marksnowentertainment.com/engagement/cypress-pointe-health-campus-31/
LOCATION:Cypress Pointe Health Campus\, 600 W. National Road\, Englewood\, OH\, 45322\, United States
END:VEVENT
BEGIN:VEVENT
DTSTART;TZID=UTC:20240911T143000
DTEND;TZID=UTC:20240911T153000
DTSTAMP:20260425T112314
CREATED:20240910T234124Z
LAST-MODIFIED:20240910T234124Z
UID:6980-1726065000-1726068600@www.marksnowentertainment.com
SUMMARY:Cotter House Worthington
DESCRIPTION:
URL:https://www.marksnowentertainment.com/engagement/cotter-house-worthington-5/
LOCATION:Cotter House Worthington\, 800 Proprietors Road\, Worthington\, OH\, 43085\, United States
END:VEVENT
BEGIN:VEVENT
DTSTART;VALUE=DATE:20240912
DTEND;VALUE=DATE:20240917
DTSTAMP:20260425T112314
CREATED:20240812T164214Z
LAST-MODIFIED:20240812T164235Z
UID:6950-1726099200-1726531199@www.marksnowentertainment.com
SUMMARY:UNAVAILABLE FOR BOOKINGS
DESCRIPTION:
URL:https://www.marksnowentertainment.com/engagement/unavailable-for-bookings-56/
LOCATION:OH
END:VEVENT
BEGIN:VEVENT
DTSTART;TZID=UTC:20240917T150000
DTEND;TZID=UTC:20240917T160000
DTSTAMP:20260425T112314
CREATED:20240910T234238Z
LAST-MODIFIED:20240910T234238Z
UID:6982-1726585200-1726588800@www.marksnowentertainment.com
SUMMARY:Cherry Blossom Senior Living
DESCRIPTION:
URL:https://www.marksnowentertainment.com/engagement/cherry-blossom-senior-living-29/
LOCATION:Cherry Blossom Senior Living\, 79 Blossom Field Boulevard\, Columbus\, OH\, 43213\, United States
END:VEVENT
BEGIN:VEVENT
DTSTART;TZID=UTC:20240918T130000
DTEND;TZID=UTC:20240918T133000
DTSTAMP:20260425T112314
CREATED:20240910T234314Z
LAST-MODIFIED:20240910T234314Z
UID:6984-1726664400-1726666200@www.marksnowentertainment.com
SUMMARY:Court House Manor
DESCRIPTION:
URL:https://www.marksnowentertainment.com/engagement/court-house-manor-22/
LOCATION:Court House Manor\, 555 N. Glenn Avenue\, Washington Court House\, OH\, 43160\, United States
END:VEVENT
BEGIN:VEVENT
DTSTART;TZID=UTC:20240919T143000
DTEND;TZID=UTC:20240919T153000
DTSTAMP:20260425T112314
CREATED:20240910T234427Z
LAST-MODIFIED:20240910T234427Z
UID:6988-1726756200-1726759800@www.marksnowentertainment.com
SUMMARY:Grace Brethren Village
DESCRIPTION:
URL:https://www.marksnowentertainment.com/engagement/grace-brethren-village-6/
LOCATION:Grace Brethren Village\, 1010 Taywood Road\, Englewood\, DC\, 45322\, United States
END:VEVENT
BEGIN:VEVENT
DTSTART;TZID=UTC:20240920T140000
DTEND;TZID=UTC:20240920T150000
DTSTAMP:20260425T112314
CREATED:20240910T234506Z
LAST-MODIFIED:20240910T234506Z
UID:6990-1726840800-1726844400@www.marksnowentertainment.com
SUMMARY:Paramount Senior Living at Polaris
DESCRIPTION:
URL:https://www.marksnowentertainment.com/engagement/paramount-senior-living-at-polaris-10/
LOCATION:Paramount Senior Living at Polaris\, 702 Polaris Parkway\, Westerville\, OH\, 43082\, United States
END:VEVENT
BEGIN:VEVENT
DTSTART;TZID=UTC:20240921T140000
DTEND;TZID=UTC:20240921T150000
DTSTAMP:20260425T112314
CREATED:20240910T234547Z
LAST-MODIFIED:20240910T234547Z
UID:6992-1726927200-1726930800@www.marksnowentertainment.com
SUMMARY:Bluebird Retirement Community Marysville
DESCRIPTION:
URL:https://www.marksnowentertainment.com/engagement/bluebird-retirement-community-marysville-70/
LOCATION:Bluebird Retirement Community Marysville\, 145 Coleman Crossing Boulevard\, Marysville\, OH\, United States
END:VEVENT
BEGIN:VEVENT
DTSTART;TZID=UTC:20240923T140000
DTEND;TZID=UTC:20240923T150000
DTSTAMP:20260425T112314
CREATED:20240930T181728Z
LAST-MODIFIED:20240930T181728Z
UID:7000-1727100000-1727103600@www.marksnowentertainment.com
SUMMARY:Spring Hills Singing Woods
DESCRIPTION:
URL:https://www.marksnowentertainment.com/engagement/spring-hills-singing-woods-30/
LOCATION:Spring Hills Singing Woods\, 140 E. Woodbury Drive\, Dayton\, OH\, 45415\, United States
END:VEVENT
BEGIN:VEVENT
DTSTART;TZID=UTC:20240924T120000
DTEND;TZID=UTC:20240924T130000
DTSTAMP:20260425T112314
CREATED:20240930T181807Z
LAST-MODIFIED:20240930T181807Z
UID:7002-1727179200-1727182800@www.marksnowentertainment.com
SUMMARY:Wooded Glen Senior Living
DESCRIPTION:
URL:https://www.marksnowentertainment.com/engagement/wooded-glen-senior-living-57/
LOCATION:Wooded Glen Health Campus\, 2900 Bechtle Avenue\, Springfield\, OH\, 45504\, United States
END:VEVENT
BEGIN:VEVENT
DTSTART;TZID=UTC:20240925T140000
DTEND;TZID=UTC:20240925T150000
DTSTAMP:20260425T112314
CREATED:20240930T181857Z
LAST-MODIFIED:20240930T181857Z
UID:7004-1727272800-1727276400@www.marksnowentertainment.com
SUMMARY:McNaughten Pointe Nursing & Rehab
DESCRIPTION:
URL:https://www.marksnowentertainment.com/engagement/mcnaughten-pointe-nursing-rehab-64/
LOCATION:McNaughten Pointe Nursing & Rehab\, 1425 Yorkland Road\, Columbus\, OH\, United States
END:VEVENT
BEGIN:VEVENT
DTSTART;TZID=UTC:20240926T140000
DTEND;TZID=UTC:20240926T150000
DTSTAMP:20260425T112314
CREATED:20240930T181940Z
LAST-MODIFIED:20240930T181940Z
UID:7006-1727359200-1727362800@www.marksnowentertainment.com
SUMMARY:Vancrest of Urbana
DESCRIPTION:
URL:https://www.marksnowentertainment.com/engagement/vancrest-of-urbana-2/
LOCATION:Vancrest of Urbana\, 2380 US Highway 68 South\, Urbana\, OH\, 43078\, United States
END:VEVENT
BEGIN:VEVENT
DTSTART;TZID=UTC:20240926T173000
DTEND;TZID=UTC:20240926T183000
DTSTAMP:20260425T112314
CREATED:20240930T182033Z
LAST-MODIFIED:20240930T182033Z
UID:7008-1727371800-1727375400@www.marksnowentertainment.com
SUMMARY:Mill Ridge Village
DESCRIPTION:
URL:https://www.marksnowentertainment.com/engagement/mill-ridge-village-2/
LOCATION:Mill Ridge Village\, 1000 Mill Ridge Circle\, Union\, OH\, United States
END:VEVENT
BEGIN:VEVENT
DTSTART;TZID=UTC:20240927T150000
DTEND;TZID=UTC:20240927T160000
DTSTAMP:20260425T112314
CREATED:20240930T182225Z
LAST-MODIFIED:20240930T182225Z
UID:7014-1727449200-1727452800@www.marksnowentertainment.com
SUMMARY:Cypress Pointe Health Campus
DESCRIPTION:
URL:https://www.marksnowentertainment.com/engagement/cypress-pointe-health-campus-32/
LOCATION:Cypress Pointe Health Campus\, 600 W. National Road\, Englewood\, OH\, 45322\, United States
END:VEVENT
BEGIN:VEVENT
DTSTART;VALUE=DATE:20240928
DTEND;VALUE=DATE:20241008
DTSTAMP:20260425T112314
CREATED:20231224T153307Z
LAST-MODIFIED:20240930T182322Z
UID:6736-1727481600-1728345599@www.marksnowentertainment.com
SUMMARY:UNAVAILABLE FOR BOOKINGS
DESCRIPTION:
URL:https://www.marksnowentertainment.com/engagement/unavailable-for-bookings-49/
LOCATION:OH
END:VEVENT
BEGIN:VEVENT
DTSTART;TZID=UTC:20241008T183000
DTEND;TZID=UTC:20241008T193000
DTSTAMP:20260425T112314
CREATED:20241007T122356Z
LAST-MODIFIED:20241007T122356Z
UID:7017-1728412200-1728415800@www.marksnowentertainment.com
SUMMARY:Creekside at the Village
DESCRIPTION:
URL:https://www.marksnowentertainment.com/engagement/creekside-at-the-village-18/
LOCATION:Creekside at the Village\, 2200 Welcome Place\, Columbus\, OH\, 43209\, United States
END:VEVENT
BEGIN:VEVENT
DTSTART;TZID=UTC:20241009T120000
DTEND;TZID=UTC:20241009T130000
DTSTAMP:20260425T112314
CREATED:20241007T122430Z
LAST-MODIFIED:20241007T122430Z
UID:7019-1728475200-1728478800@www.marksnowentertainment.com
SUMMARY:Wooded Glen Senior Living
DESCRIPTION:
URL:https://www.marksnowentertainment.com/engagement/wooded-glen-senior-living-58/
LOCATION:Wooded Glen Health Campus\, 2900 Bechtle Avenue\, Springfield\, OH\, 45504\, United States
END:VEVENT
BEGIN:VEVENT
DTSTART;TZID=UTC:20241010T130000
DTEND;TZID=UTC:20241010T140000
DTSTAMP:20260425T112314
CREATED:20241007T122502Z
LAST-MODIFIED:20241007T122502Z
UID:7021-1728565200-1728568800@www.marksnowentertainment.com
SUMMARY:Court House Manor
DESCRIPTION:
URL:https://www.marksnowentertainment.com/engagement/court-house-manor-23/
LOCATION:Court House Manor\, 555 N. Glenn Avenue\, Washington Court House\, OH\, 43160\, United States
END:VEVENT
BEGIN:VEVENT
DTSTART;TZID=UTC:20241010T150000
DTEND;TZID=UTC:20241010T160000
DTSTAMP:20260425T112314
CREATED:20241007T122534Z
LAST-MODIFIED:20241007T122534Z
UID:7023-1728572400-1728576000@www.marksnowentertainment.com
SUMMARY:St. Catherine's Manor
DESCRIPTION:
URL:https://www.marksnowentertainment.com/engagement/st-catherines-manor-22/
LOCATION:St. Catherine’s Manor\, 250 Glenn Avenue\, Washington Court House\, OH\, 43160\, United States
END:VEVENT
BEGIN:VEVENT
DTSTART;TZID=UTC:20241011T153000
DTEND;TZID=UTC:20241011T163000
DTSTAMP:20260425T112314
CREATED:20241007T122628Z
LAST-MODIFIED:20241007T122628Z
UID:7025-1728660600-1728664200@www.marksnowentertainment.com
SUMMARY:Forest Glen Health Campus
DESCRIPTION:
URL:https://www.marksnowentertainment.com/engagement/forest-glen-health-campus-67/
LOCATION:Forest Glen Rehab and Healthcare Center\, 2150 Montego Drive\, Springfield\, OH\, United States
END:VEVENT
BEGIN:VEVENT
DTSTART;VALUE=DATE:20241012
DTEND;VALUE=DATE:20241014
DTSTAMP:20260425T112314
CREATED:20241007T122751Z
LAST-MODIFIED:20241007T122751Z
UID:7027-1728691200-1728863999@www.marksnowentertainment.com
SUMMARY:UNAVAILABLE FOR BOOKINGS
DESCRIPTION:
URL:https://www.marksnowentertainment.com/engagement/unavailable-for-bookings-59/
LOCATION:OH
END:VEVENT
BEGIN:VEVENT
DTSTART;TZID=UTC:20241015T143000
DTEND;TZID=UTC:20241015T153000
DTSTAMP:20260425T112314
CREATED:20241014T184844Z
LAST-MODIFIED:20241014T184844Z
UID:7029-1729002600-1729006200@www.marksnowentertainment.com
SUMMARY:Our Home Fairborn
DESCRIPTION:
URL:https://www.marksnowentertainment.com/engagement/our-home-fairborn-10/
LOCATION:Our Home Fairborn\, 7800 Dayton-Springfield Road\, Fairborn\, OH\, 45324\, United States
END:VEVENT
BEGIN:VEVENT
DTSTART;TZID=UTC:20241018T150000
DTEND;TZID=UTC:20241018T160000
DTSTAMP:20260425T112314
CREATED:20241014T184930Z
LAST-MODIFIED:20241014T184930Z
UID:7031-1729263600-1729267200@www.marksnowentertainment.com
SUMMARY:Cypress Pointe Health Campus
DESCRIPTION:
URL:https://www.marksnowentertainment.com/engagement/cypress-pointe-health-campus-33/
LOCATION:Cypress Pointe Health Campus\, 600 W. National Road\, Englewood\, OH\, 45322\, United States
END:VEVENT
BEGIN:VEVENT
DTSTART;TZID=UTC:20241019T140000
DTEND;TZID=UTC:20241019T150000
DTSTAMP:20260425T112314
CREATED:20241014T185015Z
LAST-MODIFIED:20241014T185015Z
UID:7033-1729346400-1729350000@www.marksnowentertainment.com
SUMMARY:Bluebird Retirement Community Marysville
DESCRIPTION:
URL:https://www.marksnowentertainment.com/engagement/bluebird-retirement-community-marysville-71/
LOCATION:Bluebird Retirement Community Marysville\, 145 Coleman Crossing Boulevard\, Marysville\, OH\, United States
END:VEVENT
BEGIN:VEVENT
DTSTART;TZID=UTC:20241101T150000
DTEND;TZID=UTC:20241101T160000
DTSTAMP:20260425T112314
CREATED:20241109T220811Z
LAST-MODIFIED:20241109T220811Z
UID:7039-1730473200-1730476800@www.marksnowentertainment.com
SUMMARY:Norwich Springs Health Campus
DESCRIPTION:
URL:https://www.marksnowentertainment.com/engagement/norwich-springs-health-campus/
LOCATION:Norwich Springs Health Campus\, 4680 Library Way\, Hilliard\, OH\, 43026\, United States
END:VEVENT
END:VCALENDAR