BEGIN:VCALENDAR
VERSION:2.0
PRODID:-//Mark Snow Entertainment - ECPv6.15.20//NONSGML v1.0//EN
CALSCALE:GREGORIAN
METHOD:PUBLISH
X-WR-CALNAME:Mark Snow Entertainment
X-ORIGINAL-URL:https://www.marksnowentertainment.com
X-WR-CALDESC:Events for Mark Snow Entertainment
REFRESH-INTERVAL;VALUE=DURATION:PT1H
X-Robots-Tag:noindex
X-PUBLISHED-TTL:PT1H
BEGIN:VTIMEZONE
TZID:UTC
BEGIN:STANDARD
TZOFFSETFROM:+0000
TZOFFSETTO:+0000
TZNAME:UTC
DTSTART:20220101T000000
END:STANDARD
END:VTIMEZONE
BEGIN:VEVENT
DTSTART;TZID=UTC:20230823T180000
DTEND;TZID=UTC:20230823T190000
DTSTAMP:20260426T042703
CREATED:20230103T002245Z
LAST-MODIFIED:20230103T002245Z
UID:6331-1692813600-1692817200@www.marksnowentertainment.com
SUMMARY:Vienna Springs Health Campus
DESCRIPTION:
URL:https://www.marksnowentertainment.com/engagement/vienna-springs-health-campus-14/
LOCATION:Vienna Springs Health Campus\, 2510 Vienna Parkway\, Dayton\, OH\, 45459\, United States
END:VEVENT
BEGIN:VEVENT
DTSTART;TZID=UTC:20230822T140000
DTEND;TZID=UTC:20230822T150000
DTSTAMP:20260426T042703
CREATED:20230820T172410Z
LAST-MODIFIED:20230820T172410Z
UID:6598-1692712800-1692716400@www.marksnowentertainment.com
SUMMARY:Forest Glen Health Campus
DESCRIPTION:
URL:https://www.marksnowentertainment.com/engagement/forest-glen-health-campus-54/
LOCATION:Forest Glen Rehab and Healthcare Center\, 2150 Montego Drive\, Springfield\, OH\, United States
END:VEVENT
BEGIN:VEVENT
DTSTART;TZID=UTC:20230821T140000
DTEND;TZID=UTC:20230821T150000
DTSTAMP:20260426T042703
CREATED:20221001T181005Z
LAST-MODIFIED:20221001T181005Z
UID:6039-1692626400-1692630000@www.marksnowentertainment.com
SUMMARY:Spring Hills Singing Woods
DESCRIPTION:
URL:https://www.marksnowentertainment.com/engagement/spring-hills-singing-woods-26/
LOCATION:Spring Hills Singing Woods\, 140 E. Woodbury Drive\, Dayton\, OH\, 45415\, United States
END:VEVENT
BEGIN:VEVENT
DTSTART;TZID=UTC:20230819T140000
DTEND;TZID=UTC:20230819T150000
DTSTAMP:20260426T042703
CREATED:20221113T214524Z
LAST-MODIFIED:20221113T214524Z
UID:6214-1692453600-1692457200@www.marksnowentertainment.com
SUMMARY:Bluebird Retirement Community Marysville
DESCRIPTION:
URL:https://www.marksnowentertainment.com/engagement/bluebird-retirement-community-marysville-61/
LOCATION:Bluebird Retirement Community Marysville\, 145 Coleman Crossing Boulevard\, Marysville\, OH\, United States
END:VEVENT
BEGIN:VEVENT
DTSTART;TZID=UTC:20230817T180000
DTEND;TZID=UTC:20230817T190000
DTSTAMP:20260426T042703
CREATED:20230814T123955Z
LAST-MODIFIED:20230814T123955Z
UID:6594-1692295200-1692298800@www.marksnowentertainment.com
SUMMARY:The Landings of Westerville
DESCRIPTION:
URL:https://www.marksnowentertainment.com/engagement/the-landings-of-westerville-7/
LOCATION:The Landings of Westerville\, 350 County Line Road West\, Westerville\, OH\, 43082\, United States
END:VEVENT
BEGIN:VEVENT
DTSTART;TZID=UTC:20230816T150000
DTEND;TZID=UTC:20230816T160000
DTSTAMP:20260426T042703
CREATED:20221113T222324Z
LAST-MODIFIED:20230106T140749Z
UID:6242-1692198000-1692201600@www.marksnowentertainment.com
SUMMARY:St. Catherine's Manor
DESCRIPTION:
URL:https://www.marksnowentertainment.com/engagement/st-catherines-manor-18/
LOCATION:St. Catherine’s Manor\, 250 Glenn Avenue\, Washington Court House\, OH\, 43160\, United States
END:VEVENT
BEGIN:VEVENT
DTSTART;TZID=UTC:20230816T130000
DTEND;TZID=UTC:20230816T140000
DTSTAMP:20260426T042703
CREATED:20221113T220838Z
LAST-MODIFIED:20230106T140516Z
UID:6230-1692190800-1692194400@www.marksnowentertainment.com
SUMMARY:Court House Manor
DESCRIPTION:
URL:https://www.marksnowentertainment.com/engagement/court-house-manor-18/
LOCATION:Court House Manor\, 555 N. Glenn Avenue\, Washington Court House\, OH\, 43160\, United States
END:VEVENT
BEGIN:VEVENT
DTSTART;TZID=UTC:20230815T150000
DTEND;TZID=UTC:20230815T160000
DTSTAMP:20260426T042703
CREATED:20230814T123857Z
LAST-MODIFIED:20230814T123857Z
UID:6592-1692111600-1692115200@www.marksnowentertainment.com
SUMMARY:Cypress Pointe Health Campus
DESCRIPTION:
URL:https://www.marksnowentertainment.com/engagement/cypress-pointe-health-campus-18/
LOCATION:Cypress Pointe Health Campus\, 600 W. National Road\, Englewood\, OH\, 45322\, United States
END:VEVENT
BEGIN:VEVENT
DTSTART;TZID=UTC:20230815T123000
DTEND;TZID=UTC:20230815T133000
DTSTAMP:20260426T042703
CREATED:20230814T123813Z
LAST-MODIFIED:20230814T123813Z
UID:6590-1692102600-1692106200@www.marksnowentertainment.com
SUMMARY:Our Home Fairborn
DESCRIPTION:
URL:https://www.marksnowentertainment.com/engagement/our-home-fairborn-2/
LOCATION:Our Home Fairborn\, 7800 Dayton-Springfield Road\, Fairborn\, OH\, 45324\, United States
END:VEVENT
BEGIN:VEVENT
DTSTART;TZID=UTC:20230814T150000
DTEND;TZID=UTC:20230814T160000
DTSTAMP:20260426T042703
CREATED:20221125T155653Z
LAST-MODIFIED:20221125T155653Z
UID:6271-1692025200-1692028800@www.marksnowentertainment.com
SUMMARY:Cherry Blossom Senior Living
DESCRIPTION:
URL:https://www.marksnowentertainment.com/engagement/cherry-blossom-senior-living-20/
LOCATION:Cherry Blossom Senior Living\, 79 Blossom Field Boulevard\, Columbus\, OH\, 43213\, United States
END:VEVENT
BEGIN:VEVENT
DTSTART;TZID=UTC:20230812T140000
DTEND;TZID=UTC:20230812T150000
DTSTAMP:20260426T042703
CREATED:20221112T233309Z
LAST-MODIFIED:20221112T233309Z
UID:6170-1691848800-1691852400@www.marksnowentertainment.com
SUMMARY:Bluebird Retirement Community London
DESCRIPTION:
URL:https://www.marksnowentertainment.com/engagement/bluebird-retirement-community-london-43/
LOCATION:Bluebird Retirement Community London\, 2260 State Route 56 SW\, London\, OH\, United States
END:VEVENT
BEGIN:VEVENT
DTSTART;TZID=UTC:20230812T113000
DTEND;TZID=UTC:20230812T123000
DTSTAMP:20260426T042703
CREATED:20221001T192909Z
LAST-MODIFIED:20221001T192909Z
UID:6062-1691839800-1691843400@www.marksnowentertainment.com
SUMMARY:Wickshire Fairborn
DESCRIPTION:
URL:https://www.marksnowentertainment.com/engagement/wickshire-fairborn-8/
LOCATION:Wickshire Fairborn\, 2270 Park Hills Drive\, Fariborn\, OH\, 45324\, United States
END:VEVENT
BEGIN:VEVENT
DTSTART;TZID=UTC:20230811T180000
DTEND;TZID=UTC:20230811T190000
DTSTAMP:20260426T042703
CREATED:20230805T132001Z
LAST-MODIFIED:20230805T132001Z
UID:6585-1691776800-1691780400@www.marksnowentertainment.com
SUMMARY:Garbry Ridge
DESCRIPTION:
URL:https://www.marksnowentertainment.com/engagement/garbry-ridge-33/
LOCATION:Garbry Ridge\, 1567 Garbry Road\, Piqua\, OH\, United States
END:VEVENT
BEGIN:VEVENT
DTSTART;TZID=UTC:20230811T140000
DTEND;TZID=UTC:20230811T150000
DTSTAMP:20260426T042703
CREATED:20221125T182856Z
LAST-MODIFIED:20230608T175327Z
UID:6303-1691762400-1691766000@www.marksnowentertainment.com
SUMMARY:Our Home Fairborn
DESCRIPTION:
URL:https://www.marksnowentertainment.com/engagement/fox-run-senior-living-37/
LOCATION:Our Home Fairborn\, 7800 Dayton-Springfield Road\, Fairborn\, OH\, 45324\, United States
END:VEVENT
BEGIN:VEVENT
DTSTART;TZID=UTC:20230808T140000
DTEND;TZID=UTC:20230808T150000
DTSTAMP:20260426T042703
CREATED:20221109T124650Z
LAST-MODIFIED:20221109T124650Z
UID:6145-1691503200-1691506800@www.marksnowentertainment.com
SUMMARY:Hilliard Assisted Living & Memory Care
DESCRIPTION:
URL:https://www.marksnowentertainment.com/engagement/hilliard-assisted-living-memory-care-24/
LOCATION:Traditions of Hilliard\, 4303 Trueman Boulevard\, Hilliard\, OH\, 43026\, United States
END:VEVENT
BEGIN:VEVENT
DTSTART;TZID=UTC:20230805T150000
DTEND;TZID=UTC:20230805T160000
DTSTAMP:20260426T042703
CREATED:20230729T133114Z
LAST-MODIFIED:20230729T133114Z
UID:6580-1691247600-1691251200@www.marksnowentertainment.com
SUMMARY:Dublin Assisted Living & Memory Support
DESCRIPTION:
URL:https://www.marksnowentertainment.com/engagement/dublin-assisted-living-memory-support-22/
LOCATION:Dublin Assisted Living & Memory Support\, 6480 Post Road\, Dublin\, OH\, 43016\, United States
END:VEVENT
BEGIN:VEVENT
DTSTART;TZID=UTC:20230804T160000
DTEND;TZID=UTC:20230804T170000
DTSTAMP:20260426T042703
CREATED:20230729T133028Z
LAST-MODIFIED:20230729T133028Z
UID:6578-1691164800-1691168400@www.marksnowentertainment.com
SUMMARY:Forest Glen Health Campus
DESCRIPTION:
URL:https://www.marksnowentertainment.com/engagement/forest-glen-health-campus-53/
LOCATION:Forest Glen Rehab and Healthcare Center\, 2150 Montego Drive\, Springfield\, OH\, United States
END:VEVENT
BEGIN:VEVENT
DTSTART;TZID=UTC:20230727T180000
DTEND;TZID=UTC:20230727T190000
DTSTAMP:20260426T042703
CREATED:20230103T002204Z
LAST-MODIFIED:20230103T002204Z
UID:6329-1690480800-1690484400@www.marksnowentertainment.com
SUMMARY:Vienna Springs Health Campus
DESCRIPTION:
URL:https://www.marksnowentertainment.com/engagement/vienna-springs-health-campus-13/
LOCATION:Vienna Springs Health Campus\, 2510 Vienna Parkway\, Dayton\, OH\, 45459\, United States
END:VEVENT
BEGIN:VEVENT
DTSTART;TZID=UTC:20230726T143000
DTEND;TZID=UTC:20230726T153000
DTSTAMP:20260426T042703
CREATED:20221112T235138Z
LAST-MODIFIED:20221112T235138Z
UID:6194-1690381800-1690385400@www.marksnowentertainment.com
SUMMARY:Kemper House Worthington
DESCRIPTION:
URL:https://www.marksnowentertainment.com/engagement/kemper-house-worthington-25/
LOCATION:Cotter House Worthington\, 800 Proprietors Road\, Worthington\, OH\, 43085\, United States
END:VEVENT
BEGIN:VEVENT
DTSTART;TZID=UTC:20230725T140000
DTEND;TZID=UTC:20230725T150000
DTSTAMP:20260426T042703
CREATED:20230722T152111Z
LAST-MODIFIED:20230722T152111Z
UID:6574-1690293600-1690297200@www.marksnowentertainment.com
SUMMARY:McNaughten Pointe Nursing & Rehab
DESCRIPTION:
URL:https://www.marksnowentertainment.com/engagement/mcnaughten-pointe-nursing-rehab-54/
LOCATION:McNaughten Pointe Nursing & Rehab\, 1425 Yorkland Road\, Columbus\, OH\, United States
END:VEVENT
BEGIN:VEVENT
DTSTART;TZID=UTC:20230721T140000
DTEND;TZID=UTC:20230721T150000
DTSTAMP:20260426T042703
CREATED:20230722T152013Z
LAST-MODIFIED:20230722T152013Z
UID:6572-1689948000-1689951600@www.marksnowentertainment.com
SUMMARY:Our Home Fairborn
DESCRIPTION:
URL:https://www.marksnowentertainment.com/engagement/our-home-fairborn/
LOCATION:Our Home Fairborn\, 7800 Dayton-Springfield Road\, Fairborn\, OH\, 45324\, United States
END:VEVENT
BEGIN:VEVENT
DTSTART;VALUE=DATE:20230623
DTEND;VALUE=DATE:20230721
DTSTAMP:20260426T042703
CREATED:20230702T154828Z
LAST-MODIFIED:20230714T173656Z
UID:6568-1687478400-1689897599@www.marksnowentertainment.com
SUMMARY:UNAVAILABLE FOR BOOKINGS
DESCRIPTION:
URL:https://www.marksnowentertainment.com/engagement/unavailable-for-bookings-47/
LOCATION:OH
END:VEVENT
BEGIN:VEVENT
DTSTART;TZID=UTC:20230622T150000
DTEND;TZID=UTC:20230622T160000
DTSTAMP:20260426T042703
CREATED:20230103T000337Z
LAST-MODIFIED:20230103T000337Z
UID:6327-1687446000-1687449600@www.marksnowentertainment.com
SUMMARY:Vienna Springs Health Campus
DESCRIPTION:
URL:https://www.marksnowentertainment.com/engagement/vienna-springs-health-campus-12/
LOCATION:Vienna Springs Health Campus\, 2510 Vienna Parkway\, Dayton\, OH\, 45459\, United States
END:VEVENT
BEGIN:VEVENT
DTSTART;TZID=UTC:20230621T180000
DTEND;TZID=UTC:20230621T190000
DTSTAMP:20260426T042703
CREATED:20230608T175919Z
LAST-MODIFIED:20230608T175919Z
UID:6557-1687370400-1687374000@www.marksnowentertainment.com
SUMMARY:The Landings of Westerville
DESCRIPTION:
URL:https://www.marksnowentertainment.com/engagement/the-landings-of-westerville-6/
LOCATION:The Landings of Westerville\, 350 County Line Road West\, Westerville\, OH\, 43082\, United States
END:VEVENT
BEGIN:VEVENT
DTSTART;TZID=UTC:20230620T180000
DTEND;TZID=UTC:20230620T190000
DTSTAMP:20260426T042703
CREATED:20230608T175826Z
LAST-MODIFIED:20230608T175826Z
UID:6555-1687284000-1687287600@www.marksnowentertainment.com
SUMMARY:Garbry Ridge
DESCRIPTION:
URL:https://www.marksnowentertainment.com/engagement/garbry-ridge-32/
LOCATION:Garbry Ridge\, 1567 Garbry Road\, Piqua\, OH\, United States
END:VEVENT
BEGIN:VEVENT
DTSTART;TZID=UTC:20230620T150000
DTEND;TZID=UTC:20230620T160000
DTSTAMP:20260426T042703
CREATED:20230608T175755Z
LAST-MODIFIED:20230608T175755Z
UID:6553-1687273200-1687276800@www.marksnowentertainment.com
SUMMARY:Cypress Pointe Health Campus
DESCRIPTION:
URL:https://www.marksnowentertainment.com/engagement/cypress-pointe-health-campus-17/
LOCATION:Cypress Pointe Health Campus\, 600 W. National Road\, Englewood\, OH\, 45322\, United States
END:VEVENT
BEGIN:VEVENT
DTSTART;TZID=UTC:20230616T140000
DTEND;TZID=UTC:20230616T150000
DTSTAMP:20260426T042703
CREATED:20221001T180922Z
LAST-MODIFIED:20230608T175634Z
UID:6037-1686924000-1686927600@www.marksnowentertainment.com
SUMMARY:Spring Hills Singing Woods
DESCRIPTION:
URL:https://www.marksnowentertainment.com/engagement/spring-hills-singing-woods-25/
LOCATION:Spring Hills Singing Woods\, 140 E. Woodbury Drive\, Dayton\, OH\, 45415\, United States
END:VEVENT
BEGIN:VEVENT
DTSTART;TZID=UTC:20230615T140000
DTEND;TZID=UTC:20230615T150000
DTSTAMP:20260426T042703
CREATED:20230608T175028Z
LAST-MODIFIED:20230608T175028Z
UID:6543-1686837600-1686841200@www.marksnowentertainment.com
SUMMARY:Smith's Mill Health Campus
DESCRIPTION:
URL:https://www.marksnowentertainment.com/engagement/smiths-mill-health-campus-14/
LOCATION:Smith’s Mill Health Campus\, 7320 Smith's Mill Road\, New Albany\, OH\, 43054\, United States
END:VEVENT
BEGIN:VEVENT
DTSTART;TZID=UTC:20230614T170000
DTEND;TZID=UTC:20230614T180000
DTSTAMP:20260426T042703
CREATED:20230608T174931Z
LAST-MODIFIED:20230608T174931Z
UID:6541-1686762000-1686765600@www.marksnowentertainment.com
SUMMARY:HarborChase of Beavercreek
DESCRIPTION:
URL:https://www.marksnowentertainment.com/engagement/harborchase-of-beavercreek-25/
LOCATION:HarborChase of Beavercreek\, 4175 Indian Ripple Road\, Beavercreek\, OH\, 45440\, United States
END:VEVENT
BEGIN:VEVENT
DTSTART;TZID=UTC:20230614T120000
DTEND;TZID=UTC:20230614T130000
DTSTAMP:20260426T042703
CREATED:20230608T174857Z
LAST-MODIFIED:20230608T174857Z
UID:6539-1686744000-1686747600@www.marksnowentertainment.com
SUMMARY:Wooded Glen Senior Living
DESCRIPTION:
URL:https://www.marksnowentertainment.com/engagement/wooded-glen-senior-living-44/
LOCATION:Wooded Glen Health Campus\, 2900 Bechtle Avenue\, Springfield\, OH\, 45504\, United States
END:VEVENT
END:VCALENDAR