BEGIN:VCALENDAR
VERSION:2.0
PRODID:-//Mark Snow Entertainment - ECPv6.15.20//NONSGML v1.0//EN
CALSCALE:GREGORIAN
METHOD:PUBLISH
X-ORIGINAL-URL:https://www.marksnowentertainment.com
X-WR-CALDESC:Events for Mark Snow Entertainment
REFRESH-INTERVAL;VALUE=DURATION:PT1H
X-Robots-Tag:noindex
X-PUBLISHED-TTL:PT1H
BEGIN:VTIMEZONE
TZID:UTC
BEGIN:STANDARD
TZOFFSETFROM:+0000
TZOFFSETTO:+0000
TZNAME:UTC
DTSTART:20220101T000000
END:STANDARD
END:VTIMEZONE
BEGIN:VEVENT
DTSTART;TZID=UTC:20230812T113000
DTEND;TZID=UTC:20230812T123000
DTSTAMP:20260426T042220
CREATED:20221001T192909Z
LAST-MODIFIED:20221001T192909Z
UID:6062-1691839800-1691843400@www.marksnowentertainment.com
SUMMARY:Wickshire Fairborn
DESCRIPTION:
URL:https://www.marksnowentertainment.com/engagement/wickshire-fairborn-8/
LOCATION:Wickshire Fairborn\, 2270 Park Hills Drive\, Fariborn\, OH\, 45324\, United States
END:VEVENT
BEGIN:VEVENT
DTSTART;TZID=UTC:20230812T140000
DTEND;TZID=UTC:20230812T150000
DTSTAMP:20260426T042220
CREATED:20221112T233309Z
LAST-MODIFIED:20221112T233309Z
UID:6170-1691848800-1691852400@www.marksnowentertainment.com
SUMMARY:Bluebird Retirement Community London
DESCRIPTION:
URL:https://www.marksnowentertainment.com/engagement/bluebird-retirement-community-london-43/
LOCATION:Bluebird Retirement Community London\, 2260 State Route 56 SW\, London\, OH\, United States
END:VEVENT
BEGIN:VEVENT
DTSTART;TZID=UTC:20230814T150000
DTEND;TZID=UTC:20230814T160000
DTSTAMP:20260426T042220
CREATED:20221125T155653Z
LAST-MODIFIED:20221125T155653Z
UID:6271-1692025200-1692028800@www.marksnowentertainment.com
SUMMARY:Cherry Blossom Senior Living
DESCRIPTION:
URL:https://www.marksnowentertainment.com/engagement/cherry-blossom-senior-living-20/
LOCATION:Cherry Blossom Senior Living\, 79 Blossom Field Boulevard\, Columbus\, OH\, 43213\, United States
END:VEVENT
BEGIN:VEVENT
DTSTART;TZID=UTC:20230815T123000
DTEND;TZID=UTC:20230815T133000
DTSTAMP:20260426T042220
CREATED:20230814T123813Z
LAST-MODIFIED:20230814T123813Z
UID:6590-1692102600-1692106200@www.marksnowentertainment.com
SUMMARY:Our Home Fairborn
DESCRIPTION:
URL:https://www.marksnowentertainment.com/engagement/our-home-fairborn-2/
LOCATION:Our Home Fairborn\, 7800 Dayton-Springfield Road\, Fairborn\, OH\, 45324\, United States
END:VEVENT
BEGIN:VEVENT
DTSTART;TZID=UTC:20230815T150000
DTEND;TZID=UTC:20230815T160000
DTSTAMP:20260426T042220
CREATED:20230814T123857Z
LAST-MODIFIED:20230814T123857Z
UID:6592-1692111600-1692115200@www.marksnowentertainment.com
SUMMARY:Cypress Pointe Health Campus
DESCRIPTION:
URL:https://www.marksnowentertainment.com/engagement/cypress-pointe-health-campus-18/
LOCATION:Cypress Pointe Health Campus\, 600 W. National Road\, Englewood\, OH\, 45322\, United States
END:VEVENT
BEGIN:VEVENT
DTSTART;TZID=UTC:20230816T130000
DTEND;TZID=UTC:20230816T140000
DTSTAMP:20260426T042220
CREATED:20221113T220838Z
LAST-MODIFIED:20230106T140516Z
UID:6230-1692190800-1692194400@www.marksnowentertainment.com
SUMMARY:Court House Manor
DESCRIPTION:
URL:https://www.marksnowentertainment.com/engagement/court-house-manor-18/
LOCATION:Court House Manor\, 555 N. Glenn Avenue\, Washington Court House\, OH\, 43160\, United States
END:VEVENT
BEGIN:VEVENT
DTSTART;TZID=UTC:20230816T150000
DTEND;TZID=UTC:20230816T160000
DTSTAMP:20260426T042220
CREATED:20221113T222324Z
LAST-MODIFIED:20230106T140749Z
UID:6242-1692198000-1692201600@www.marksnowentertainment.com
SUMMARY:St. Catherine's Manor
DESCRIPTION:
URL:https://www.marksnowentertainment.com/engagement/st-catherines-manor-18/
LOCATION:St. Catherine’s Manor\, 250 Glenn Avenue\, Washington Court House\, OH\, 43160\, United States
END:VEVENT
BEGIN:VEVENT
DTSTART;TZID=UTC:20230817T180000
DTEND;TZID=UTC:20230817T190000
DTSTAMP:20260426T042220
CREATED:20230814T123955Z
LAST-MODIFIED:20230814T123955Z
UID:6594-1692295200-1692298800@www.marksnowentertainment.com
SUMMARY:The Landings of Westerville
DESCRIPTION:
URL:https://www.marksnowentertainment.com/engagement/the-landings-of-westerville-7/
LOCATION:The Landings of Westerville\, 350 County Line Road West\, Westerville\, OH\, 43082\, United States
END:VEVENT
BEGIN:VEVENT
DTSTART;TZID=UTC:20230819T140000
DTEND;TZID=UTC:20230819T150000
DTSTAMP:20260426T042220
CREATED:20221113T214524Z
LAST-MODIFIED:20221113T214524Z
UID:6214-1692453600-1692457200@www.marksnowentertainment.com
SUMMARY:Bluebird Retirement Community Marysville
DESCRIPTION:
URL:https://www.marksnowentertainment.com/engagement/bluebird-retirement-community-marysville-61/
LOCATION:Bluebird Retirement Community Marysville\, 145 Coleman Crossing Boulevard\, Marysville\, OH\, United States
END:VEVENT
BEGIN:VEVENT
DTSTART;TZID=UTC:20230821T140000
DTEND;TZID=UTC:20230821T150000
DTSTAMP:20260426T042220
CREATED:20221001T181005Z
LAST-MODIFIED:20221001T181005Z
UID:6039-1692626400-1692630000@www.marksnowentertainment.com
SUMMARY:Spring Hills Singing Woods
DESCRIPTION:
URL:https://www.marksnowentertainment.com/engagement/spring-hills-singing-woods-26/
LOCATION:Spring Hills Singing Woods\, 140 E. Woodbury Drive\, Dayton\, OH\, 45415\, United States
END:VEVENT
BEGIN:VEVENT
DTSTART;TZID=UTC:20230822T140000
DTEND;TZID=UTC:20230822T150000
DTSTAMP:20260426T042220
CREATED:20230820T172410Z
LAST-MODIFIED:20230820T172410Z
UID:6598-1692712800-1692716400@www.marksnowentertainment.com
SUMMARY:Forest Glen Health Campus
DESCRIPTION:
URL:https://www.marksnowentertainment.com/engagement/forest-glen-health-campus-54/
LOCATION:Forest Glen Rehab and Healthcare Center\, 2150 Montego Drive\, Springfield\, OH\, United States
END:VEVENT
BEGIN:VEVENT
DTSTART;TZID=UTC:20230823T180000
DTEND;TZID=UTC:20230823T190000
DTSTAMP:20260426T042220
CREATED:20230103T002245Z
LAST-MODIFIED:20230103T002245Z
UID:6331-1692813600-1692817200@www.marksnowentertainment.com
SUMMARY:Vienna Springs Health Campus
DESCRIPTION:
URL:https://www.marksnowentertainment.com/engagement/vienna-springs-health-campus-14/
LOCATION:Vienna Springs Health Campus\, 2510 Vienna Parkway\, Dayton\, OH\, 45459\, United States
END:VEVENT
BEGIN:VEVENT
DTSTART;TZID=UTC:20230824T140000
DTEND;TZID=UTC:20230824T150000
DTSTAMP:20260426T042220
CREATED:20230820T172506Z
LAST-MODIFIED:20230820T172506Z
UID:6600-1692885600-1692889200@www.marksnowentertainment.com
SUMMARY:Trueman Pointe Care Center
DESCRIPTION:
URL:https://www.marksnowentertainment.com/engagement/trueman-pointe-care-center-16/
LOCATION:Trueman Pointe Care Center\, 4660 Trueman Boulevard\, Hilliard\, OH\, United States
END:VEVENT
BEGIN:VEVENT
DTSTART;TZID=UTC:20230824T170000
DTEND;TZID=UTC:20230824T180000
DTSTAMP:20260426T042220
CREATED:20230820T172543Z
LAST-MODIFIED:20230820T172543Z
UID:6602-1692896400-1692900000@www.marksnowentertainment.com
SUMMARY:Smith's Mill Health Campus
DESCRIPTION:
URL:https://www.marksnowentertainment.com/engagement/smiths-mill-health-campus-15/
LOCATION:Smith’s Mill Health Campus\, 7320 Smith's Mill Road\, New Albany\, OH\, 43054\, United States
END:VEVENT
BEGIN:VEVENT
DTSTART;TZID=UTC:20230825T150000
DTEND;TZID=UTC:20230825T160000
DTSTAMP:20260426T042220
CREATED:20221112T234119Z
LAST-MODIFIED:20221112T234119Z
UID:6184-1692975600-1692979200@www.marksnowentertainment.com
SUMMARY:Brookdale Pinnacle
DESCRIPTION:
URL:https://www.marksnowentertainment.com/engagement/brookdale-pinnacle-17/
LOCATION:Brookdale Pinnacle\, 1305 Lamplighter Drive\, Grove City\, OH\, 43123\, United States
END:VEVENT
BEGIN:VEVENT
DTSTART;TZID=UTC:20230825T180000
DTEND;TZID=UTC:20230825T200000
DTSTAMP:20260426T042220
CREATED:20230820T172645Z
LAST-MODIFIED:20230820T172645Z
UID:6604-1692986400-1692993600@www.marksnowentertainment.com
SUMMARY:The Convalarium of Dublin
DESCRIPTION:
URL:https://www.marksnowentertainment.com/engagement/the-convalarium-of-dublin/
LOCATION:The Convalarium of Dublin\, 6430 Post Road\, Dublin\, OH\, 43016\, United States
END:VEVENT
BEGIN:VEVENT
DTSTART;TZID=UTC:20230828T140000
DTEND;TZID=UTC:20230828T150000
DTSTAMP:20260426T042220
CREATED:20230820T172747Z
LAST-MODIFIED:20230820T172747Z
UID:6606-1693231200-1693234800@www.marksnowentertainment.com
SUMMARY:The Suites at Walnut Creek
DESCRIPTION:
URL:https://www.marksnowentertainment.com/engagement/the-suites-at-walnut-creek-42/
LOCATION:The Suites at Walnut Creek\, 2501 Keystone Club Drive\, Dayton\, OH\, United States
END:VEVENT
BEGIN:VEVENT
DTSTART;TZID=UTC:20230829T140000
DTEND;TZID=UTC:20230829T150000
DTSTAMP:20260426T042220
CREATED:20230820T172901Z
LAST-MODIFIED:20230820T172901Z
UID:6608-1693317600-1693321200@www.marksnowentertainment.com
SUMMARY:McNaughten Pointe Nursing & Rehab
DESCRIPTION:
URL:https://www.marksnowentertainment.com/engagement/mcnaughten-pointe-nursing-rehab-55/
LOCATION:McNaughten Pointe Nursing & Rehab\, 1425 Yorkland Road\, Columbus\, OH\, United States
END:VEVENT
BEGIN:VEVENT
DTSTART;TZID=UTC:20230829T183000
DTEND;TZID=UTC:20230829T193000
DTSTAMP:20260426T042220
CREATED:20221108T232622Z
LAST-MODIFIED:20230814T123508Z
UID:6125-1693333800-1693337400@www.marksnowentertainment.com
SUMMARY:Creekside at the Village
DESCRIPTION:
URL:https://www.marksnowentertainment.com/engagement/creekside-at-the-village-13/
LOCATION:Creekside at the Village\, 2200 Welcome Place\, Columbus\, OH\, 43209\, United States
END:VEVENT
BEGIN:VEVENT
DTSTART;TZID=UTC:20230830T120000
DTEND;TZID=UTC:20230830T130000
DTSTAMP:20260426T042220
CREATED:20230820T172953Z
LAST-MODIFIED:20230820T172953Z
UID:6610-1693396800-1693400400@www.marksnowentertainment.com
SUMMARY:Wooded Glen Senior Living
DESCRIPTION:
URL:https://www.marksnowentertainment.com/engagement/wooded-glen-senior-living-45/
LOCATION:Wooded Glen Health Campus\, 2900 Bechtle Avenue\, Springfield\, OH\, 45504\, United States
END:VEVENT
BEGIN:VEVENT
DTSTART;VALUE=DATE:20230831
DTEND;VALUE=DATE:20230906
DTSTAMP:20260426T042220
CREATED:20221124T163016Z
LAST-MODIFIED:20230815T111515Z
UID:6255-1693440000-1693958399@www.marksnowentertainment.com
SUMMARY:UNAVAILABLE FOR BOOKINGS
DESCRIPTION:
URL:https://www.marksnowentertainment.com/engagement/unavailable-for-bookings-40/
END:VEVENT
BEGIN:VEVENT
DTSTART;TZID=UTC:20230908T140000
DTEND;TZID=UTC:20230908T150000
DTSTAMP:20260426T042220
CREATED:20221125T183005Z
LAST-MODIFIED:20230608T175409Z
UID:6305-1694181600-1694185200@www.marksnowentertainment.com
SUMMARY:Our Home Fairborn
DESCRIPTION:
URL:https://www.marksnowentertainment.com/engagement/fox-run-senior-living-38/
LOCATION:Our Home Fairborn\, 7800 Dayton-Springfield Road\, Fairborn\, OH\, 45324\, United States
END:VEVENT
BEGIN:VEVENT
DTSTART;TZID=UTC:20230909T140000
DTEND;TZID=UTC:20230909T150000
DTSTAMP:20260426T042220
CREATED:20221112T233345Z
LAST-MODIFIED:20221112T233345Z
UID:6172-1694268000-1694271600@www.marksnowentertainment.com
SUMMARY:Bluebird Retirement Community London
DESCRIPTION:
URL:https://www.marksnowentertainment.com/engagement/bluebird-retirement-community-london-44/
LOCATION:Bluebird Retirement Community London\, 2260 State Route 56 SW\, London\, OH\, United States
END:VEVENT
BEGIN:VEVENT
DTSTART;TZID=UTC:20230911T143000
DTEND;TZID=UTC:20230911T153000
DTSTAMP:20260426T042220
CREATED:20221125T160805Z
LAST-MODIFIED:20221125T160805Z
UID:6285-1694442600-1694446200@www.marksnowentertainment.com
SUMMARY:Brookdale Piqua
DESCRIPTION:
URL:https://www.marksnowentertainment.com/engagement/brookdale-piqua-31/
LOCATION:Brookdale Piqua\, 1744 W. High Street\, Piqua\, OH\, United States
END:VEVENT
BEGIN:VEVENT
DTSTART;TZID=UTC:20230912T140000
DTEND;TZID=UTC:20230912T150000
DTSTAMP:20260426T042220
CREATED:20221109T124731Z
LAST-MODIFIED:20221109T124731Z
UID:6147-1694527200-1694530800@www.marksnowentertainment.com
SUMMARY:Hilliard Assisted Living & Memory Care
DESCRIPTION:
URL:https://www.marksnowentertainment.com/engagement/hilliard-assisted-living-memory-care-25/
LOCATION:Traditions of Hilliard\, 4303 Trueman Boulevard\, Hilliard\, OH\, 43026\, United States
END:VEVENT
BEGIN:VEVENT
DTSTART;TZID=UTC:20230912T180000
DTEND;TZID=UTC:20230912T190000
DTSTAMP:20260426T042220
CREATED:20230910T113204Z
LAST-MODIFIED:20230910T113204Z
UID:6622-1694541600-1694545200@www.marksnowentertainment.com
SUMMARY:Dublin Assisted Living & Memory Support
DESCRIPTION:
URL:https://www.marksnowentertainment.com/engagement/dublin-assisted-living-memory-support-21/
LOCATION:Dublin Assisted Living & Memory Support\, 6480 Post Road\, Dublin\, OH\, 43016\, United States
END:VEVENT
BEGIN:VEVENT
DTSTART;TZID=UTC:20230913T120000
DTEND;TZID=UTC:20230913T130000
DTSTAMP:20260426T042220
CREATED:20230910T113405Z
LAST-MODIFIED:20230910T113405Z
UID:6624-1694606400-1694610000@www.marksnowentertainment.com
SUMMARY:Wooded Glen Senior Living
DESCRIPTION:
URL:https://www.marksnowentertainment.com/engagement/wooded-glen-senior-living-46/
LOCATION:Wooded Glen Health Campus\, 2900 Bechtle Avenue\, Springfield\, OH\, 45504\, United States
END:VEVENT
BEGIN:VEVENT
DTSTART;TZID=UTC:20230915T143000
DTEND;TZID=UTC:20230915T153000
DTSTAMP:20260426T042220
CREATED:20230910T113509Z
LAST-MODIFIED:20230910T113509Z
UID:6626-1694788200-1694791800@www.marksnowentertainment.com
SUMMARY:Grace Brethren Village
DESCRIPTION:
URL:https://www.marksnowentertainment.com/engagement/grace-brethren-village-3/
LOCATION:Grace Brethren Village\, 1010 Taywood Road\, Englewood\, DC\, 45322\, United States
END:VEVENT
BEGIN:VEVENT
DTSTART;TZID=UTC:20230916T140000
DTEND;TZID=UTC:20230916T150000
DTSTAMP:20260426T042220
CREATED:20221113T214602Z
LAST-MODIFIED:20221113T214602Z
UID:6216-1694872800-1694876400@www.marksnowentertainment.com
SUMMARY:Bluebird Retirement Community Marysville
DESCRIPTION:
URL:https://www.marksnowentertainment.com/engagement/bluebird-retirement-community-marysville-62/
LOCATION:Bluebird Retirement Community Marysville\, 145 Coleman Crossing Boulevard\, Marysville\, OH\, United States
END:VEVENT
BEGIN:VEVENT
DTSTART;TZID=UTC:20230916T190000
DTEND;TZID=UTC:20230916T200000
DTSTAMP:20260426T042220
CREATED:20230910T113608Z
LAST-MODIFIED:20230910T113608Z
UID:6628-1694890800-1694894400@www.marksnowentertainment.com
SUMMARY:Dublin Retirement Village
DESCRIPTION:
URL:https://www.marksnowentertainment.com/engagement/dublin-retirement-village-51/
LOCATION:Dublin Retirement Village\, 6480 Post Road\, Dublin\, OH\, 43016\, United States
END:VEVENT
END:VCALENDAR