BEGIN:VCALENDAR
VERSION:2.0
PRODID:-//Mark Snow Entertainment - ECPv6.15.20//NONSGML v1.0//EN
CALSCALE:GREGORIAN
METHOD:PUBLISH
X-WR-CALNAME:Mark Snow Entertainment
X-ORIGINAL-URL:https://www.marksnowentertainment.com
X-WR-CALDESC:Events for Mark Snow Entertainment
REFRESH-INTERVAL;VALUE=DURATION:PT1H
X-Robots-Tag:noindex
X-PUBLISHED-TTL:PT1H
BEGIN:VTIMEZONE
TZID:UTC
BEGIN:STANDARD
TZOFFSETFROM:+0000
TZOFFSETTO:+0000
TZNAME:UTC
DTSTART:20250101T000000
END:STANDARD
END:VTIMEZONE
BEGIN:VEVENT
DTSTART;TZID=UTC:20260325T143000
DTEND;TZID=UTC:20260325T153000
DTSTAMP:20260423T190313
CREATED:20260302T223032Z
LAST-MODIFIED:20260421T210602Z
UID:7401-1774449000-1774452600@www.marksnowentertainment.com
SUMMARY:Cypress Pointe Health Campus
DESCRIPTION:
URL:https://www.marksnowentertainment.com/engagement/cypress-pointe-health-campus-57/
LOCATION:Cypress Pointe Health Campus\, 600 W. National Road\, Englewood\, OH\, 45322\, United States
END:VEVENT
BEGIN:VEVENT
DTSTART;TZID=UTC:20260327T143000
DTEND;TZID=UTC:20260327T153000
DTSTAMP:20260423T190313
CREATED:20260302T223207Z
LAST-MODIFIED:20260421T210721Z
UID:7405-1774621800-1774625400@www.marksnowentertainment.com
SUMMARY:Forest Glen Rehab and Healthcare Center
DESCRIPTION:
URL:https://www.marksnowentertainment.com/engagement/forest-glen-rehab-and-healthcare-center-10/
LOCATION:Forest Glen Rehab and Healthcare Center\, 2150 Montego Drive\, Springfield\, OH\, United States
END:VEVENT
BEGIN:VEVENT
DTSTART;TZID=UTC:20260331T140000
DTEND;TZID=UTC:20260331T150000
DTSTAMP:20260423T190313
CREATED:20260302T223257Z
LAST-MODIFIED:20260302T223257Z
UID:7407-1774965600-1774969200@www.marksnowentertainment.com
SUMMARY:McNaughten Pointe Nursing & Rehab
DESCRIPTION:
URL:https://www.marksnowentertainment.com/engagement/mcnaughten-pointe-nursing-rehab-76/
LOCATION:McNaughten Pointe Nursing & Rehab\, 1425 Yorkland Road\, Columbus\, OH\, United States
END:VEVENT
BEGIN:VEVENT
DTSTART;TZID=UTC:20260403T143000
DTEND;TZID=UTC:20260403T153000
DTSTAMP:20260423T190313
CREATED:20260421T210902Z
LAST-MODIFIED:20260421T210902Z
UID:7421-1775226600-1775230200@www.marksnowentertainment.com
SUMMARY:Forest Glen Rehab and Healthcare Center
DESCRIPTION:
URL:https://www.marksnowentertainment.com/engagement/forest-glen-rehab-and-healthcare-center-11/
LOCATION:Forest Glen Rehab and Healthcare Center\, 2150 Montego Drive\, Springfield\, OH\, United States
END:VEVENT
BEGIN:VEVENT
DTSTART;TZID=UTC:20260410T140000
DTEND;TZID=UTC:20260410T150000
DTSTAMP:20260423T190313
CREATED:20260421T211008Z
LAST-MODIFIED:20260421T211008Z
UID:7423-1775829600-1775833200@www.marksnowentertainment.com
SUMMARY:Our Home Fairborn
DESCRIPTION:
URL:https://www.marksnowentertainment.com/engagement/our-home-fairborn-24/
LOCATION:Our Home Fairborn\, 7800 Dayton-Springfield Road\, Fairborn\, OH\, 45324\, United States
END:VEVENT
BEGIN:VEVENT
DTSTART;TZID=UTC:20260415T140000
DTEND;TZID=UTC:20260415T150000
DTSTAMP:20260423T190313
CREATED:20260421T211049Z
LAST-MODIFIED:20260421T211049Z
UID:7425-1776261600-1776265200@www.marksnowentertainment.com
SUMMARY:Vancrest of Urbana
DESCRIPTION:
URL:https://www.marksnowentertainment.com/engagement/vancrest-of-urbana-19/
LOCATION:Our Home Fairborn\, 7800 Dayton-Springfield Road\, Fairborn\, OH\, 45324\, United States
END:VEVENT
BEGIN:VEVENT
DTSTART;TZID=UTC:20260416T140000
DTEND;TZID=UTC:20260416T150000
DTSTAMP:20260423T190313
CREATED:20260421T211132Z
LAST-MODIFIED:20260421T211132Z
UID:7427-1776348000-1776351600@www.marksnowentertainment.com
SUMMARY:Cherry Blossom Senior Living
DESCRIPTION:
URL:https://www.marksnowentertainment.com/engagement/cherry-blossom-senior-living-47/
LOCATION:Cherry Blossom Senior Living\, 79 Blossom Field Boulevard\, Columbus\, OH\, 43213\, United States
END:VEVENT
BEGIN:VEVENT
DTSTART;TZID=UTC:20260417T143000
DTEND;TZID=UTC:20260417T143000
DTSTAMP:20260423T190313
CREATED:20260421T211218Z
LAST-MODIFIED:20260421T211218Z
UID:7429-1776436200-1776436200@www.marksnowentertainment.com
SUMMARY:Cypress Pointe Health Campus
DESCRIPTION:
URL:https://www.marksnowentertainment.com/engagement/cypress-pointe-health-campus-58/
LOCATION:Cypress Pointe Health Campus\, 600 W. National Road\, Englewood\, OH\, 45322\, United States
END:VEVENT
BEGIN:VEVENT
DTSTART;TZID=UTC:20260418T140000
DTEND;TZID=UTC:20260418T150000
DTSTAMP:20260423T190313
CREATED:20260421T211303Z
LAST-MODIFIED:20260421T211303Z
UID:7431-1776520800-1776524400@www.marksnowentertainment.com
SUMMARY:Bluebird Retirement Community Marysville
DESCRIPTION:
URL:https://www.marksnowentertainment.com/engagement/bluebird-retirement-community-marysville-86/
LOCATION:Bluebird Retirement Community Marysville\, 145 Coleman Crossing Boulevard\, Marysville\, OH\, United States
END:VEVENT
BEGIN:VEVENT
DTSTART;TZID=UTC:20260424T160000
DTEND;TZID=UTC:20260424T170000
DTSTAMP:20260423T190313
CREATED:20260421T211342Z
LAST-MODIFIED:20260421T211342Z
UID:7433-1777046400-1777050000@www.marksnowentertainment.com
SUMMARY:Feridean Commons
DESCRIPTION:
URL:https://www.marksnowentertainment.com/engagement/feridean-commons-35/
LOCATION:Feridean Commons\, 6885 Freeman Road\, Westerville\, OH\, United States
END:VEVENT
BEGIN:VEVENT
DTSTART;TZID=UTC:20260428T140000
DTEND;TZID=UTC:20260428T150000
DTSTAMP:20260423T190313
CREATED:20260421T211430Z
LAST-MODIFIED:20260421T211430Z
UID:7435-1777384800-1777388400@www.marksnowentertainment.com
SUMMARY:McNaughten Pointe Nursing & Rehab
DESCRIPTION:
URL:https://www.marksnowentertainment.com/engagement/mcnaughten-pointe-nursing-rehab-77/
LOCATION:McNaughten Pointe Nursing & Rehab\, 1425 Yorkland Road\, Columbus\, OH\, United States
END:VEVENT
BEGIN:VEVENT
DTSTART;TZID=UTC:20260429T150000
DTEND;TZID=UTC:20260429T160000
DTSTAMP:20260423T190313
CREATED:20260421T211611Z
LAST-MODIFIED:20260421T211611Z
UID:7437-1777474800-1777478400@www.marksnowentertainment.com
SUMMARY:Creekside at the Village
DESCRIPTION:
URL:https://www.marksnowentertainment.com/engagement/creekside-at-the-village-26/
LOCATION:Creekside at the Village\, 2200 Welcome Place\, Columbus\, OH\, 43209\, United States
END:VEVENT
END:VCALENDAR