BEGIN:VCALENDAR
VERSION:2.0
PRODID:-//Mark Snow Entertainment - ECPv6.15.20//NONSGML v1.0//EN
CALSCALE:GREGORIAN
METHOD:PUBLISH
X-WR-CALNAME:Mark Snow Entertainment
X-ORIGINAL-URL:https://www.marksnowentertainment.com
X-WR-CALDESC:Events for Mark Snow Entertainment
REFRESH-INTERVAL;VALUE=DURATION:PT1H
X-Robots-Tag:noindex
X-PUBLISHED-TTL:PT1H
BEGIN:VTIMEZONE
TZID:UTC
BEGIN:STANDARD
TZOFFSETFROM:+0000
TZOFFSETTO:+0000
TZNAME:UTC
DTSTART:20240101T000000
END:STANDARD
END:VTIMEZONE
BEGIN:VEVENT
DTSTART;TZID=UTC:20250807T140000
DTEND;TZID=UTC:20250807T150000
DTSTAMP:20260424T094054
CREATED:20250824T184544Z
LAST-MODIFIED:20250824T184544Z
UID:7271-1754575200-1754578800@www.marksnowentertainment.com
SUMMARY:Otterbein Tipp City
DESCRIPTION:
URL:https://www.marksnowentertainment.com/engagement/otterbein-tipp-city/
LOCATION:Otterbein Tipp City\, 4375 S. County Line Road 25A\, Tipp City\, OH\, 45371\, United States
END:VEVENT
BEGIN:VEVENT
DTSTART;TZID=UTC:20250804T150000
DTEND;TZID=UTC:20250804T160000
DTSTAMP:20260424T094054
CREATED:20250824T184049Z
LAST-MODIFIED:20250824T184049Z
UID:7264-1754319600-1754323200@www.marksnowentertainment.com
SUMMARY:Middleton Senior Living
DESCRIPTION:
URL:https://www.marksnowentertainment.com/engagement/middleton-senior-living-2/
LOCATION:Middleton Senior Living\, 1500 Weaver Drive\, Granville\, OH\, 43023\, United States
END:VEVENT
BEGIN:VEVENT
DTSTART;TZID=UTC:20250801T153000
DTEND;TZID=UTC:20250801T163000
DTSTAMP:20260424T094054
CREATED:20250824T183836Z
LAST-MODIFIED:20250824T183836Z
UID:7262-1754062200-1754065800@www.marksnowentertainment.com
SUMMARY:Forest Glen Rehab and Healthcare Center
DESCRIPTION:
URL:https://www.marksnowentertainment.com/engagement/forest-glen-rehab-and-healthcare-center-3/
LOCATION:Forest Glen Rehab and Healthcare Center\, 2150 Montego Drive\, Springfield\, OH\, United States
END:VEVENT
BEGIN:VEVENT
DTSTART;TZID=UTC:20250729T140000
DTEND;TZID=UTC:20250729T150000
DTSTAMP:20260424T094054
CREATED:20250824T183717Z
LAST-MODIFIED:20250824T183717Z
UID:7260-1753797600-1753801200@www.marksnowentertainment.com
SUMMARY:McNaughten Pointe Nursing & Rehab
DESCRIPTION:
URL:https://www.marksnowentertainment.com/engagement/mcnaughten-pointe-nursing-rehab-68/
LOCATION:McNaughten Pointe Nursing & Rehab\, 1425 Yorkland Road\, Columbus\, OH\, United States
END:VEVENT
BEGIN:VEVENT
DTSTART;TZID=UTC:20250725T153000
DTEND;TZID=UTC:20250725T163000
DTSTAMP:20260424T094054
CREATED:20250824T183608Z
LAST-MODIFIED:20250824T183608Z
UID:7258-1753457400-1753461000@www.marksnowentertainment.com
SUMMARY:Forest Glen Rehab and Healthcare Center
DESCRIPTION:
URL:https://www.marksnowentertainment.com/engagement/forest-glen-rehab-and-healthcare-center-2/
LOCATION:Forest Glen Rehab and Healthcare Center\, 2150 Montego Drive\, Springfield\, OH\, United States
END:VEVENT
BEGIN:VEVENT
DTSTART;TZID=UTC:20250719T140000
DTEND;TZID=UTC:20250719T150000
DTSTAMP:20260424T094054
CREATED:20250714T182353Z
LAST-MODIFIED:20250714T182353Z
UID:7255-1752933600-1752937200@www.marksnowentertainment.com
SUMMARY:Bluebird Retirement Community Marysville
DESCRIPTION:
URL:https://www.marksnowentertainment.com/engagement/bluebird-retirement-community-marysville-79/
LOCATION:Bluebird Retirement Community Marysville\, 145 Coleman Crossing Boulevard\, Marysville\, OH\, United States
END:VEVENT
BEGIN:VEVENT
DTSTART;TZID=UTC:20250718T143000
DTEND;TZID=UTC:20250718T153000
DTSTAMP:20260424T094054
CREATED:20250714T182313Z
LAST-MODIFIED:20250714T182313Z
UID:7253-1752849000-1752852600@www.marksnowentertainment.com
SUMMARY:Cypress Pointe Health Campus
DESCRIPTION:
URL:https://www.marksnowentertainment.com/engagement/cypress-pointe-health-campus-48/
LOCATION:Cypress Pointe Health Campus\, 600 W. National Road\, Englewood\, OH\, 45322\, United States
END:VEVENT
BEGIN:VEVENT
DTSTART;TZID=UTC:20250717T150000
DTEND;TZID=UTC:20250717T160000
DTSTAMP:20260424T094054
CREATED:20250714T182237Z
LAST-MODIFIED:20250714T182237Z
UID:7251-1752764400-1752768000@www.marksnowentertainment.com
SUMMARY:Cherry Blossom Senior Living
DESCRIPTION:
URL:https://www.marksnowentertainment.com/engagement/cherry-blossom-senior-living-39/
LOCATION:Cherry Blossom Senior Living\, 79 Blossom Field Boulevard\, Columbus\, OH\, 43213\, United States
END:VEVENT
BEGIN:VEVENT
DTSTART;TZID=UTC:20250716T140000
DTEND;TZID=UTC:20250716T150000
DTSTAMP:20260424T094054
CREATED:20250714T182202Z
LAST-MODIFIED:20250714T182202Z
UID:7249-1752674400-1752678000@www.marksnowentertainment.com
SUMMARY:Vancrest of Urbana
DESCRIPTION:
URL:https://www.marksnowentertainment.com/engagement/vancrest-of-urbana-11/
LOCATION:Vancrest of Urbana\, 2380 US Highway 68 South\, Urbana\, OH\, 43078\, United States
END:VEVENT
BEGIN:VEVENT
DTSTART;TZID=UTC:20250711T140000
DTEND;TZID=UTC:20250711T150000
DTSTAMP:20260424T094054
CREATED:20250714T182101Z
LAST-MODIFIED:20250714T182101Z
UID:7247-1752242400-1752246000@www.marksnowentertainment.com
SUMMARY:Our Home Fairborn
DESCRIPTION:
URL:https://www.marksnowentertainment.com/engagement/our-home-fairborn-18/
LOCATION:Our Home Fairborn\, 7800 Dayton-Springfield Road\, Fairborn\, OH\, 45324\, United States
END:VEVENT
BEGIN:VEVENT
DTSTART;TZID=UTC:20250709T140000
DTEND;TZID=UTC:20250709T150000
DTSTAMP:20260424T094054
CREATED:20250714T182020Z
LAST-MODIFIED:20250714T182020Z
UID:7245-1752069600-1752073200@www.marksnowentertainment.com
SUMMARY:Cypress Pointe Health Campus
DESCRIPTION:
URL:https://www.marksnowentertainment.com/engagement/cypress-pointe-health-campus-47/
LOCATION:Cypress Pointe Health Campus\, 600 W. National Road\, Englewood\, OH\, 45322\, United States
END:VEVENT
BEGIN:VEVENT
DTSTART;TZID=UTC:20250627T153000
DTEND;TZID=UTC:20250627T163000
DTSTAMP:20260424T094054
CREATED:20250618T163704Z
LAST-MODIFIED:20250618T163704Z
UID:7240-1751038200-1751041800@www.marksnowentertainment.com
SUMMARY:Forest Glen Rehab and Healthcare Center
DESCRIPTION:
URL:https://www.marksnowentertainment.com/engagement/forest-glen-rehab-and-healthcare-center/
LOCATION:Forest Glen Rehab and Healthcare Center\, 2150 Montego Drive\, Springfield\, OH\, United States
END:VEVENT
BEGIN:VEVENT
DTSTART;TZID=UTC:20250624T140000
DTEND;TZID=UTC:20250624T150000
DTSTAMP:20260424T094054
CREATED:20250618T163441Z
LAST-MODIFIED:20250618T163441Z
UID:7238-1750773600-1750777200@www.marksnowentertainment.com
SUMMARY:McNaughten Pointe Nursing & Rehab
DESCRIPTION:
URL:https://www.marksnowentertainment.com/engagement/mcnaughten-pointe-nursing-rehab-67/
LOCATION:McNaughten Pointe Nursing & Rehab\, 1425 Yorkland Road\, Columbus\, OH\, United States
END:VEVENT
BEGIN:VEVENT
DTSTART;TZID=UTC:20250621T140000
DTEND;TZID=UTC:20250621T150000
DTSTAMP:20260424T094054
CREATED:20250618T163347Z
LAST-MODIFIED:20250618T163347Z
UID:7236-1750514400-1750518000@www.marksnowentertainment.com
SUMMARY:Bluebird Retirement Community Marysville
DESCRIPTION:
URL:https://www.marksnowentertainment.com/engagement/bluebird-retirement-community-marysville-78/
LOCATION:Bluebird Retirement Community Marysville\, 145 Coleman Crossing Boulevard\, Marysville\, OH\, United States
END:VEVENT
BEGIN:VEVENT
DTSTART;TZID=UTC:20250620T143000
DTEND;TZID=UTC:20250620T153000
DTSTAMP:20260424T094054
CREATED:20250618T163305Z
LAST-MODIFIED:20250618T163305Z
UID:7234-1750429800-1750433400@www.marksnowentertainment.com
SUMMARY:Cypress Pointe Health Campus
DESCRIPTION:
URL:https://www.marksnowentertainment.com/engagement/cypress-pointe-health-campus-46/
LOCATION:Cypress Pointe Health Campus\, 600 W. National Road\, Englewood\, OH\, 45322\, United States
END:VEVENT
BEGIN:VEVENT
DTSTART;TZID=UTC:20250619T160000
DTEND;TZID=UTC:20250619T170000
DTSTAMP:20260424T094054
CREATED:20250618T163228Z
LAST-MODIFIED:20250618T163228Z
UID:7232-1750348800-1750352400@www.marksnowentertainment.com
SUMMARY:Cherry Blossom Senior Living
DESCRIPTION:
URL:https://www.marksnowentertainment.com/engagement/cherry-blossom-senior-living-38/
LOCATION:Cherry Blossom Senior Living\, 79 Blossom Field Boulevard\, Columbus\, OH\, 43213\, United States
END:VEVENT
BEGIN:VEVENT
DTSTART;TZID=UTC:20250618T140000
DTEND;TZID=UTC:20250618T150000
DTSTAMP:20260424T094054
CREATED:20250618T163153Z
LAST-MODIFIED:20250618T163153Z
UID:7230-1750255200-1750258800@www.marksnowentertainment.com
SUMMARY:Vancrest of Urbana
DESCRIPTION:
URL:https://www.marksnowentertainment.com/engagement/vancrest-of-urbana-10/
LOCATION:Vancrest of Urbana\, 2380 US Highway 68 South\, Urbana\, OH\, 43078\, United States
END:VEVENT
BEGIN:VEVENT
DTSTART;TZID=UTC:20250611T150000
DTEND;TZID=UTC:20250611T160000
DTSTAMP:20260424T094054
CREATED:20250605T155934Z
LAST-MODIFIED:20250605T155934Z
UID:7224-1749654000-1749657600@www.marksnowentertainment.com
SUMMARY:Creekside at the Village
DESCRIPTION:
URL:https://www.marksnowentertainment.com/engagement/creekside-at-the-village-22/
LOCATION:Creekside at the Village\, 2200 Welcome Place\, Columbus\, OH\, 43209\, United States
END:VEVENT
BEGIN:VEVENT
DTSTART;TZID=UTC:20250606T150000
DTEND;TZID=UTC:20250606T160000
DTSTAMP:20260424T094054
CREATED:20250519T130032Z
LAST-MODIFIED:20250519T130032Z
UID:7218-1749222000-1749225600@www.marksnowentertainment.com
SUMMARY:Norwich Springs Health Campus
DESCRIPTION:
URL:https://www.marksnowentertainment.com/engagement/norwich-springs-health-campus-3/
LOCATION:Norwich Springs Health Campus\, 4680 Library Way\, Hilliard\, OH\, 43026\, United States
END:VEVENT
BEGIN:VEVENT
DTSTART;TZID=UTC:20250602T150000
DTEND;TZID=UTC:20250602T160000
DTSTAMP:20260424T094054
CREATED:20250519T125945Z
LAST-MODIFIED:20250519T125945Z
UID:7216-1748876400-1748880000@www.marksnowentertainment.com
SUMMARY:Middleton Senior Living
DESCRIPTION:
URL:https://www.marksnowentertainment.com/engagement/middleton-senior-living/
LOCATION:Middleton Senior Living\, 1500 Weaver Drive\, Granville\, OH\, 43023\, United States
END:VEVENT
BEGIN:VEVENT
DTSTART;TZID=UTC:20250531T160000
DTEND;TZID=UTC:20250531T170000
DTSTAMP:20260424T094054
CREATED:20250605T155823Z
LAST-MODIFIED:20250605T155823Z
UID:7222-1748707200-1748710800@www.marksnowentertainment.com
SUMMARY:Cherry Blossom Senior Living
DESCRIPTION:
URL:https://www.marksnowentertainment.com/engagement/cherry-blossom-senior-living-37/
LOCATION:Cherry Blossom Senior Living\, 79 Blossom Field Boulevard\, Columbus\, OH\, 43213\, United States
END:VEVENT
BEGIN:VEVENT
DTSTART;TZID=UTC:20250530T140000
DTEND;TZID=UTC:20250530T150000
DTSTAMP:20260424T094054
CREATED:20250519T125223Z
LAST-MODIFIED:20250605T155702Z
UID:7210-1748613600-1748617200@www.marksnowentertainment.com
SUMMARY:McNaughten Pointe Nursing & Rehab
DESCRIPTION:
URL:https://www.marksnowentertainment.com/engagement/mcnaughten-pointe-nursing-rehab-66/
LOCATION:McNaughten Pointe Nursing & Rehab\, 1425 Yorkland Road\, Columbus\, OH\, United States
END:VEVENT
BEGIN:VEVENT
DTSTART;TZID=UTC:20250521T140000
DTEND;TZID=UTC:20250521T150000
DTSTAMP:20260424T094054
CREATED:20250519T125301Z
LAST-MODIFIED:20250519T125301Z
UID:7212-1747836000-1747839600@www.marksnowentertainment.com
SUMMARY:Vancrest of Urbana
DESCRIPTION:
URL:https://www.marksnowentertainment.com/engagement/vancrest-of-urbana-9/
LOCATION:Vancrest of Urbana\, 2380 US Highway 68 South\, Urbana\, OH\, 43078\, United States
END:VEVENT
BEGIN:VEVENT
DTSTART;TZID=UTC:20250516T143000
DTEND;TZID=UTC:20250516T153000
DTSTAMP:20260424T094054
CREATED:20250519T125134Z
LAST-MODIFIED:20250519T125134Z
UID:7208-1747405800-1747409400@www.marksnowentertainment.com
SUMMARY:Cypress Pointe Health Campus
DESCRIPTION:
URL:https://www.marksnowentertainment.com/engagement/cypress-pointe-health-campus-45/
LOCATION:Cypress Pointe Health Campus\, 600 W. National Road\, Englewood\, OH\, 45322\, United States
END:VEVENT
BEGIN:VEVENT
DTSTART;TZID=UTC:20250515T150000
DTEND;TZID=UTC:20250515T160000
DTSTAMP:20260424T094054
CREATED:20250519T125057Z
LAST-MODIFIED:20250519T125057Z
UID:7206-1747321200-1747324800@www.marksnowentertainment.com
SUMMARY:Cherry Blossom Senior Living
DESCRIPTION:
URL:https://www.marksnowentertainment.com/engagement/cherry-blossom-senior-living-36/
LOCATION:Cherry Blossom Senior Living\, 79 Blossom Field Boulevard\, Columbus\, OH\, 43213\, United States
END:VEVENT
BEGIN:VEVENT
DTSTART;TZID=UTC:20250514T140000
DTEND;TZID=UTC:20250514T150000
DTSTAMP:20260424T094054
CREATED:20250519T125008Z
LAST-MODIFIED:20250519T125008Z
UID:7204-1747231200-1747234800@www.marksnowentertainment.com
SUMMARY:Cypress Pointe Health Campus
DESCRIPTION:
URL:https://www.marksnowentertainment.com/engagement/cypress-pointe-health-campus-44/
LOCATION:Cypress Pointe Health Campus\, 600 W. National Road\, Englewood\, OH\, 45322\, United States
END:VEVENT
BEGIN:VEVENT
DTSTART;TZID=UTC:20250509T140000
DTEND;TZID=UTC:20250509T150000
DTSTAMP:20260424T094054
CREATED:20250519T124916Z
LAST-MODIFIED:20250519T124916Z
UID:7202-1746799200-1746802800@www.marksnowentertainment.com
SUMMARY:Our Home Fairborn
DESCRIPTION:
URL:https://www.marksnowentertainment.com/engagement/our-home-fairborn-17/
LOCATION:Our Home Fairborn\, 7800 Dayton-Springfield Road\, Fairborn\, OH\, 45324\, United States
END:VEVENT
BEGIN:VEVENT
DTSTART;TZID=UTC:20250502T153000
DTEND;TZID=UTC:20250502T163000
DTSTAMP:20260424T094054
CREATED:20250428T145848Z
LAST-MODIFIED:20250428T145848Z
UID:7199-1746199800-1746203400@www.marksnowentertainment.com
SUMMARY:Forest Glen Health Campus
DESCRIPTION:
URL:https://www.marksnowentertainment.com/engagement/forest-glen-health-campus-74/
LOCATION:Forest Glen Rehab and Healthcare Center\, 2150 Montego Drive\, Springfield\, OH\, United States
END:VEVENT
BEGIN:VEVENT
DTSTART;TZID=UTC:20250429T140000
DTEND;TZID=UTC:20250429T150000
DTSTAMP:20260424T094054
CREATED:20250428T145811Z
LAST-MODIFIED:20250428T145811Z
UID:7197-1745935200-1745938800@www.marksnowentertainment.com
SUMMARY:McNaughten Pointe Nursing & Rehab
DESCRIPTION:
URL:https://www.marksnowentertainment.com/engagement/mcnaughten-pointe-nursing-rehab-65/
LOCATION:McNaughten Pointe Nursing & Rehab\, 1425 Yorkland Road\, Columbus\, OH\, United States
END:VEVENT
BEGIN:VEVENT
DTSTART;TZID=UTC:20250425T153000
DTEND;TZID=UTC:20250425T163000
DTSTAMP:20260424T094054
CREATED:20250428T145709Z
LAST-MODIFIED:20250428T145709Z
UID:7195-1745595000-1745598600@www.marksnowentertainment.com
SUMMARY:Forest Glen Health Campus
DESCRIPTION:
URL:https://www.marksnowentertainment.com/engagement/forest-glen-health-campus-73/
LOCATION:Forest Glen Rehab and Healthcare Center\, 2150 Montego Drive\, Springfield\, OH\, United States
END:VEVENT
END:VCALENDAR