BEGIN:VCALENDAR
VERSION:2.0
PRODID:-//Mark Snow Entertainment - ECPv6.15.20//NONSGML v1.0//EN
CALSCALE:GREGORIAN
METHOD:PUBLISH
X-ORIGINAL-URL:https://www.marksnowentertainment.com
X-WR-CALDESC:Events for Mark Snow Entertainment
REFRESH-INTERVAL;VALUE=DURATION:PT1H
X-Robots-Tag:noindex
X-PUBLISHED-TTL:PT1H
BEGIN:VTIMEZONE
TZID:UTC
BEGIN:STANDARD
TZOFFSETFROM:+0000
TZOFFSETTO:+0000
TZNAME:UTC
DTSTART:20240101T000000
END:STANDARD
END:VTIMEZONE
BEGIN:VEVENT
DTSTART;TZID=UTC:20250829T150000
DTEND;TZID=UTC:20250829T160000
DTSTAMP:20260424T044209
CREATED:20250824T185242Z
LAST-MODIFIED:20250824T185242Z
UID:7285-1756479600-1756483200@www.marksnowentertainment.com
SUMMARY:Norwich Springs Health Campus
DESCRIPTION:
URL:https://www.marksnowentertainment.com/engagement/norwich-springs-health-campus-4/
LOCATION:Norwich Springs Health Campus\, 4680 Library Way\, Hilliard\, OH\, 43026\, United States
END:VEVENT
END:VCALENDAR