BEGIN:VCALENDAR
VERSION:2.0
PRODID:-//Mark Snow Entertainment - ECPv6.15.20//NONSGML v1.0//EN
CALSCALE:GREGORIAN
METHOD:PUBLISH
X-ORIGINAL-URL:https://www.marksnowentertainment.com
X-WR-CALDESC:Events for Mark Snow Entertainment
REFRESH-INTERVAL;VALUE=DURATION:PT1H
X-Robots-Tag:noindex
X-PUBLISHED-TTL:PT1H
BEGIN:VTIMEZONE
TZID:UTC
BEGIN:STANDARD
TZOFFSETFROM:+0000
TZOFFSETTO:+0000
TZNAME:UTC
DTSTART:20240101T000000
END:STANDARD
END:VTIMEZONE
BEGIN:VEVENT
DTSTART;TZID=UTC:20250416T140000
DTEND;TZID=UTC:20250416T150000
DTSTAMP:20260424T110348
CREATED:20250415T152924Z
LAST-MODIFIED:20250415T153209Z
UID:7186-1744812000-1744815600@www.marksnowentertainment.com
SUMMARY:Vancrest of Urbana
DESCRIPTION:
URL:https://www.marksnowentertainment.com/engagement/vancrest-of-urbana-8/
LOCATION:Vancrest of Urbana\, 2380 US Highway 68 South\, Urbana\, OH\, 43078\, United States
END:VEVENT
END:VCALENDAR