BEGIN:VCALENDAR
VERSION:2.0
PRODID:-//Mark Snow Entertainment - ECPv6.15.20//NONSGML v1.0//EN
CALSCALE:GREGORIAN
METHOD:PUBLISH
X-ORIGINAL-URL:https://www.marksnowentertainment.com
X-WR-CALDESC:Events for Mark Snow Entertainment
REFRESH-INTERVAL;VALUE=DURATION:PT1H
X-Robots-Tag:noindex
X-PUBLISHED-TTL:PT1H
BEGIN:VTIMEZONE
TZID:UTC
BEGIN:STANDARD
TZOFFSETFROM:+0000
TZOFFSETTO:+0000
TZNAME:UTC
DTSTART:20230101T000000
END:STANDARD
END:VTIMEZONE
BEGIN:VEVENT
DTSTART;VALUE=DATE:20241117
DTEND;VALUE=DATE:20241125
DTSTAMP:20260424T234702
CREATED:20240812T164530Z
LAST-MODIFIED:20241109T221447Z
UID:6952-1731801600-1732492799@www.marksnowentertainment.com
SUMMARY:UNAVAILABLE FOR BOOKINGS
DESCRIPTION:
URL:https://www.marksnowentertainment.com/engagement/unavailable-for-bookings-50/
END:VEVENT
END:VCALENDAR