BEGIN:VCALENDAR
VERSION:2.0
PRODID:-//Mark Snow Entertainment - ECPv6.15.20//NONSGML v1.0//EN
CALSCALE:GREGORIAN
METHOD:PUBLISH
X-WR-CALNAME:Mark Snow Entertainment
X-ORIGINAL-URL:https://www.marksnowentertainment.com
X-WR-CALDESC:Events for Mark Snow Entertainment
REFRESH-INTERVAL;VALUE=DURATION:PT1H
X-Robots-Tag:noindex
X-PUBLISHED-TTL:PT1H
BEGIN:VTIMEZONE
TZID:UTC
BEGIN:STANDARD
TZOFFSETFROM:+0000
TZOFFSETTO:+0000
TZNAME:UTC
DTSTART:20230101T000000
END:STANDARD
END:VTIMEZONE
BEGIN:VEVENT
DTSTART;TZID=UTC:20240515T130000
DTEND;TZID=UTC:20240515T140000
DTSTAMP:20260425T111811
CREATED:20240513T125210Z
LAST-MODIFIED:20240513T125210Z
UID:6866-1715778000-1715781600@www.marksnowentertainment.com
SUMMARY:Court House Manor
DESCRIPTION:
URL:https://www.marksnowentertainment.com/engagement/court-house-manor-21/
LOCATION:Court House Manor\, 555 N. Glenn Avenue\, Washington Court House\, OH\, 43160\, United States
END:VEVENT
BEGIN:VEVENT
DTSTART;TZID=UTC:20240515T150000
DTEND;TZID=UTC:20240515T160000
DTSTAMP:20260425T111811
CREATED:20240513T125242Z
LAST-MODIFIED:20240513T125242Z
UID:6868-1715785200-1715788800@www.marksnowentertainment.com
SUMMARY:St. Catherine's Manor
DESCRIPTION:
URL:https://www.marksnowentertainment.com/engagement/st-catherines-manor-21/
LOCATION:St. Catherine’s Manor\, 250 Glenn Avenue\, Washington Court House\, OH\, 43160\, United States
END:VEVENT
END:VCALENDAR