BEGIN:VCALENDAR
VERSION:2.0
PRODID:-//Mark Snow Entertainment - ECPv6.15.20//NONSGML v1.0//EN
CALSCALE:GREGORIAN
METHOD:PUBLISH
X-ORIGINAL-URL:https://www.marksnowentertainment.com
X-WR-CALDESC:Events for Mark Snow Entertainment
REFRESH-INTERVAL;VALUE=DURATION:PT1H
X-Robots-Tag:noindex
X-PUBLISHED-TTL:PT1H
BEGIN:VTIMEZONE
TZID:UTC
BEGIN:STANDARD
TZOFFSETFROM:+0000
TZOFFSETTO:+0000
TZNAME:UTC
DTSTART:20220101T000000
END:STANDARD
END:VTIMEZONE
BEGIN:VEVENT
DTSTART;TZID=UTC:20231211T150000
DTEND;TZID=UTC:20231211T160000
DTSTAMP:20260425T183144
CREATED:20221125T155811Z
LAST-MODIFIED:20221125T155811Z
UID:6275-1702306800-1702310400@www.marksnowentertainment.com
SUMMARY:Cherry Blossom Senior Living
DESCRIPTION:
URL:https://www.marksnowentertainment.com/engagement/cherry-blossom-senior-living-22/
LOCATION:Cherry Blossom Senior Living\, 79 Blossom Field Boulevard\, Columbus\, OH\, 43213\, United States
END:VEVENT
END:VCALENDAR