BEGIN:VCALENDAR
VERSION:2.0
PRODID:-//Mark Snow Entertainment - ECPv6.15.20//NONSGML v1.0//EN
CALSCALE:GREGORIAN
METHOD:PUBLISH
X-WR-CALNAME:Mark Snow Entertainment
X-ORIGINAL-URL:https://www.marksnowentertainment.com
X-WR-CALDESC:Events for Mark Snow Entertainment
REFRESH-INTERVAL;VALUE=DURATION:PT1H
X-Robots-Tag:noindex
X-PUBLISHED-TTL:PT1H
BEGIN:VTIMEZONE
TZID:UTC
BEGIN:STANDARD
TZOFFSETFROM:+0000
TZOFFSETTO:+0000
TZNAME:UTC
DTSTART:20220101T000000
END:STANDARD
END:VTIMEZONE
BEGIN:VEVENT
DTSTART;TZID=UTC:20231204T140000
DTEND;TZID=UTC:20231204T150000
DTSTAMP:20260425T183057
CREATED:20231206T130206Z
LAST-MODIFIED:20231206T130206Z
UID:6707-1701698400-1701702000@www.marksnowentertainment.com
SUMMARY:Forest Glen Health Campus
DESCRIPTION:
URL:https://www.marksnowentertainment.com/engagement/forest-glen-health-campus-57/
LOCATION:Forest Glen Rehab and Healthcare Center\, 2150 Montego Drive\, Springfield\, OH\, United States
END:VEVENT
BEGIN:VEVENT
DTSTART;TZID=UTC:20231204T180000
DTEND;TZID=UTC:20231204T190000
DTSTAMP:20260425T183057
CREATED:20231206T130245Z
LAST-MODIFIED:20231206T130245Z
UID:6709-1701712800-1701716400@www.marksnowentertainment.com
SUMMARY:The Suites at Walnut Creek
DESCRIPTION:
URL:https://www.marksnowentertainment.com/engagement/the-suites-at-walnut-creek-45/
LOCATION:The Suites at Walnut Creek\, 2501 Keystone Club Drive\, Dayton\, OH\, United States
END:VEVENT
END:VCALENDAR