BEGIN:VCALENDAR
VERSION:2.0
PRODID:-//Mark Snow Entertainment - ECPv6.15.20//NONSGML v1.0//EN
CALSCALE:GREGORIAN
METHOD:PUBLISH
X-ORIGINAL-URL:https://www.marksnowentertainment.com
X-WR-CALDESC:Events for Mark Snow Entertainment
REFRESH-INTERVAL;VALUE=DURATION:PT1H
X-Robots-Tag:noindex
X-PUBLISHED-TTL:PT1H
BEGIN:VTIMEZONE
TZID:UTC
BEGIN:STANDARD
TZOFFSETFROM:+0000
TZOFFSETTO:+0000
TZNAME:UTC
DTSTART:20220101T000000
END:STANDARD
END:VTIMEZONE
BEGIN:VEVENT
DTSTART;TZID=UTC:20231113T143000
DTEND;TZID=UTC:20231113T153000
DTSTAMP:20260425T195816
CREATED:20221125T160843Z
LAST-MODIFIED:20221125T160843Z
UID:6287-1699885800-1699889400@www.marksnowentertainment.com
SUMMARY:Brookdale Piqua
DESCRIPTION:
URL:https://www.marksnowentertainment.com/engagement/brookdale-piqua-32/
LOCATION:Brookdale Piqua\, 1744 W. High Street\, Piqua\, OH\, United States
END:VEVENT
END:VCALENDAR