BEGIN:VCALENDAR
VERSION:2.0
PRODID:-//Mark Snow Entertainment - ECPv6.15.20//NONSGML v1.0//EN
CALSCALE:GREGORIAN
METHOD:PUBLISH
X-ORIGINAL-URL:https://www.marksnowentertainment.com
X-WR-CALDESC:Events for Mark Snow Entertainment
REFRESH-INTERVAL;VALUE=DURATION:PT1H
X-Robots-Tag:noindex
X-PUBLISHED-TTL:PT1H
BEGIN:VTIMEZONE
TZID:UTC
BEGIN:STANDARD
TZOFFSETFROM:+0000
TZOFFSETTO:+0000
TZNAME:UTC
DTSTART:20220101T000000
END:STANDARD
END:VTIMEZONE
BEGIN:VEVENT
DTSTART;TZID=UTC:20231110T140000
DTEND;TZID=UTC:20231110T150000
DTSTAMP:20260425T195818
CREATED:20221125T183144Z
LAST-MODIFIED:20230608T175502Z
UID:6309-1699624800-1699628400@www.marksnowentertainment.com
SUMMARY:Our Home Fairborn
DESCRIPTION:
URL:https://www.marksnowentertainment.com/engagement/fox-run-senior-living-40/
LOCATION:Our Home Fairborn\, 7800 Dayton-Springfield Road\, Fairborn\, OH\, 45324\, United States
END:VEVENT
BEGIN:VEVENT
DTSTART;TZID=UTC:20231110T180000
DTEND;TZID=UTC:20231110T190000
DTSTAMP:20260425T195818
CREATED:20231109T205103Z
LAST-MODIFIED:20231109T205103Z
UID:6684-1699639200-1699642800@www.marksnowentertainment.com
SUMMARY:Garbry Ridge
DESCRIPTION:
URL:https://www.marksnowentertainment.com/engagement/garbry-ridge-35/
LOCATION:Garbry Ridge\, 1567 Garbry Road\, Piqua\, OH\, United States
END:VEVENT
END:VCALENDAR