BEGIN:VCALENDAR
VERSION:2.0
PRODID:-//Mark Snow Entertainment - ECPv6.15.20//NONSGML v1.0//EN
CALSCALE:GREGORIAN
METHOD:PUBLISH
X-WR-CALNAME:Mark Snow Entertainment
X-ORIGINAL-URL:https://www.marksnowentertainment.com
X-WR-CALDESC:Events for Mark Snow Entertainment
REFRESH-INTERVAL;VALUE=DURATION:PT1H
X-Robots-Tag:noindex
X-PUBLISHED-TTL:PT1H
BEGIN:VTIMEZONE
TZID:UTC
BEGIN:STANDARD
TZOFFSETFROM:+0000
TZOFFSETTO:+0000
TZNAME:UTC
DTSTART:20220101T000000
END:STANDARD
END:VTIMEZONE
BEGIN:VEVENT
DTSTART;TZID=UTC:20231018T130000
DTEND;TZID=UTC:20231018T140000
DTSTAMP:20260425T213733
CREATED:20221113T220921Z
LAST-MODIFIED:20230106T140546Z
UID:6232-1697634000-1697637600@www.marksnowentertainment.com
SUMMARY:Court House Manor
DESCRIPTION:
URL:https://www.marksnowentertainment.com/engagement/court-house-manor-19/
LOCATION:Court House Manor\, 555 N. Glenn Avenue\, Washington Court House\, OH\, 43160\, United States
END:VEVENT
BEGIN:VEVENT
DTSTART;TZID=UTC:20231018T150000
DTEND;TZID=UTC:20231018T160000
DTSTAMP:20260425T213733
CREATED:20221113T222404Z
LAST-MODIFIED:20230106T140818Z
UID:6244-1697641200-1697644800@www.marksnowentertainment.com
SUMMARY:St. Catherine's Manor
DESCRIPTION:
URL:https://www.marksnowentertainment.com/engagement/st-catherines-manor-19/
LOCATION:St. Catherine’s Manor\, 250 Glenn Avenue\, Washington Court House\, OH\, 43160\, United States
END:VEVENT
END:VCALENDAR