BEGIN:VCALENDAR
VERSION:2.0
PRODID:-//Mark Snow Entertainment - ECPv6.15.20//NONSGML v1.0//EN
CALSCALE:GREGORIAN
METHOD:PUBLISH
X-ORIGINAL-URL:https://www.marksnowentertainment.com
X-WR-CALDESC:Events for Mark Snow Entertainment
REFRESH-INTERVAL;VALUE=DURATION:PT1H
X-Robots-Tag:noindex
X-PUBLISHED-TTL:PT1H
BEGIN:VTIMEZONE
TZID:UTC
BEGIN:STANDARD
TZOFFSETFROM:+0000
TZOFFSETTO:+0000
TZNAME:UTC
DTSTART:20220101T000000
END:STANDARD
END:VTIMEZONE
BEGIN:VEVENT
DTSTART;TZID=UTC:20231016T140000
DTEND;TZID=UTC:20231016T150000
DTSTAMP:20260425T213729
CREATED:20221001T181052Z
LAST-MODIFIED:20221001T181052Z
UID:6041-1697464800-1697468400@www.marksnowentertainment.com
SUMMARY:Spring Hills Singing Woods
DESCRIPTION:
URL:https://www.marksnowentertainment.com/engagement/spring-hills-singing-woods-27/
LOCATION:Spring Hills Singing Woods\, 140 E. Woodbury Drive\, Dayton\, OH\, 45415\, United States
END:VEVENT
END:VCALENDAR