BEGIN:VCALENDAR
VERSION:2.0
PRODID:-//Mark Snow Entertainment - ECPv6.15.20//NONSGML v1.0//EN
CALSCALE:GREGORIAN
METHOD:PUBLISH
X-WR-CALNAME:Mark Snow Entertainment
X-ORIGINAL-URL:https://www.marksnowentertainment.com
X-WR-CALDESC:Events for Mark Snow Entertainment
REFRESH-INTERVAL;VALUE=DURATION:PT1H
X-Robots-Tag:noindex
X-PUBLISHED-TTL:PT1H
BEGIN:VTIMEZONE
TZID:UTC
BEGIN:STANDARD
TZOFFSETFROM:+0000
TZOFFSETTO:+0000
TZNAME:UTC
DTSTART:20220101T000000
END:STANDARD
END:VTIMEZONE
BEGIN:VEVENT
DTSTART;TZID=UTC:20231010T140000
DTEND;TZID=UTC:20231010T150000
DTSTAMP:20260425T213734
CREATED:20221109T124810Z
LAST-MODIFIED:20221109T124810Z
UID:6149-1696946400-1696950000@www.marksnowentertainment.com
SUMMARY:Hilliard Assisted Living & Memory Care
DESCRIPTION:
URL:https://www.marksnowentertainment.com/engagement/hilliard-assisted-living-memory-care-26/
LOCATION:Traditions of Hilliard\, 4303 Trueman Boulevard\, Hilliard\, OH\, 43026\, United States
END:VEVENT
BEGIN:VEVENT
DTSTART;TZID=UTC:20231010T180000
DTEND;TZID=UTC:20231010T190000
DTSTAMP:20260425T213734
CREATED:20231023T120516Z
LAST-MODIFIED:20231023T120516Z
UID:6651-1696960800-1696964400@www.marksnowentertainment.com
SUMMARY:The Landings of Westerville
DESCRIPTION:
URL:https://www.marksnowentertainment.com/engagement/the-landings-of-westerville-9/
LOCATION:The Landings of Westerville\, 350 County Line Road West\, Westerville\, OH\, 43082\, United States
END:VEVENT
END:VCALENDAR