BEGIN:VCALENDAR
VERSION:2.0
PRODID:-//Mark Snow Entertainment - ECPv6.15.20//NONSGML v1.0//EN
CALSCALE:GREGORIAN
METHOD:PUBLISH
X-ORIGINAL-URL:https://www.marksnowentertainment.com
X-WR-CALDESC:Events for Mark Snow Entertainment
REFRESH-INTERVAL;VALUE=DURATION:PT1H
X-Robots-Tag:noindex
X-PUBLISHED-TTL:PT1H
BEGIN:VTIMEZONE
TZID:UTC
BEGIN:STANDARD
TZOFFSETFROM:+0000
TZOFFSETTO:+0000
TZNAME:UTC
DTSTART:20220101T000000
END:STANDARD
END:VTIMEZONE
BEGIN:VEVENT
DTSTART;TZID=UTC:20230921T140000
DTEND;TZID=UTC:20230921T150000
DTSTAMP:20260425T232921
CREATED:20230917T213629Z
LAST-MODIFIED:20230917T213629Z
UID:6634-1695304800-1695308400@www.marksnowentertainment.com
SUMMARY:Smith's Mill Health Campus
DESCRIPTION:
URL:https://www.marksnowentertainment.com/engagement/smiths-mill-health-campus-16/
LOCATION:Smith’s Mill Health Campus\, 7320 Smith's Mill Road\, New Albany\, OH\, 43054\, United States
END:VEVENT
BEGIN:VEVENT
DTSTART;TZID=UTC:20230921T180000
DTEND;TZID=UTC:20230921T190000
DTSTAMP:20260425T232921
CREATED:20230917T213706Z
LAST-MODIFIED:20230917T213706Z
UID:6636-1695319200-1695322800@www.marksnowentertainment.com
SUMMARY:The Landings of Westerville
DESCRIPTION:
URL:https://www.marksnowentertainment.com/engagement/the-landings-of-westerville-8/
LOCATION:The Landings of Westerville\, 350 County Line Road West\, Westerville\, OH\, 43082\, United States
END:VEVENT
END:VCALENDAR