BEGIN:VCALENDAR
VERSION:2.0
PRODID:-//Mark Snow Entertainment - ECPv6.15.20//NONSGML v1.0//EN
CALSCALE:GREGORIAN
METHOD:PUBLISH
X-WR-CALNAME:Mark Snow Entertainment
X-ORIGINAL-URL:https://www.marksnowentertainment.com
X-WR-CALDESC:Events for Mark Snow Entertainment
REFRESH-INTERVAL;VALUE=DURATION:PT1H
X-Robots-Tag:noindex
X-PUBLISHED-TTL:PT1H
BEGIN:VTIMEZONE
TZID:UTC
BEGIN:STANDARD
TZOFFSETFROM:+0000
TZOFFSETTO:+0000
TZNAME:UTC
DTSTART:20220101T000000
END:STANDARD
END:VTIMEZONE
BEGIN:VEVENT
DTSTART;TZID=UTC:20230811T140000
DTEND;TZID=UTC:20230811T150000
DTSTAMP:20260426T024401
CREATED:20221125T182856Z
LAST-MODIFIED:20230608T175327Z
UID:6303-1691762400-1691766000@www.marksnowentertainment.com
SUMMARY:Our Home Fairborn
DESCRIPTION:
URL:https://www.marksnowentertainment.com/engagement/fox-run-senior-living-37/
LOCATION:Our Home Fairborn\, 7800 Dayton-Springfield Road\, Fairborn\, OH\, 45324\, United States
END:VEVENT
BEGIN:VEVENT
DTSTART;TZID=UTC:20230811T180000
DTEND;TZID=UTC:20230811T190000
DTSTAMP:20260426T024401
CREATED:20230805T132001Z
LAST-MODIFIED:20230805T132001Z
UID:6585-1691776800-1691780400@www.marksnowentertainment.com
SUMMARY:Garbry Ridge
DESCRIPTION:
URL:https://www.marksnowentertainment.com/engagement/garbry-ridge-33/
LOCATION:Garbry Ridge\, 1567 Garbry Road\, Piqua\, OH\, United States
END:VEVENT
END:VCALENDAR